Workbook
Name CUST_LOOKUP: #REF!
Name CUST_LOOKUP: #REF!
Name CUST_LOOKUP: #REF!
Name CUSTNAME_TO_NETNAME: #REF!
Name CUSTNAME_TO_NETNAME: #REF!
Name CUSTNAME_TO_NETNAME: #REF!
Name Directions: [1]Extras!$A$2:$A$5
Name FirstOccur: #REF!
Name FirstOccur: #REF!
Name FirstOccur: #REF!
Name FirstOccur: #REF!
Name Functional_Categories: #REF!
Name NETLIST: #REF!
Name NETNAME_LOOKUP: #REF!
Name PINMUX: 'RT700 PinMux v0.94'!$L$7:$AD$296
Name PINMUX: 'RT700 PinMux v0.95'!$L$7:$AD$296
Name PINMUX: 'v0.94 vs v0.95'!$L$7:$AD$296
Name PINMUX: #REF!
Name PreTrigVals: [2]lookup!$A$2:$A$4
Name TriggerInputs: [2]Groupings!$B$3:$B$9
Name TriggerOutputs: [2]Groupings!$D$3:$D$9
Name VDD_VSS_LOOKUP: #REF!

Sheet RT700 PinMux v0.95
B1: RT700 Pin Function Planning | G1: Pin count summary:
G2: =COUNTIF(G8:G262,"x") -> 120 | H2: =COUNTIF(H8:H262,"x") -> 160 | I2: =COUNTIF(I8:I262,"x") -> 160 | J2: =COUNTIF(J8:J262,"x") -> 195 | K2: =COUNTIF(K8:K262,"x") -> 217 | L2: : GPIOs/functional pins | N2: Internal power rails that include peripherals with pin functions: | Q2: External I/O power rails:
C3: : in "Fn" columns, added pin functions for this revision. | G3: =COUNTIF(G237:G262,"d") -> 20 | H3: =COUNTIF(H237:H262,"d") -> 19 | I3: =COUNTIF(I237:I262,"d") -> 15 | J3: =COUNTIF(J237:J262,"d") -> 21 | K3: =COUNTIF(K237:K262,"d") -> 23 | L3: : Dedicated pins | N3: Compute VDD2 , Media VDD2 | O3: Compute & Media domains | Q3: VDDIO | R3: 1.8 V
G4: =SUM(G265:G306) -> 0 | H4: =SUM(H265:H306) -> 77 | I4: =SUM(I265:I306) -> 0 | J4: =SUM(J265:J306) -> 104 | K4: =SUM(K265:K306) -> 0 | L4: : Power | N4: Sense VDD1 | O4: Sense domain | Q4: VDDIO_4, 5, 6 | R4: 1.2V or 1.8V
G5: tbd | H5: =SUM(H2:H4) -> 256 | I5: tbd | J5: =SUM(J2:J4) -> 320 | K5: tbd | L5: : Total pins (including power) | N5: VDDN | O5: Media subset + clock sources | Q5: VDDIO_2 | R5: 3V tolerant (FLEXIO pads only) | AE5: updated
D6: =COUNTIF(D8:D262,"<>") -> 149 | E6: =COUNTIF(E8:E262,"<>") -> 194 | F6: =COUNTIF(F8:F262,"<>") -> 140 | G6: 184 | I6: 256 | K6: =361-K4 -> 361 | AE6: 221018
B7: Internal domain | C7: Pad VDD | D7: Use Case 1 (WLCSP) | E7: Use Case 2 (WLCSP) | F7: Use case (BGA184) | G7: BGA 184 | H7: WLCSP 256 | I7: WLCSP ALT | J7: FOWLP 324 | K7: BGA 361 | L7: Fn0 | M7: Fn1 | N7: Fn2 | O7: Fn3 | P7: Fn4 | Q7: Fn5 | R7: Fn6 | S7: Fn7 | T7: Fn8 | U7: Fn9 | V7: Fn10 | W7: Fn11 | X7: Fn12 | Y7: Fn 13 | Z7: Fn 14 | AA7: FN15 | AB7: Other Pin Uses | AC7: Pad/Bondout Info | AD7: On all pkgs | AE7: Required for test | AF7: Superset of WLCSPs
B8: Compute VDD2 | C8: VDDIO | D8: UART (Debug) | E8: HMI, Haptic | F8: HMI, Haptic | G8: x | H8: x | I8: x | J8: x | K8: x | L8: PIO0_0 | M8: FC8_P2 | N8: SCT0_GPIn0 | O8: SCT0_OUT0 | P8: CT_C_INP9 | Q8: SAI0_RX_BCLK | R8: SAI1_TX_BCLK | AA8: mod_debug_out[0] | AD8: =IF(AND(G8<>"",H8<>"",I8<>"",J8<>"",K8<>""),1,0) -> 1 | AE8: y | AF8: =IF(OR(H8<>"",I8<>""),1,0) -> 1
B9: Compute VDD2 | C9: VDDIO | D9: UART (Debug) | E9: HMI, Haptic | F9: HMI, Haptic | G9: x | H9: x | I9: x | J9: x | K9: x | L9: PIO0_1 | M9: FC8_P3 | N9: SCT0_GPIn1 | O9: SCT0_OUT1 | P9: CT0_MAT0 | Q9: SAI0_RX_SYNC | R9: SAI1_RX_DATA | AA9: mod_debug_out[1] | AD9: =IF(AND(G9<>"",H9<>"",I9<>"",J9<>"",K9<>""),1,0) -> 1 | AE9: y | AF9: =IF(OR(H9<>"",I9<>""),1,0) -> 1
B10: Compute VDD2 | C10: VDDIO | D10: GPIO (AUDIO) | E10: HMI, Haptic GPIO | F10: GPIO | G10: x | H10: x | I10: x | J10: x | K10: x | L10: PIO0_2 | M10: FC8_P4 | N10: SCT0_GPIn2 | O10: SCT0_OUT2 | P10: CT0_MAT1 | Q10: SAI0_RX_DATA | S10: FC9_P0 | AA10: mod_debug_out[2] | AD10: =IF(AND(G10<>"",H10<>"",I10<>"",J10<>"",K10<>""),1,0) -> 1 | AE10: y | AF10: =IF(OR(H10<>"",I10<>""),1,0) -> 1
B11: Compute VDD2 | C11: VDDIO | D11: I2S OUT | E11: HMI, Display Sensor | F11: GPIO | G11: x | H11: x | I11: x | J11: x | K11: x | L11: PIO0_3 | M11: FC4_P0 | N11: SCT0_GPIn3 | O11: SCT0_OUT3 | P11: CT0_MAT2 | Q11: SAI0_TX_BCLK | AA11: mod_debug_out[3] | AD11: =IF(AND(G11<>"",H11<>"",I11<>"",J11<>"",K11<>""),1,0) -> 1 | AE11: y | AF11: =IF(OR(H11<>"",I11<>""),1,0) -> 1
B12: Compute VDD2 | C12: VDDIO | D12: I2S OUT | E12: HMI, Display Sensor | F12: GPIO | G12: x | H12: x | I12: x | J12: x | K12: x | L12: PIO0_4 | M12: FC4_P1 | N12: SCT0_GPIn4 | O12: SCT0_OUT4 | P12: CT0_MAT3 | Q12: SAI0_TX_DATA | AA12: mod_debug_out[4] | AD12: =IF(AND(G12<>"",H12<>"",I12<>"",J12<>"",K12<>""),1,0) -> 1 | AE12: y | AF12: =IF(OR(H12<>"",I12<>""),1,0) -> 1
B13: Compute VDD2 | C13: VDDIO | D13: I2S OUT | E13: GPIO (HMI, Disp Sensor) | F13: GPIO | G13: x | H13: x | I13: x | J13: x | K13: x | L13: PIO0_5 | M13: FC4_P4 | N13: SCT0_GPIn5 | O13: SCT0_OUT5 | P13: CT2_MAT0 | Q13: SAI0_TX_SYNC | R13: MCLK | S13: FC9_P1 | AA13: mod_debug_out[5] | AD13: =IF(AND(G13<>"",H13<>"",I13<>"",J13<>"",K13<>""),1,0) -> 1 | AE13: y | AF13: =IF(OR(H13<>"",I13<>""),1,0) -> 1
B14: Compute VDD2 | C14: VDDIO | H14: x | I14: x | J14: x | K14: x | L14: PIO0_6 | M14: FC4_P2 | N14: SCT0_GPIn6 | O14: SCT0_OUT6 | P14: CT_C_INP10 | Q14: FC8_P0 | AD14: =IF(AND(G14<>"",H14<>"",I14<>"",J14<>"",K14<>""),1,0) -> 0 | AF14: =IF(OR(H14<>"",I14<>""),1,0) -> 1
B15: Compute VDD2 | C15: VDDIO | H15: x | I15: x | J15: x | K15: x | L15: PIO0_7 | M15: FC4_P3 | N15: SCT0_GPIn7 | O15: SCT0_OUT7 | P15: CT_C_INP11 | Q15: FC8_P1 | AD15: =IF(AND(G15<>"",H15<>"",I15<>"",J15<>"",K15<>""),1,0) -> 0 | AF15: =IF(OR(H15<>"",I15<>""),1,0) -> 1
B16: Compute VDD2 | C16: VDDIO | K16: x | L16: PIO0_8 | M16: FC4_P5 | N16: SCT0_GPIn0 | O16: SCT0_OUT0 | P16: CT_C_INP1 | R16: 32KHZ_CLKOUT | AD16: =IF(AND(G16<>"",H16<>"",I16<>"",J16<>"",K16<>""),1,0) -> 0 | AF16: =IF(OR(H16<>"",I16<>""),1,0) -> 0
B17: Compute VDD2 | C17: VDDIO | J17: x | K17: x | L17: PIO0_9 | M17: FC4_P6 | N17: SCT0_GPIn1 | O17: SCT0_OUT1 | P17: CT0_MAT0 | Q17: FC1_P5 | AD17: =IF(AND(G17<>"",H17<>"",I17<>"",J17<>"",K17<>""),1,0) -> 0 | AF17: =IF(OR(H17<>"",I17<>""),1,0) -> 0
B18: Compute VDD2 | C18: VDDIO | D18: HS UART (BT) | E18: HMI, Screen Touch | F18: HMI, Screen Touch | G18: x | H18: x | I18: x | J18: x | K18: x | L18: PIO0_10 | M18: FC5_P0 | N18: SCT0_GPIn4 | O18: SCT0_OUT4 | P18: CT1_MAT0 | Q18: CT_C_INP0 | R18: SAI2_RX_DATA | AA18: mod_debug_out[6] | AD18: =IF(AND(G18<>"",H18<>"",I18<>"",J18<>"",K18<>""),1,0) -> 1 | AE18: y | AF18: =IF(OR(H18<>"",I18<>""),1,0) -> 1
B19: Compute VDD2 | C19: VDDIO | D19: HS UART (BT) | E19: HMI, Screen Touch | F19: HMI, Screen Touch | G19: x | H19: x | I19: x | J19: x | K19: x | L19: PIO0_11 | M19: FC5_P1 | N19: SCT0_GPIn5 | O19: SCT0_OUT5 | P19: CT1_MAT1 | Q19: SAI2_TX_BCLK | AA19: mod_debug_out[7] | AD19: =IF(AND(G19<>"",H19<>"",I19<>"",J19<>"",K19<>""),1,0) -> 1 | AE19: y | AF19: =IF(OR(H19<>"",I19<>""),1,0) -> 1
B20: Compute VDD2 | C20: VDDIO | D20: HS UART (BT) | E20: HMI, Screen Touch | F20: HMI, Screen Touch GPIO | G20: x | H20: x | I20: x | J20: x | K20: x | L20: PIO0_12 | M20: FC5_P2 | N20: SCT0_GPIn6 | O20: SCT0_OUT6 | P20: CT1_MAT2 | Q20: SAI2_TX_DATA | AA20: mod_debug_out[8] | AD20: =IF(AND(G20<>"",H20<>"",I20<>"",J20<>"",K20<>""),1,0) -> 1 | AE20: y | AF20: =IF(OR(H20<>"",I20<>""),1,0) -> 1
B21: Compute VDD2 | C21: VDDIO | D21: HS UART (BT) | E21: HMI, Screen Touch | H21: x | I21: x | J21: x | K21: x | L21: PIO0_13 | M21: FC5_P3 | N21: SCT0_GPIn7 | O21: SCT0_OUT7 | P21: CT1_MAT3 | Q21: SAI2_TX_SYNC | AD21: =IF(AND(G21<>"",H21<>"",I21<>"",J21<>"",K21<>""),1,0) -> 0 | AF21: =IF(OR(H21<>"",I21<>""),1,0) -> 1
B22: Compute VDD2 | C22: VDDIO | D22: GPIO (AUDIO) | E22: GPIO | H22: x | I22: x | J22: x | K22: x | L22: PIO0_14 | M22: FC5_P4 | N22: SCT0_GPIn0 | O22: SCT0_OUT8 | P22: CT_C_INP2 | Q22: SAI2_RX_DATA | R22: CLKOUT | AD22: =IF(AND(G22<>"",H22<>"",I22<>"",J22<>"",K22<>""),1,0) -> 0 | AF22: =IF(OR(H22<>"",I22<>""),1,0) -> 1
B23: Compute VDD2 | C23: VDDIO | J23: x | K23: x | L23: PIO0_15 | M23: FC5_P5 | N23: SCT0_GPIn2 | O23: SCT0_OUT2 | P23: CT_C_INP3 | Q23: SAI2_RX_BCLK | R23: FC2_P5 | AD23: =IF(AND(G23<>"",H23<>"",I23<>"",J23<>"",K23<>""),1,0) -> 0 | AF23: =IF(OR(H23<>"",I23<>""),1,0) -> 0
B24: Compute VDD2 | C24: VDDIO | J24: x | K24: x | L24: PIO0_16 | M24: FC5_P6 | N24: SCT0_GPIn3 | O24: SCT0_OUT3 | P24: CT0_MAT1 | Q24: SAI2_RX_SYNC | R24: FC2_P6 | AD24: =IF(AND(G24<>"",H24<>"",I24<>"",J24<>"",K24<>""),1,0) -> 0 | AF24: =IF(OR(H24<>"",I24<>""),1,0) -> 0
B25: Compute VDD2 | C25: VDDIO | E25: Biosensor, PPG | F25: Biosensor, PPG | G25: x | J25: x | K25: x | L25: PIO0_17 | M25: FC6_P5 | N25: SCT0_GPIn0 | O25: SCT0_OUT0 | P25: CT2_MAT0 | Q25: SAI1_RX_BCLK | AD25: =IF(AND(G25<>"",H25<>"",I25<>"",J25<>"",K25<>""),1,0) -> 0 | AF25: =IF(OR(H25<>"",I25<>""),1,0) -> 0
B26: Compute VDD2 | C26: VDDIO | E26: Biosensor, PPG | F26: Biosensor, PPG | G26: x | J26: x | K26: x | L26: PIO0_18 | M26: FC6_P6 | N26: SCT0_GPIn1 | O26: SCT0_OUT1 | P26: CT2_MAT1 | Q26: SAI1_RX_DATA | AD26: =IF(AND(G26<>"",H26<>"",I26<>"",J26<>"",K26<>""),1,0) -> 0 | AF26: =IF(OR(H26<>"",I26<>""),1,0) -> 0
B27: Compute VDD2 | C27: VDDIO | E27: Biosensor, PPG | F27: Biosensor, PPG | G27: x | H27: x | J27: x | K27: x | L27: PIO0_19 | M27: FC6_P2 | N27: SCT0_GPIn2 | O27: SCT0_OUT2 | P27: CT2_MAT2 | Q27: SAI1_RX_SYNC | AD27: =IF(AND(G27<>"",H27<>"",I27<>"",J27<>"",K27<>""),1,0) -> 0 | AF27: =IF(OR(H27<>"",I27<>""),1,0) -> 1
B28: Compute VDD2 | C28: VDDIO | E28: Biosensor, PPG | F28: Biosensor, PPG | G28: x | H28: x | J28: x | K28: x | L28: PIO0_20 | M28: FC6_P3 | N28: SCT0_GPIn3 | O28: SCT0_OUT3 | P28: CT2_MAT3 | Q28: SAI1_TX_BCLK | AD28: =IF(AND(G28<>"",H28<>"",I28<>"",J28<>"",K28<>""),1,0) -> 0 | AF28: =IF(OR(H28<>"",I28<>""),1,0) -> 1
B29: Compute VDD2 | C29: VDDIO | D29: GPIO (NFC) | E29: GPIO | F29: GPIO (Biosensor, PPG) | G29: x | H29: x | I29: x | J29: x | K29: x | L29: PIO0_21 | M29: FC6_P0 | N29: SCT0_GPIn6 | O29: SCT0_OUT6 | P29: CT_C_INP4 | Q29: SAI1_TX_DATA | R29: MCLK | AA29: mod_debug_out[9] | AD29: =IF(AND(G29<>"",H29<>"",I29<>"",J29<>"",K29<>""),1,0) -> 1 | AE29: y | AF29: =IF(OR(H29<>"",I29<>""),1,0) -> 1
B30: Compute VDD2 | C30: VDDIO | D30: CLKOUT | E30: GPIO | F30: GPIO (Biosensor, PPG) | G30: x | H30: x | I30: x | J30: x | K30: x | L30: PIO0_22 | M30: FC6_P1 | N30: SCT0_GPIn4 | O30: SCT0_OUT4 | P30: CT_C_INP5 | Q30: SAI1_TX_SYNC | R30: CLKOUT | AA30: mod_debug_out[10] | AD30: =IF(AND(G30<>"",H30<>"",I30<>"",J30<>"",K30<>""),1,0) -> 1 | AE30: y | AF30: =IF(OR(H30<>"",I30<>""),1,0) -> 1
B31: Compute VDD2 | C31: VDDIO | E31: GPIO | F31: GPIO | G31: x | K31: x | L31: PIO0_23 | M31: FC6_P4 | N31: SCT0_GPIn5 | O31: SCT0_OUT5 | P31: CT0_MAT2 | Q31: CLKIN | AD31: =IF(AND(G31<>"",H31<>"",I31<>"",J31<>"",K31<>""),1,0) -> 0 | AF31: =IF(OR(H31<>"",I31<>""),1,0) -> 0
B32: Compute VDD2 | C32: VDDIO | E32: Biosensor, GSR | F32: Biosensor, GSR | G32: x | K32: x | L32: PIO0_24 | M32: FC7_P0 | N32: SCT0_GPIn5 | O32: SCT0_OUT5 | P32: CT3_MAT0 | Q32: CT_C_INP12 | AD32: =IF(AND(G32<>"",H32<>"",I32<>"",J32<>"",K32<>""),1,0) -> 0 | AF32: =IF(OR(H32<>"",I32<>""),1,0) -> 0
B33: Compute VDD2 | C33: VDDIO | E33: Biosensor, GSR | F33: Biosensor, GSR | G33: x | K33: x | L33: PIO0_25 | M33: FC7_P1 | N33: SCT0_GPIn6 | O33: SCT0_OUT6 | P33: CT3_MAT1 | Q33: CT_C_INP13 | AD33: =IF(AND(G33<>"",H33<>"",I33<>"",J33<>"",K33<>""),1,0) -> 0 | AF33: =IF(OR(H33<>"",I33<>""),1,0) -> 0
B34: Compute VDD2 | C34: VDDIO | E34: GPIO | F34: GPIO (GSR) | G34: x | K34: x | L34: PIO0_26 | M34: FC7_P2 | N34: SCT0_GPIn7 | O34: SCT0_OUT8 | P34: CT3_MAT2 | Q34: CT_C_INP14 | AD34: =IF(AND(G34<>"",H34<>"",I34<>"",J34<>"",K34<>""),1,0) -> 0 | AF34: =IF(OR(H34<>"",I34<>""),1,0) -> 0
B35: Compute VDD2 | C35: VDDIO | E35: GPIO | K35: x | L35: PIO0_27 | M35: FC7_P3 | N35: SCT0_GPIn2 | O35: SCT0_OUT9 | P35: CT3_MAT3 | Q35: FC9_P0 | AD35: =IF(AND(G35<>"",H35<>"",I35<>"",J35<>"",K35<>""),1,0) -> 0 | AF35: =IF(OR(H35<>"",I35<>""),1,0) -> 0
B36: Compute VDD2 | C36: VDDIO | K36: x | L36: PIO0_28 | M36: FC7_P4 | N36: UTICK0_CAP0 | O36: FREQME_GPIO_A_CLK | P36: CT_C_INP6 | Q36: FC9_P1 | AD36: =IF(AND(G36<>"",H36<>"",I36<>"",J36<>"",K36<>""),1,0) -> 0 | AF36: =IF(OR(H36<>"",I36<>""),1,0) -> 0
B37: Compute VDD2 | C37: VDDIO | K37: x | L37: PIO0_29 | M37: FC7_P5 | N37: SCT0_GPIn6 | O37: SCT0_OUT6 | P37: CT_C_INP7 | Q37: FC9_P2 | AD37: =IF(AND(G37<>"",H37<>"",I37<>"",J37<>"",K37<>""),1,0) -> 0 | AF37: =IF(OR(H37<>"",I37<>""),1,0) -> 0
B38: Compute VDD2 | C38: VDDIO | K38: x | L38: PIO0_30 | M38: FC7_P6 | N38: SCT0_GPIn7 | O38: SCT0_OUT7 | P38: CT0_MAT3 | Q38: CLKOUT | R38: FC1_P6 | AD38: =IF(AND(G38<>"",H38<>"",I38<>"",J38<>"",K38<>""),1,0) -> 0 | AF38: =IF(OR(H38<>"",I38<>""),1,0) -> 0
B39: Compute VDD2 | C39: VDDIO | E39: Temp Sensor | F39: Temp Sensor | G39: x | H39: x | I39: x | J39: x | K39: x | L39: PIO0_31 | M39: FC0_P0 | N39: UTICK0_CAP2 | O39: SCT0_OUT8 | P39: CT4_MAT0 | AB39: UART boot | AD39: =IF(AND(G39<>"",H39<>"",I39<>"",J39<>"",K39<>""),1,0) -> 1 | AF39: =IF(OR(H39<>"",I39<>""),1,0) -> 1
B40: Compute VDD2 | C40: VDDIO | E40: Temp Sensor | F40: Temp Sensor | G40: x | H40: x | I40: x | J40: x | K40: x | L40: PIO1_0 | M40: FC0_P1 | O40: SCT0_OUT9 | P40: CT4_MAT1 | AB40: UART boot | AD40: =IF(AND(G40<>"",H40<>"",I40<>"",J40<>"",K40<>""),1,0) -> 1 | AF40: =IF(OR(H40<>"",I40<>""),1,0) -> 1
...

Sheet RT700 PinMux v0.94
B1: RT700 Pin Function Planning | G1: Pin count summary:
G2: =COUNTIF(G8:G262,"x") -> 120 | H2: =COUNTIF(H8:H262,"x") -> 153 | I2: =COUNTIF(I8:I262,"x") -> 161 | J2: =COUNTIF(J8:J262,"x") -> 174 | K2: =COUNTIF(K8:K262,"x") -> 217 | L2: : GPIOs/functional pins | N2: Internal power rails that include peripherals with pin functions: | Q2: External I/O power rails:
C3: : in "Fn" columns, added pin functions for this revision. | G3: =COUNTIF(G8:G262,"d") -> 20 | H3: =COUNTIF(H8:H262,"d") -> 21 | I3: =COUNTIF(I8:I262,"d") -> 15 | J3: =COUNTIF(J8:J262,"d") -> 23 | K3: =COUNTIF(K8:K262,"d") -> 23 | L3: : Dedicated pins | N3: Compute VDD2 , Media VDD2 | O3: Compute & Media domains | Q3: VDDIO | R3: 1.8 V
G4: =G2+G3 -> 140 | H4: =H2+H3 -> 174 | I4: =I2+I3 -> 176 | J4: =J2+J3 -> 197 | K4: =K2+K3 -> 240 | L4: : Subtotal | N4: Sense VDD1 | O4: Sense domain | Q4: VDDIO_4, 5, 6 | R4: 1.2V or 1.8V
G5: tbd | H5: tbd | I5: tbd | J5: tbd | K5: tbd | L5: : Total pins (including power) | N5: VDDN | O5: Media subset + clock sources | Q5: VDDIO_2 | R5: 3V tolerant (FLEXIO pads only) | AE5: updated
D6: =COUNTIF(D8:D262,"<>") -> 149 | E6: =COUNTIF(E8:E262,"<>") -> 194 | F6: =COUNTIF(F8:F262,"<>") -> 140 | G6: =184-G4 -> 44 | H6: =252-H4 -> 78 | I6: =252-I4 -> 76 | J6: =249-J4 -> 52 | K6: =361-K4 -> 121 | AE6: 221018
B7: Internal domain | C7: Pad VDD | D7: Use Case 1 (WLCSP225) | E7: Use Case 2 (225) | F7: Use case (176) | G7: BGA 184 | H7: WLCSP 252 | I7: WLCSP ALT | J7: FOWLP | K7: BGA 361 | L7: Fn0 | M7: Fn1 | N7: Fn2 | O7: Fn3 | P7: Fn4 | Q7: Fn5 | R7: Fn6 | S7: Fn7 | T7: Fn8 | U7: Fn9 | V7: Fn10 | W7: Fn11 | X7: Fn12 | Y7: Fn 13 | Z7: Fn 14 | AA7: FN15 | AB7: Other Pin Uses | AC7: Pad/Bondout Info | AD7: On all pkgs | AE7: Required for test | AF7: Superset of WLCSPs
B8: Compute VDD2 | C8: VDDIO | D8: UART (Debug) | E8: HMI, Haptic | F8: HMI, Haptic | G8: x | H8: x | I8: x | J8: x | K8: x | L8: PIO0_0 | M8: FC8_P2 | N8: SCT0_GPIn0 | O8: SCT0_OUT0 | P8: CT_C_INP9 | Q8: SAI0_RX_BCLK | R8: SAI1_TX_BCLK | AA8: mod_debug_out[0] | AD8: =IF(AND(G8<>"",H8<>"",I8<>"",J8<>"",K8<>""),1,0) -> 1 | AE8: y | AF8: =IF(OR(H8<>"",I8<>""),1,0) -> 1
B9: Compute VDD2 | C9: VDDIO | D9: UART (Debug) | E9: HMI, Haptic | F9: HMI, Haptic | G9: x | H9: x | I9: x | J9: x | K9: x | L9: PIO0_1 | M9: FC8_P3 | N9: SCT0_GPIn1 | O9: SCT0_OUT1 | P9: CT0_MAT0 | Q9: SAI0_RX_SYNC | R9: SAI1_RX_DATA | AA9: mod_debug_out[1] | AD9: =IF(AND(G9<>"",H9<>"",I9<>"",J9<>"",K9<>""),1,0) -> 1 | AE9: y | AF9: =IF(OR(H9<>"",I9<>""),1,0) -> 1
B10: Compute VDD2 | C10: VDDIO | D10: GPIO (AUDIO) | E10: HMI, Haptic GPIO | F10: GPIO | G10: x | H10: x | I10: x | J10: x | K10: x | L10: PIO0_2 | M10: FC8_P4 | N10: SCT0_GPIn2 | O10: SCT0_OUT2 | P10: CT0_MAT1 | Q10: SAI0_RX_DATA | S10: FC9_P0 | AA10: mod_debug_out[2] | AD10: =IF(AND(G10<>"",H10<>"",I10<>"",J10<>"",K10<>""),1,0) -> 1 | AE10: y | AF10: =IF(OR(H10<>"",I10<>""),1,0) -> 1
B11: Compute VDD2 | C11: VDDIO | D11: I2S OUT | E11: HMI, Display Sensor | F11: GPIO | G11: x | H11: x | I11: x | J11: x | K11: x | L11: PIO0_3 | M11: FC4_P0 | N11: SCT0_GPIn3 | O11: SCT0_OUT3 | P11: CT0_MAT2 | Q11: SAI0_TX_BCLK | AA11: mod_debug_out[3] | AD11: =IF(AND(G11<>"",H11<>"",I11<>"",J11<>"",K11<>""),1,0) -> 1 | AE11: y | AF11: =IF(OR(H11<>"",I11<>""),1,0) -> 1
B12: Compute VDD2 | C12: VDDIO | D12: I2S OUT | E12: HMI, Display Sensor | F12: GPIO | G12: x | H12: x | I12: x | J12: x | K12: x | L12: PIO0_4 | M12: FC4_P1 | N12: SCT0_GPIn4 | O12: SCT0_OUT4 | P12: CT0_MAT3 | Q12: SAI0_TX_DATA | AA12: mod_debug_out[4] | AD12: =IF(AND(G12<>"",H12<>"",I12<>"",J12<>"",K12<>""),1,0) -> 1 | AE12: y | AF12: =IF(OR(H12<>"",I12<>""),1,0) -> 1
B13: Compute VDD2 | C13: VDDIO | D13: I2S OUT | E13: GPIO (HMI, Disp Sensor) | F13: GPIO | G13: x | H13: x | I13: x | J13: x | K13: x | L13: PIO0_5 | M13: FC4_P4 | N13: SCT0_GPIn5 | O13: SCT0_OUT5 | P13: CT2_MAT0 | Q13: SAI0_TX_SYNC | R13: MCLK | S13: FC9_P1 | AA13: mod_debug_out[5] | AD13: =IF(AND(G13<>"",H13<>"",I13<>"",J13<>"",K13<>""),1,0) -> 1 | AE13: y | AF13: =IF(OR(H13<>"",I13<>""),1,0) -> 1
B14: Compute VDD2 | C14: VDDIO | H14: x | I14: x | J14: x | K14: x | L14: PIO0_6 | M14: FC4_P2 | N14: SCT0_GPIn6 | O14: SCT0_OUT6 | P14: CT_C_INP10 | Q14: FC8_P0 | AD14: =IF(AND(G14<>"",H14<>"",I14<>"",J14<>"",K14<>""),1,0) -> 0 | AF14: =IF(OR(H14<>"",I14<>""),1,0) -> 1
B15: Compute VDD2 | C15: VDDIO | H15: x | I15: x | J15: x | K15: x | L15: PIO0_7 | M15: FC4_P3 | N15: SCT0_GPIn7 | O15: SCT0_OUT7 | P15: CT_C_INP11 | Q15: FC8_P1 | AD15: =IF(AND(G15<>"",H15<>"",I15<>"",J15<>"",K15<>""),1,0) -> 0 | AF15: =IF(OR(H15<>"",I15<>""),1,0) -> 1
B16: Compute VDD2 | C16: VDDIO | K16: x | L16: PIO0_8 | M16: FC4_P5 | N16: SCT0_GPIn0 | O16: SCT0_OUT0 | P16: CT_C_INP1 | R16: 32KHZ_CLKOUT | AD16: =IF(AND(G16<>"",H16<>"",I16<>"",J16<>"",K16<>""),1,0) -> 0 | AF16: =IF(OR(H16<>"",I16<>""),1,0) -> 0
B17: Compute VDD2 | C17: VDDIO | K17: x | L17: PIO0_9 | M17: FC4_P6 | N17: SCT0_GPIn1 | O17: SCT0_OUT1 | P17: CT0_MAT0 | Q17: FC1_P5 | AD17: =IF(AND(G17<>"",H17<>"",I17<>"",J17<>"",K17<>""),1,0) -> 0 | AF17: =IF(OR(H17<>"",I17<>""),1,0) -> 0
B18: Compute VDD2 | C18: VDDIO | D18: HS UART (BT) | E18: HMI, Screen Touch | F18: HMI, Screen Touch | G18: x | H18: x | I18: x | J18: x | K18: x | L18: PIO0_10 | M18: FC5_P0 | N18: SCT0_GPIn4 | O18: SCT0_OUT4 | P18: CT1_MAT0 | Q18: CT_C_INP0 | R18: SAI2_RX_DATA | AA18: mod_debug_out[6] | AD18: =IF(AND(G18<>"",H18<>"",I18<>"",J18<>"",K18<>""),1,0) -> 1 | AE18: y | AF18: =IF(OR(H18<>"",I18<>""),1,0) -> 1
B19: Compute VDD2 | C19: VDDIO | D19: HS UART (BT) | E19: HMI, Screen Touch | F19: HMI, Screen Touch | G19: x | H19: x | I19: x | J19: x | K19: x | L19: PIO0_11 | M19: FC5_P1 | N19: SCT0_GPIn5 | O19: SCT0_OUT5 | P19: CT1_MAT1 | Q19: SAI2_TX_BCLK | AA19: mod_debug_out[7] | AD19: =IF(AND(G19<>"",H19<>"",I19<>"",J19<>"",K19<>""),1,0) -> 1 | AE19: y | AF19: =IF(OR(H19<>"",I19<>""),1,0) -> 1
B20: Compute VDD2 | C20: VDDIO | D20: HS UART (BT) | E20: HMI, Screen Touch | F20: HMI, Screen Touch GPIO | G20: x | H20: x | I20: x | J20: x | K20: x | L20: PIO0_12 | M20: FC5_P2 | N20: SCT0_GPIn6 | O20: SCT0_OUT6 | P20: CT1_MAT2 | Q20: SAI2_TX_DATA | AA20: mod_debug_out[8] | AD20: =IF(AND(G20<>"",H20<>"",I20<>"",J20<>"",K20<>""),1,0) -> 1 | AE20: y | AF20: =IF(OR(H20<>"",I20<>""),1,0) -> 1
B21: Compute VDD2 | C21: VDDIO | D21: HS UART (BT) | E21: HMI, Screen Touch | H21: x | I21: x | J21: x | K21: x | L21: PIO0_13 | M21: FC5_P3 | N21: SCT0_GPIn7 | O21: SCT0_OUT7 | P21: CT1_MAT3 | Q21: SAI2_TX_SYNC | AD21: =IF(AND(G21<>"",H21<>"",I21<>"",J21<>"",K21<>""),1,0) -> 0 | AF21: =IF(OR(H21<>"",I21<>""),1,0) -> 1
B22: Compute VDD2 | C22: VDDIO | D22: GPIO (AUDIO) | E22: GPIO | H22: x | I22: x | J22: x | K22: x | L22: PIO0_14 | M22: FC5_P4 | N22: SCT0_GPIn0 | O22: SCT0_OUT8 | P22: CT_C_INP2 | Q22: SAI2_RX_DATA | R22: CLKOUT | AD22: =IF(AND(G22<>"",H22<>"",I22<>"",J22<>"",K22<>""),1,0) -> 0 | AF22: =IF(OR(H22<>"",I22<>""),1,0) -> 1
B23: Compute VDD2 | C23: VDDIO | K23: x | L23: PIO0_15 | M23: FC5_P5 | N23: SCT0_GPIn2 | O23: SCT0_OUT2 | P23: CT_C_INP3 | Q23: SAI2_RX_BCLK | R23: FC2_P5 | AD23: =IF(AND(G23<>"",H23<>"",I23<>"",J23<>"",K23<>""),1,0) -> 0 | AF23: =IF(OR(H23<>"",I23<>""),1,0) -> 0
B24: Compute VDD2 | C24: VDDIO | K24: x | L24: PIO0_16 | M24: FC5_P6 | N24: SCT0_GPIn3 | O24: SCT0_OUT3 | P24: CT0_MAT1 | Q24: SAI2_RX_SYNC | R24: FC2_P6 | AD24: =IF(AND(G24<>"",H24<>"",I24<>"",J24<>"",K24<>""),1,0) -> 0 | AF24: =IF(OR(H24<>"",I24<>""),1,0) -> 0
B25: Compute VDD2 | C25: VDDIO | E25: Biosensor, PPG | F25: Biosensor, PPG | G25: x | K25: x | L25: PIO0_17 | M25: FC6_P5 | N25: SCT0_GPIn0 | O25: SCT0_OUT0 | P25: CT2_MAT0 | Q25: SAI1_RX_BCLK | AD25: =IF(AND(G25<>"",H25<>"",I25<>"",J25<>"",K25<>""),1,0) -> 0 | AF25: =IF(OR(H25<>"",I25<>""),1,0) -> 0
B26: Compute VDD2 | C26: VDDIO | E26: Biosensor, PPG | F26: Biosensor, PPG | G26: x | K26: x | L26: PIO0_18 | M26: FC6_P6 | N26: SCT0_GPIn1 | O26: SCT0_OUT1 | P26: CT2_MAT1 | Q26: SAI1_RX_DATA | AD26: =IF(AND(G26<>"",H26<>"",I26<>"",J26<>"",K26<>""),1,0) -> 0 | AF26: =IF(OR(H26<>"",I26<>""),1,0) -> 0
B27: Compute VDD2 | C27: VDDIO | E27: Biosensor, PPG | F27: Biosensor, PPG | G27: x | K27: x | L27: PIO0_19 | M27: FC6_P2 | N27: SCT0_GPIn2 | O27: SCT0_OUT2 | P27: CT2_MAT2 | Q27: SAI1_RX_SYNC | AD27: =IF(AND(G27<>"",H27<>"",I27<>"",J27<>"",K27<>""),1,0) -> 0 | AF27: =IF(OR(H27<>"",I27<>""),1,0) -> 0
B28: Compute VDD2 | C28: VDDIO | E28: Biosensor, PPG | F28: Biosensor, PPG | G28: x | K28: x | L28: PIO0_20 | M28: FC6_P3 | N28: SCT0_GPIn3 | O28: SCT0_OUT3 | P28: CT2_MAT3 | Q28: SAI1_TX_BCLK | AD28: =IF(AND(G28<>"",H28<>"",I28<>"",J28<>"",K28<>""),1,0) -> 0 | AF28: =IF(OR(H28<>"",I28<>""),1,0) -> 0
B29: Compute VDD2 | C29: VDDIO | D29: GPIO (NFC) | E29: GPIO | F29: GPIO (Biosensor, PPG) | G29: x | H29: x | I29: x | J29: x | K29: x | L29: PIO0_21 | M29: FC6_P0 | N29: SCT0_GPIn6 | O29: SCT0_OUT6 | P29: CT_C_INP4 | Q29: SAI1_TX_DATA | R29: MCLK | AA29: mod_debug_out[9] | AD29: =IF(AND(G29<>"",H29<>"",I29<>"",J29<>"",K29<>""),1,0) -> 1 | AE29: y | AF29: =IF(OR(H29<>"",I29<>""),1,0) -> 1
B30: Compute VDD2 | C30: VDDIO | D30: CLKOUT | E30: GPIO | F30: GPIO (Biosensor, PPG) | G30: x | H30: x | I30: x | J30: x | K30: x | L30: PIO0_22 | M30: FC6_P1 | N30: SCT0_GPIn4 | O30: SCT0_OUT4 | P30: CT_C_INP5 | Q30: SAI1_TX_SYNC | R30: CLKOUT | AA30: mod_debug_out[10] | AD30: =IF(AND(G30<>"",H30<>"",I30<>"",J30<>"",K30<>""),1,0) -> 1 | AE30: y | AF30: =IF(OR(H30<>"",I30<>""),1,0) -> 1
B31: Compute VDD2 | C31: VDDIO | E31: GPIO | F31: GPIO | G31: x | K31: x | L31: PIO0_23 | M31: FC6_P4 | N31: SCT0_GPIn5 | O31: SCT0_OUT5 | P31: CT0_MAT2 | Q31: CLKIN | AD31: =IF(AND(G31<>"",H31<>"",I31<>"",J31<>"",K31<>""),1,0) -> 0 | AF31: =IF(OR(H31<>"",I31<>""),1,0) -> 0
B32: Compute VDD2 | C32: VDDIO | E32: Biosensor, GSR | F32: Biosensor, GSR | G32: x | K32: x | L32: PIO0_24 | M32: FC7_P0 | N32: SCT0_GPIn5 | O32: SCT0_OUT5 | P32: CT3_MAT0 | Q32: CT_C_INP12 | AD32: =IF(AND(G32<>"",H32<>"",I32<>"",J32<>"",K32<>""),1,0) -> 0 | AF32: =IF(OR(H32<>"",I32<>""),1,0) -> 0
B33: Compute VDD2 | C33: VDDIO | E33: Biosensor, GSR | F33: Biosensor, GSR | G33: x | K33: x | L33: PIO0_25 | M33: FC7_P1 | N33: SCT0_GPIn6 | O33: SCT0_OUT6 | P33: CT3_MAT1 | Q33: CT_C_INP13 | AD33: =IF(AND(G33<>"",H33<>"",I33<>"",J33<>"",K33<>""),1,0) -> 0 | AF33: =IF(OR(H33<>"",I33<>""),1,0) -> 0
B34: Compute VDD2 | C34: VDDIO | E34: GPIO | F34: GPIO (GSR) | G34: x | K34: x | L34: PIO0_26 | M34: FC7_P2 | N34: SCT0_GPIn7 | O34: SCT0_OUT8 | P34: CT3_MAT2 | Q34: CT_C_INP14 | AD34: =IF(AND(G34<>"",H34<>"",I34<>"",J34<>"",K34<>""),1,0) -> 0 | AF34: =IF(OR(H34<>"",I34<>""),1,0) -> 0
B35: Compute VDD2 | C35: VDDIO | E35: GPIO | K35: x | L35: PIO0_27 | M35: FC7_P3 | N35: SCT0_GPIn2 | O35: SCT0_OUT9 | P35: CT3_MAT3 | Q35: FC9_P0 | AD35: =IF(AND(G35<>"",H35<>"",I35<>"",J35<>"",K35<>""),1,0) -> 0 | AF35: =IF(OR(H35<>"",I35<>""),1,0) -> 0
B36: Compute VDD2 | C36: VDDIO | K36: x | L36: PIO0_28 | M36: FC7_P4 | N36: UTICK0_CAP0 | O36: FREQME_GPIO_A_CLK | P36: CT_C_INP6 | Q36: FC9_P1 | AD36: =IF(AND(G36<>"",H36<>"",I36<>"",J36<>"",K36<>""),1,0) -> 0 | AF36: =IF(OR(H36<>"",I36<>""),1,0) -> 0
B37: Compute VDD2 | C37: VDDIO | K37: x | L37: PIO0_29 | M37: FC7_P5 | N37: SCT0_GPIn6 | O37: SCT0_OUT6 | P37: CT_C_INP7 | Q37: FC9_P2 | AD37: =IF(AND(G37<>"",H37<>"",I37<>"",J37<>"",K37<>""),1,0) -> 0 | AF37: =IF(OR(H37<>"",I37<>""),1,0) -> 0
B38: Compute VDD2 | C38: VDDIO | K38: x | L38: PIO0_30 | M38: FC7_P6 | N38: SCT0_GPIn7 | O38: SCT0_OUT7 | P38: CT0_MAT3 | Q38: CLKOUT | R38: FC1_P6 | AD38: =IF(AND(G38<>"",H38<>"",I38<>"",J38<>"",K38<>""),1,0) -> 0 | AF38: =IF(OR(H38<>"",I38<>""),1,0) -> 0
B39: Compute VDD2 | C39: VDDIO | E39: Temp Sensor | F39: Temp Sensor | G39: x | H39: x | I39: x | J39: x | K39: x | L39: PIO0_31 | M39: FC0_P0 | N39: UTICK0_CAP2 | O39: SCT0_OUT8 | P39: CT4_MAT0 | AB39: UART boot | AD39: =IF(AND(G39<>"",H39<>"",I39<>"",J39<>"",K39<>""),1,0) -> 1 | AF39: =IF(OR(H39<>"",I39<>""),1,0) -> 1
B40: Compute VDD2 | C40: VDDIO | E40: Temp Sensor | F40: Temp Sensor | G40: x | H40: x | I40: x | J40: x | K40: x | L40: PIO1_0 | M40: FC0_P1 | O40: SCT0_OUT9 | P40: CT4_MAT1 | AB40: UART boot | AD40: =IF(AND(G40<>"",H40<>"",I40<>"",J40<>"",K40<>""),1,0) -> 1 | AF40: =IF(OR(H40<>"",I40<>""),1,0) -> 1
...

Sheet v0.94 vs v0.95
B1: RT700 Pin Function Planning | G1: Pin count summary:
G2: =COUNTIF(G8:G262,"x") -> 0 | H2: =COUNTIF(H8:H262,"x") -> 0 | I2: =COUNTIF(I8:I262,"x") -> 0 | J2: =COUNTIF(J8:J262,"x") -> 0 | K2: =COUNTIF(K8:K262,"x") -> 0 | L2: : GPIOs/functional pins | N2: Internal power rails that include peripherals with pin functions: | Q2: External I/O power rails:
C3: : in "Fn" columns, added pin functions for this revision. | G3: =COUNTIF(G237:G262,"d") -> 0 | H3: =COUNTIF(H237:H262,"d") -> 0 | I3: =COUNTIF(I237:I262,"d") -> 0 | J3: =COUNTIF(J237:J262,"d") -> 0 | K3: =COUNTIF(K237:K262,"d") -> 0 | L3: : Dedicated pins | N3: Compute VDD2 , Media VDD2 | O3: Compute & Media domains | Q3: VDDIO | R3: 1.8 V
G4: =SUM(G265:G306) -> 0 | H4: =SUM(H265:H306) -> 0 | I4: =SUM(I265:I306) -> 0 | J4: =SUM(J265:J306) -> 0 | K4: =SUM(K265:K306) -> 0 | L4: : Power | N4: Sense VDD1 | O4: Sense domain | Q4: VDDIO_4, 5, 6 | R4: 1.2V or 1.8V
G5: tbd | H5: =SUM(H2:H4) -> 0 | I5: tbd | J5: =SUM(J2:J4) -> 0 | K5: tbd | L5: : Total pins (including power) | N5: VDDN | O5: Media subset + clock sources | Q5: VDDIO_2 | R5: 3V tolerant (FLEXIO pads only) | AE5: updated
D6: =COUNTIF(D8:D262,"<>") -> 240 | E6: =COUNTIF(E8:E262,"<>") -> 240 | F6: =COUNTIF(F8:F262,"<>") -> 240 | G6: 184 | I6: 256 | K6: =361-K4 -> 361 | AE6: 221018
B7: Internal domain | C7: Pad VDD | D7: Use Case 1 (WLCSP) | E7: Use Case 2 (WLCSP) | F7: Use case (BGA184) | G7: BGA 184 | H7: WLCSP 256 | I7: WLCSP ALT | J7: FOWLP 324 | K7: BGA 361 | L7: Fn0 | M7: Fn1 | N7: Fn2 | O7: Fn3 | P7: Fn4 | Q7: Fn5 | R7: Fn6 | S7: Fn7 | T7: Fn8 | U7: Fn9 | V7: Fn10 | W7: Fn11 | X7: Fn12 | Y7: Fn 13 | Z7: Fn 14 | AA7: FN15 | AB7: Other Pin Uses | AC7: Pad/Bondout Info | AD7: On all pkgs | AE7: Required for test | AF7: Superset of WLCSPs
B8: ='RT700 PinMux v0.95'!B8 -> Compute VDD2 | C8: ='RT700 PinMux v0.95'!C8 -> VDDIO | D8: =IF('RT700 PinMux v0.94'!D8='RT700 PinMux v0.95'!D8,"",'RT700 PinMux v0.94'!D8&" vs "&'RT700 PinMux v0.95'!D8) | E8: =IF('RT700 PinMux v0.94'!E8='RT700 PinMux v0.95'!E8,"",'RT700 PinMux v0.94'!E8&" vs "&'RT700 PinMux v0.95'!E8) | F8: =IF('RT700 PinMux v0.94'!F8='RT700 PinMux v0.95'!F8,"",'RT700 PinMux v0.94'!F8&" vs "&'RT700 PinMux v0.95'!F8) | G8: =IF('RT700 PinMux v0.94'!G8='RT700 PinMux v0.95'!G8,"",'RT700 PinMux v0.94'!G8&" vs "&'RT700 PinMux v0.95'!G8) | H8: =IF('RT700 PinMux v0.94'!H8='RT700 PinMux v0.95'!H8,"",'RT700 PinMux v0.94'!H8&" vs "&'RT700 PinMux v0.95'!H8) | I8: =IF('RT700 PinMux v0.94'!I8='RT700 PinMux v0.95'!I8,"",'RT700 PinMux v0.94'!I8&" vs "&'RT700 PinMux v0.95'!I8) | J8: =IF('RT700 PinMux v0.94'!J8='RT700 PinMux v0.95'!J8,"",'RT700 PinMux v0.94'!J8&" vs "&'RT700 PinMux v0.95'!J8) | K8: =IF('RT700 PinMux v0.94'!K8='RT700 PinMux v0.95'!K8,"",'RT700 PinMux v0.94'!K8&" vs "&'RT700 PinMux v0.95'!K8) | ... BK8: =IF('RT700 PinMux v0.94'!BK8='RT700 PinMux v0.95'!BK8,"",'RT700 PinMux v0.94'!BK8&" vs "&'RT700 PinMux v0.95'!BK8) | BM8: =IF('RT700 PinMux v0.94'!BM8='RT700 PinMux v0.95'!BM8,"",'RT700 PinMux v0.94'!BM8&" vs "&'RT700 PinMux v0.95'!BM8) | BN8: =IF('RT700 PinMux v0.94'!BN8='RT700 PinMux v0.95'!BN8,"",'RT700 PinMux v0.94'!BN8&" vs "&'RT700 PinMux v0.95'!BN8) | BO8: =IF('RT700 PinMux v0.94'!BO8='RT700 PinMux v0.95'!BO8,"",'RT700 PinMux v0.94'!BO8&" vs "&'RT700 PinMux v0.95'!BO8) | BP8: =IF('RT700 PinMux v0.94'!BP8='RT700 PinMux v0.95'!BP8,"",'RT700 PinMux v0.94'!BP8&" vs "&'RT700 PinMux v0.95'!BP8) | BQ8: =IF('RT700 PinMux v0.94'!BQ8='RT700 PinMux v0.95'!BQ8,"",'RT700 PinMux v0.94'!BQ8&" vs "&'RT700 PinMux v0.95'!BQ8) | BR8: =IF('RT700 PinMux v0.94'!BR8='RT700 PinMux v0.95'!BR8,"",'RT700 PinMux v0.94'!BR8&" vs "&'RT700 PinMux v0.95'!BR8) | BS8: =IF('RT700 PinMux v0.94'!BS8='RT700 PinMux v0.95'!BS8,"",'RT700 PinMux v0.94'!BS8&" vs "&'RT700 PinMux v0.95'!BS8) | BT8: =IF('RT700 PinMux v0.94'!BT8='RT700 PinMux v0.95'!BT8,"",'RT700 PinMux v0.94'!BT8&" vs "&'RT700 PinMux v0.95'!BT8) | ... CB8: =IF('RT700 PinMux v0.94'!CB8='RT700 PinMux v0.95'!CB8,"",'RT700 PinMux v0.94'!CB8&" vs "&'RT700 PinMux v0.95'!CB8) | CD8: =IF('RT700 PinMux v0.94'!CD8='RT700 PinMux v0.95'!CD8,"",'RT700 PinMux v0.94'!CD8&" vs "&'RT700 PinMux v0.95'!CD8) | CE8: =IF('RT700 PinMux v0.94'!CE8='RT700 PinMux v0.95'!CE8,"",'RT700 PinMux v0.94'!CE8&" vs "&'RT700 PinMux v0.95'!CE8) | CF8: =IF('RT700 PinMux v0.94'!CF8='RT700 PinMux v0.95'!CF8,"",'RT700 PinMux v0.94'!CF8&" vs "&'RT700 PinMux v0.95'!CF8) | CG8: =IF('RT700 PinMux v0.94'!CG8='RT700 PinMux v0.95'!CG8,"",'RT700 PinMux v0.94'!CG8&" vs "&'RT700 PinMux v0.95'!CG8) | CH8: =IF('RT700 PinMux v0.94'!CH8='RT700 PinMux v0.95'!CH8,"",'RT700 PinMux v0.94'!CH8&" vs "&'RT700 PinMux v0.95'!CH8) | CI8: =IF('RT700 PinMux v0.94'!CI8='RT700 PinMux v0.95'!CI8,"",'RT700 PinMux v0.94'!CI8&" vs "&'RT700 PinMux v0.95'!CI8) | CJ8: =IF('RT700 PinMux v0.94'!CJ8='RT700 PinMux v0.95'!CJ8,"",'RT700 PinMux v0.94'!CJ8&" vs "&'RT700 PinMux v0.95'!CJ8) | CK8: =IF('RT700 PinMux v0.94'!CK8='RT700 PinMux v0.95'!CK8,"",'RT700 PinMux v0.94'!CK8&" vs "&'RT700 PinMux v0.95'!CK8) | ... CR8: =IF('RT700 PinMux v0.94'!CR8='RT700 PinMux v0.95'!CR8,"",'RT700 PinMux v0.94'!CR8&" vs "&'RT700 PinMux v0.95'!CR8) | CT8: =IF('RT700 PinMux v0.94'!CT8='RT700 PinMux v0.95'!CT8,"",'RT700 PinMux v0.94'!CT8&" vs "&'RT700 PinMux v0.95'!CT8) | CU8: =IF('RT700 PinMux v0.94'!CU8='RT700 PinMux v0.95'!CU8,"",'RT700 PinMux v0.94'!CU8&" vs "&'RT700 PinMux v0.95'!CU8) | CV8: =IF('RT700 PinMux v0.94'!CV8='RT700 PinMux v0.95'!CV8,"",'RT700 PinMux v0.94'!CV8&" vs "&'RT700 PinMux v0.95'!CV8) | CW8: =IF('RT700 PinMux v0.94'!CW8='RT700 PinMux v0.95'!CW8,"",'RT700 PinMux v0.94'!CW8&" vs "&'RT700 PinMux v0.95'!CW8) | CX8: =IF('RT700 PinMux v0.94'!CX8='RT700 PinMux v0.95'!CX8,"",'RT700 PinMux v0.94'!CX8&" vs "&'RT700 PinMux v0.95'!CX8) | CY8: =IF('RT700 PinMux v0.94'!CY8='RT700 PinMux v0.95'!CY8,"",'RT700 PinMux v0.94'!CY8&" vs "&'RT700 PinMux v0.95'!CY8) | CZ8: =IF('RT700 PinMux v0.94'!CZ8='RT700 PinMux v0.95'!CZ8,"",'RT700 PinMux v0.94'!CZ8&" vs "&'RT700 PinMux v0.95'!CZ8) | DA8: =IF('RT700 PinMux v0.94'!DA8='RT700 PinMux v0.95'!DA8,"",'RT700 PinMux v0.94'!DA8&" vs "&'RT700 PinMux v0.95'!DA8) | ... DN8: =IF('RT700 PinMux v0.94'!DN8='RT700 PinMux v0.95'!DN8,"",'RT700 PinMux v0.94'!DN8&" vs "&'RT700 PinMux v0.95'!DN8) | DQ8: =IF('RT700 PinMux v0.94'!DQ8='RT700 PinMux v0.95'!DQ8,"",'RT700 PinMux v0.94'!DQ8&" vs "&'RT700 PinMux v0.95'!DQ8) | DR8: =IF('RT700 PinMux v0.94'!DR8='RT700 PinMux v0.95'!DR8,"",'RT700 PinMux v0.94'!DR8&" vs "&'RT700 PinMux v0.95'!DR8) | DS8: =IF('RT700 PinMux v0.94'!DS8='RT700 PinMux v0.95'!DS8,"",'RT700 PinMux v0.94'!DS8&" vs "&'RT700 PinMux v0.95'!DS8) | DT8: =IF('RT700 PinMux v0.94'!DT8='RT700 PinMux v0.95'!DT8,"",'RT700 PinMux v0.94'!DT8&" vs "&'RT700 PinMux v0.95'!DT8) | DU8: =IF('RT700 PinMux v0.94'!DU8='RT700 PinMux v0.95'!DU8,"",'RT700 PinMux v0.94'!DU8&" vs "&'RT700 PinMux v0.95'!DU8) | DV8: =IF('RT700 PinMux v0.94'!DV8='RT700 PinMux v0.95'!DV8,"",'RT700 PinMux v0.94'!DV8&" vs "&'RT700 PinMux v0.95'!DV8) | DW8: =IF('RT700 PinMux v0.94'!DW8='RT700 PinMux v0.95'!DW8,"",'RT700 PinMux v0.94'!DW8&" vs "&'RT700 PinMux v0.95'!DW8) | DX8: =IF('RT700 PinMux v0.94'!DX8='RT700 PinMux v0.95'!DX8,"",'RT700 PinMux v0.94'!DX8&" vs "&'RT700 PinMux v0.95'!DX8) | ... EK8: =IF('RT700 PinMux v0.94'!EK8='RT700 PinMux v0.95'!EK8,"",'RT700 PinMux v0.94'!EK8&" vs "&'RT700 PinMux v0.95'!EK8) | EN8: =IF('RT700 PinMux v0.94'!EN8='RT700 PinMux v0.95'!EN8,"",'RT700 PinMux v0.94'!EN8&" vs "&'RT700 PinMux v0.95'!EN8) | EO8: =IF('RT700 PinMux v0.94'!EO8='RT700 PinMux v0.95'!EO8,"",'RT700 PinMux v0.94'!EO8&" vs "&'RT700 PinMux v0.95'!EO8) | EP8: =IF('RT700 PinMux v0.94'!EP8='RT700 PinMux v0.95'!EP8,"",'RT700 PinMux v0.94'!EP8&" vs "&'RT700 PinMux v0.95'!EP8) | EQ8: =IF('RT700 PinMux v0.94'!EQ8='RT700 PinMux v0.95'!EQ8,"",'RT700 PinMux v0.94'!EQ8&" vs "&'RT700 PinMux v0.95'!EQ8) | ER8: =IF('RT700 PinMux v0.94'!ER8='RT700 PinMux v0.95'!ER8,"",'RT700 PinMux v0.94'!ER8&" vs "&'RT700 PinMux v0.95'!ER8) | ES8: =IF('RT700 PinMux v0.94'!ES8='RT700 PinMux v0.95'!ES8,"",'RT700 PinMux v0.94'!ES8&" vs "&'RT700 PinMux v0.95'!ES8) | ET8: =IF('RT700 PinMux v0.94'!ET8='RT700 PinMux v0.95'!ET8,"",'RT700 PinMux v0.94'!ET8&" vs "&'RT700 PinMux v0.95'!ET8) | EU8: =IF('RT700 PinMux v0.94'!EU8='RT700 PinMux v0.95'!EU8,"",'RT700 PinMux v0.94'!EU8&" vs "&'RT700 PinMux v0.95'!EU8) | ... EZ8: =IF('RT700 PinMux v0.94'!EZ8='RT700 PinMux v0.95'!EZ8,"",'RT700 PinMux v0.94'!EZ8&" vs "&'RT700 PinMux v0.95'!EZ8) | FB8: =IF('RT700 PinMux v0.94'!FB8='RT700 PinMux v0.95'!FB8,"",'RT700 PinMux v0.94'!FB8&" vs "&'RT700 PinMux v0.95'!FB8) | FC8: =IF('RT700 PinMux v0.94'!FC8='RT700 PinMux v0.95'!FC8,"",'RT700 PinMux v0.94'!FC8&" vs "&'RT700 PinMux v0.95'!FC8) | FD8: =IF('RT700 PinMux v0.94'!FD8='RT700 PinMux v0.95'!FD8,"",'RT700 PinMux v0.94'!FD8&" vs "&'RT700 PinMux v0.95'!FD8) | FE8: =IF('RT700 PinMux v0.94'!FE8='RT700 PinMux v0.95'!FE8,"",'RT700 PinMux v0.94'!FE8&" vs "&'RT700 PinMux v0.95'!FE8) | FF8: =IF('RT700 PinMux v0.94'!FF8='RT700 PinMux v0.95'!FF8,"",'RT700 PinMux v0.94'!FF8&" vs "&'RT700 PinMux v0.95'!FF8) | FG8: =IF('RT700 PinMux v0.94'!FG8='RT700 PinMux v0.95'!FG8,"",'RT700 PinMux v0.94'!FG8&" vs "&'RT700 PinMux v0.95'!FG8) | FH8: =IF('RT700 PinMux v0.94'!FH8='RT700 PinMux v0.95'!FH8,"",'RT700 PinMux v0.94'!FH8&" vs "&'RT700 PinMux v0.95'!FH8) | FI8: =IF('RT700 PinMux v0.94'!FI8='RT700 PinMux v0.95'!FI8,"",'RT700 PinMux v0.94'!FI8&" vs "&'RT700 PinMux v0.95'!FI8) | ... GA8: =IF('RT700 PinMux v0.94'!GA8='RT700 PinMux v0.95'!GA8,"",'RT700 PinMux v0.94'!GA8&" vs "&'RT700 PinMux v0.95'!GA8) | GD8: =IF('RT700 PinMux v0.94'!GD8='RT700 PinMux v0.95'!GD8,"",'RT700 PinMux v0.94'!GD8&" vs "&'RT700 PinMux v0.95'!GD8) | GE8: =IF('RT700 PinMux v0.94'!GE8='RT700 PinMux v0.95'!GE8,"",'RT700 PinMux v0.94'!GE8&" vs "&'RT700 PinMux v0.95'!GE8) | GF8: =IF('RT700 PinMux v0.94'!GF8='RT700 PinMux v0.95'!GF8,"",'RT700 PinMux v0.94'!GF8&" vs "&'RT700 PinMux v0.95'!GF8) | GG8: =IF('RT700 PinMux v0.94'!GG8='RT700 PinMux v0.95'!GG8,"",'RT700 PinMux v0.94'!GG8&" vs "&'RT700 PinMux v0.95'!GG8) | GH8: =IF('RT700 PinMux v0.94'!GH8='RT700 PinMux v0.95'!GH8,"",'RT700 PinMux v0.94'!GH8&" vs "&'RT700 PinMux v0.95'!GH8) | GI8: =IF('RT700 PinMux v0.94'!GI8='RT700 PinMux v0.95'!GI8,"",'RT700 PinMux v0.94'!GI8&" vs "&'RT700 PinMux v0.95'!GI8) | GJ8: =IF('RT700 PinMux v0.94'!GJ8='RT700 PinMux v0.95'!GJ8,"",'RT700 PinMux v0.94'!GJ8&" vs "&'RT700 PinMux v0.95'!GJ8) | GK8: =IF('RT700 PinMux v0.94'!GK8='RT700 PinMux v0.95'!GK8,"",'RT700 PinMux v0.94'!GK8&" vs "&'RT700 PinMux v0.95'!GK8) | ... HL8: =IF('RT700 PinMux v0.94'!HL8='RT700 PinMux v0.95'!HL8,"",'RT700 PinMux v0.94'!HL8&" vs "&'RT700 PinMux v0.95'!HL8) | HN8: =IF('RT700 PinMux v0.94'!HN8='RT700 PinMux v0.95'!HN8,"",'RT700 PinMux v0.94'!HN8&" vs "&'RT700 PinMux v0.95'!HN8) | HO8: =IF('RT700 PinMux v0.94'!HO8='RT700 PinMux v0.95'!HO8,"",'RT700 PinMux v0.94'!HO8&" vs "&'RT700 PinMux v0.95'!HO8) | HP8: =IF('RT700 PinMux v0.94'!HP8='RT700 PinMux v0.95'!HP8,"",'RT700 PinMux v0.94'!HP8&" vs "&'RT700 PinMux v0.95'!HP8) | HQ8: =IF('RT700 PinMux v0.94'!HQ8='RT700 PinMux v0.95'!HQ8,"",'RT700 PinMux v0.94'!HQ8&" vs "&'RT700 PinMux v0.95'!HQ8) | HR8: =IF('RT700 PinMux v0.94'!HR8='RT700 PinMux v0.95'!HR8,"",'RT700 PinMux v0.94'!HR8&" vs "&'RT700 PinMux v0.95'!HR8) | HS8: =IF('RT700 PinMux v0.94'!HS8='RT700 PinMux v0.95'!HS8,"",'RT700 PinMux v0.94'!HS8&" vs "&'RT700 PinMux v0.95'!HS8) | HT8: =IF('RT700 PinMux v0.94'!HT8='RT700 PinMux v0.95'!HT8,"",'RT700 PinMux v0.94'!HT8&" vs "&'RT700 PinMux v0.95'!HT8) | HU8: =IF('RT700 PinMux v0.94'!HU8='RT700 PinMux v0.95'!HU8,"",'RT700 PinMux v0.94'!HU8&" vs "&'RT700 PinMux v0.95'!HU8) | ... IE8: =IF('RT700 PinMux v0.94'!IE8='RT700 PinMux v0.95'!IE8,"",'RT700 PinMux v0.94'!IE8&" vs "&'RT700 PinMux v0.95'!IE8)
B9: ='RT700 PinMux v0.95'!B9 -> Compute VDD2 | C9: ='RT700 PinMux v0.95'!C9 -> VDDIO | D9: =IF('RT700 PinMux v0.94'!D9='RT700 PinMux v0.95'!D9,"",'RT700 PinMux v0.94'!D9&" vs "&'RT700 PinMux v0.95'!D9) | E9: =IF('RT700 PinMux v0.94'!E9='RT700 PinMux v0.95'!E9,"",'RT700 PinMux v0.94'!E9&" vs "&'RT700 PinMux v0.95'!E9) | F9: =IF('RT700 PinMux v0.94'!F9='RT700 PinMux v0.95'!F9,"",'RT700 PinMux v0.94'!F9&" vs "&'RT700 PinMux v0.95'!F9) | G9: =IF('RT700 PinMux v0.94'!G9='RT700 PinMux v0.95'!G9,"",'RT700 PinMux v0.94'!G9&" vs "&'RT700 PinMux v0.95'!G9) | H9: =IF('RT700 PinMux v0.94'!H9='RT700 PinMux v0.95'!H9,"",'RT700 PinMux v0.94'!H9&" vs "&'RT700 PinMux v0.95'!H9) | I9: =IF('RT700 PinMux v0.94'!I9='RT700 PinMux v0.95'!I9,"",'RT700 PinMux v0.94'!I9&" vs "&'RT700 PinMux v0.95'!I9) | J9: =IF('RT700 PinMux v0.94'!J9='RT700 PinMux v0.95'!J9,"",'RT700 PinMux v0.94'!J9&" vs "&'RT700 PinMux v0.95'!J9) | K9: =IF('RT700 PinMux v0.94'!K9='RT700 PinMux v0.95'!K9,"",'RT700 PinMux v0.94'!K9&" vs "&'RT700 PinMux v0.95'!K9) | ... S9: =IF('RT700 PinMux v0.94'!S9='RT700 PinMux v0.95'!S9,"",'RT700 PinMux v0.94'!S9&" vs "&'RT700 PinMux v0.95'!S9) | AA9: =IF('RT700 PinMux v0.94'!AA9='RT700 PinMux v0.95'!AA9,"",'RT700 PinMux v0.94'!AA9&" vs "&'RT700 PinMux v0.95'!AA9) | AB9: =IF('RT700 PinMux v0.94'!AB9='RT700 PinMux v0.95'!AB9,"",'RT700 PinMux v0.94'!AB9&" vs "&'RT700 PinMux v0.95'!AB9) | AC9: =IF('RT700 PinMux v0.94'!AC9='RT700 PinMux v0.95'!AC9,"",'RT700 PinMux v0.94'!AC9&" vs "&'RT700 PinMux v0.95'!AC9) | AD9: =IF('RT700 PinMux v0.94'!AD9='RT700 PinMux v0.95'!AD9,"",'RT700 PinMux v0.94'!AD9&" vs "&'RT700 PinMux v0.95'!AD9) | AE9: =IF('RT700 PinMux v0.94'!AE9='RT700 PinMux v0.95'!AE9,"",'RT700 PinMux v0.94'!AE9&" vs "&'RT700 PinMux v0.95'!AE9) | AF9: =IF('RT700 PinMux v0.94'!AF9='RT700 PinMux v0.95'!AF9,"",'RT700 PinMux v0.94'!AF9&" vs "&'RT700 PinMux v0.95'!AF9)
B10: ='RT700 PinMux v0.95'!B10 -> Compute VDD2 | C10: ='RT700 PinMux v0.95'!C10 -> VDDIO | D10: =IF('RT700 PinMux v0.94'!D10='RT700 PinMux v0.95'!D10,"",'RT700 PinMux v0.94'!D10&" vs "&'RT700 PinMux v0.95'!D10) | E10: =IF('RT700 PinMux v0.94'!E10='RT700 PinMux v0.95'!E10,"",'RT700 PinMux v0.94'!E10&" vs "&'RT700 PinMux v0.95'!E10) | F10: =IF('RT700 PinMux v0.94'!F10='RT700 PinMux v0.95'!F10,"",'RT700 PinMux v0.94'!F10&" vs "&'RT700 PinMux v0.95'!F10) | G10: =IF('RT700 PinMux v0.94'!G10='RT700 PinMux v0.95'!G10,"",'RT700 PinMux v0.94'!G10&" vs "&'RT700 PinMux v0.95'!G10) | H10: =IF('RT700 PinMux v0.94'!H10='RT700 PinMux v0.95'!H10,"",'RT700 PinMux v0.94'!H10&" vs "&'RT700 PinMux v0.95'!H10) | I10: =IF('RT700 PinMux v0.94'!I10='RT700 PinMux v0.95'!I10,"",'RT700 PinMux v0.94'!I10&" vs "&'RT700 PinMux v0.95'!I10) | J10: =IF('RT700 PinMux v0.94'!J10='RT700 PinMux v0.95'!J10,"",'RT700 PinMux v0.94'!J10&" vs "&'RT700 PinMux v0.95'!J10) | K10: =IF('RT700 PinMux v0.94'!K10='RT700 PinMux v0.95'!K10,"",'RT700 PinMux v0.94'!K10&" vs "&'RT700 PinMux v0.95'!K10) | ... S10: =IF('RT700 PinMux v0.94'!S10='RT700 PinMux v0.95'!S10,"",'RT700 PinMux v0.94'!S10&" vs "&'RT700 PinMux v0.95'!S10) | AA10: =IF('RT700 PinMux v0.94'!AA10='RT700 PinMux v0.95'!AA10,"",'RT700 PinMux v0.94'!AA10&" vs "&'RT700 PinMux v0.95'!AA10) | AB10: =IF('RT700 PinMux v0.94'!AB10='RT700 PinMux v0.95'!AB10,"",'RT700 PinMux v0.94'!AB10&" vs "&'RT700 PinMux v0.95'!AB10) | AC10: =IF('RT700 PinMux v0.94'!AC10='RT700 PinMux v0.95'!AC10,"",'RT700 PinMux v0.94'!AC10&" vs "&'RT700 PinMux v0.95'!AC10) | AD10: =IF('RT700 PinMux v0.94'!AD10='RT700 PinMux v0.95'!AD10,"",'RT700 PinMux v0.94'!AD10&" vs "&'RT700 PinMux v0.95'!AD10) | AE10: =IF('RT700 PinMux v0.94'!AE10='RT700 PinMux v0.95'!AE10,"",'RT700 PinMux v0.94'!AE10&" vs "&'RT700 PinMux v0.95'!AE10) | AF10: =IF('RT700 PinMux v0.94'!AF10='RT700 PinMux v0.95'!AF10,"",'RT700 PinMux v0.94'!AF10&" vs "&'RT700 PinMux v0.95'!AF10)
B11: ='RT700 PinMux v0.95'!B11 -> Compute VDD2 | C11: ='RT700 PinMux v0.95'!C11 -> VDDIO | D11: =IF('RT700 PinMux v0.94'!D11='RT700 PinMux v0.95'!D11,"",'RT700 PinMux v0.94'!D11&" vs "&'RT700 PinMux v0.95'!D11) | E11: =IF('RT700 PinMux v0.94'!E11='RT700 PinMux v0.95'!E11,"",'RT700 PinMux v0.94'!E11&" vs "&'RT700 PinMux v0.95'!E11) | F11: =IF('RT700 PinMux v0.94'!F11='RT700 PinMux v0.95'!F11,"",'RT700 PinMux v0.94'!F11&" vs "&'RT700 PinMux v0.95'!F11) | G11: =IF('RT700 PinMux v0.94'!G11='RT700 PinMux v0.95'!G11,"",'RT700 PinMux v0.94'!G11&" vs "&'RT700 PinMux v0.95'!G11) | H11: =IF('RT700 PinMux v0.94'!H11='RT700 PinMux v0.95'!H11,"",'RT700 PinMux v0.94'!H11&" vs "&'RT700 PinMux v0.95'!H11) | I11: =IF('RT700 PinMux v0.94'!I11='RT700 PinMux v0.95'!I11,"",'RT700 PinMux v0.94'!I11&" vs "&'RT700 PinMux v0.95'!I11) | J11: =IF('RT700 PinMux v0.94'!J11='RT700 PinMux v0.95'!J11,"",'RT700 PinMux v0.94'!J11&" vs "&'RT700 PinMux v0.95'!J11) | K11: =IF('RT700 PinMux v0.94'!K11='RT700 PinMux v0.95'!K11,"",'RT700 PinMux v0.94'!K11&" vs "&'RT700 PinMux v0.95'!K11) | ... S11: =IF('RT700 PinMux v0.94'!S11='RT700 PinMux v0.95'!S11,"",'RT700 PinMux v0.94'!S11&" vs "&'RT700 PinMux v0.95'!S11) | AA11: =IF('RT700 PinMux v0.94'!AA11='RT700 PinMux v0.95'!AA11,"",'RT700 PinMux v0.94'!AA11&" vs "&'RT700 PinMux v0.95'!AA11) | AB11: =IF('RT700 PinMux v0.94'!AB11='RT700 PinMux v0.95'!AB11,"",'RT700 PinMux v0.94'!AB11&" vs "&'RT700 PinMux v0.95'!AB11) | AC11: =IF('RT700 PinMux v0.94'!AC11='RT700 PinMux v0.95'!AC11,"",'RT700 PinMux v0.94'!AC11&" vs "&'RT700 PinMux v0.95'!AC11) | AD11: =IF('RT700 PinMux v0.94'!AD11='RT700 PinMux v0.95'!AD11,"",'RT700 PinMux v0.94'!AD11&" vs "&'RT700 PinMux v0.95'!AD11) | AE11: =IF('RT700 PinMux v0.94'!AE11='RT700 PinMux v0.95'!AE11,"",'RT700 PinMux v0.94'!AE11&" vs "&'RT700 PinMux v0.95'!AE11) | AF11: =IF('RT700 PinMux v0.94'!AF11='RT700 PinMux v0.95'!AF11,"",'RT700 PinMux v0.94'!AF11&" vs "&'RT700 PinMux v0.95'!AF11)
B12: ='RT700 PinMux v0.95'!B12 -> Compute VDD2 | C12: ='RT700 PinMux v0.95'!C12 -> VDDIO | D12: =IF('RT700 PinMux v0.94'!D12='RT700 PinMux v0.95'!D12,"",'RT700 PinMux v0.94'!D12&" vs "&'RT700 PinMux v0.95'!D12) | E12: =IF('RT700 PinMux v0.94'!E12='RT700 PinMux v0.95'!E12,"",'RT700 PinMux v0.94'!E12&" vs "&'RT700 PinMux v0.95'!E12) | F12: =IF('RT700 PinMux v0.94'!F12='RT700 PinMux v0.95'!F12,"",'RT700 PinMux v0.94'!F12&" vs "&'RT700 PinMux v0.95'!F12) | G12: =IF('RT700 PinMux v0.94'!G12='RT700 PinMux v0.95'!G12,"",'RT700 PinMux v0.94'!G12&" vs "&'RT700 PinMux v0.95'!G12) | H12: =IF('RT700 PinMux v0.94'!H12='RT700 PinMux v0.95'!H12,"",'RT700 PinMux v0.94'!H12&" vs "&'RT700 PinMux v0.95'!H12) | I12: =IF('RT700 PinMux v0.94'!I12='RT700 PinMux v0.95'!I12,"",'RT700 PinMux v0.94'!I12&" vs "&'RT700 PinMux v0.95'!I12) | J12: =IF('RT700 PinMux v0.94'!J12='RT700 PinMux v0.95'!J12,"",'RT700 PinMux v0.94'!J12&" vs "&'RT700 PinMux v0.95'!J12) | K12: =IF('RT700 PinMux v0.94'!K12='RT700 PinMux v0.95'!K12,"",'RT700 PinMux v0.94'!K12&" vs "&'RT700 PinMux v0.95'!K12) | ... S12: =IF('RT700 PinMux v0.94'!S12='RT700 PinMux v0.95'!S12,"",'RT700 PinMux v0.94'!S12&" vs "&'RT700 PinMux v0.95'!S12) | AA12: =IF('RT700 PinMux v0.94'!AA12='RT700 PinMux v0.95'!AA12,"",'RT700 PinMux v0.94'!AA12&" vs "&'RT700 PinMux v0.95'!AA12) | AB12: =IF('RT700 PinMux v0.94'!AB12='RT700 PinMux v0.95'!AB12,"",'RT700 PinMux v0.94'!AB12&" vs "&'RT700 PinMux v0.95'!AB12) | AC12: =IF('RT700 PinMux v0.94'!AC12='RT700 PinMux v0.95'!AC12,"",'RT700 PinMux v0.94'!AC12&" vs "&'RT700 PinMux v0.95'!AC12) | AD12: =IF('RT700 PinMux v0.94'!AD12='RT700 PinMux v0.95'!AD12,"",'RT700 PinMux v0.94'!AD12&" vs "&'RT700 PinMux v0.95'!AD12) | AE12: =IF('RT700 PinMux v0.94'!AE12='RT700 PinMux v0.95'!AE12,"",'RT700 PinMux v0.94'!AE12&" vs "&'RT700 PinMux v0.95'!AE12) | AF12: =IF('RT700 PinMux v0.94'!AF12='RT700 PinMux v0.95'!AF12,"",'RT700 PinMux v0.94'!AF12&" vs "&'RT700 PinMux v0.95'!AF12)
B13: ='RT700 PinMux v0.95'!B13 -> Compute VDD2 | C13: ='RT700 PinMux v0.95'!C13 -> VDDIO | D13: =IF('RT700 PinMux v0.94'!D13='RT700 PinMux v0.95'!D13,"",'RT700 PinMux v0.94'!D13&" vs "&'RT700 PinMux v0.95'!D13) | E13: =IF('RT700 PinMux v0.94'!E13='RT700 PinMux v0.95'!E13,"",'RT700 PinMux v0.94'!E13&" vs "&'RT700 PinMux v0.95'!E13) | F13: =IF('RT700 PinMux v0.94'!F13='RT700 PinMux v0.95'!F13,"",'RT700 PinMux v0.94'!F13&" vs "&'RT700 PinMux v0.95'!F13) | G13: =IF('RT700 PinMux v0.94'!G13='RT700 PinMux v0.95'!G13,"",'RT700 PinMux v0.94'!G13&" vs "&'RT700 PinMux v0.95'!G13) | H13: =IF('RT700 PinMux v0.94'!H13='RT700 PinMux v0.95'!H13,"",'RT700 PinMux v0.94'!H13&" vs "&'RT700 PinMux v0.95'!H13) | I13: =IF('RT700 PinMux v0.94'!I13='RT700 PinMux v0.95'!I13,"",'RT700 PinMux v0.94'!I13&" vs "&'RT700 PinMux v0.95'!I13) | J13: =IF('RT700 PinMux v0.94'!J13='RT700 PinMux v0.95'!J13,"",'RT700 PinMux v0.94'!J13&" vs "&'RT700 PinMux v0.95'!J13) | K13: =IF('RT700 PinMux v0.94'!K13='RT700 PinMux v0.95'!K13,"",'RT700 PinMux v0.94'!K13&" vs "&'RT700 PinMux v0.95'!K13) | ... S13: =IF('RT700 PinMux v0.94'!S13='RT700 PinMux v0.95'!S13,"",'RT700 PinMux v0.94'!S13&" vs "&'RT700 PinMux v0.95'!S13) | AA13: =IF('RT700 PinMux v0.94'!AA13='RT700 PinMux v0.95'!AA13,"",'RT700 PinMux v0.94'!AA13&" vs "&'RT700 PinMux v0.95'!AA13) | AB13: =IF('RT700 PinMux v0.94'!AB13='RT700 PinMux v0.95'!AB13,"",'RT700 PinMux v0.94'!AB13&" vs "&'RT700 PinMux v0.95'!AB13) | AC13: =IF('RT700 PinMux v0.94'!AC13='RT700 PinMux v0.95'!AC13,"",'RT700 PinMux v0.94'!AC13&" vs "&'RT700 PinMux v0.95'!AC13) | AD13: =IF('RT700 PinMux v0.94'!AD13='RT700 PinMux v0.95'!AD13,"",'RT700 PinMux v0.94'!AD13&" vs "&'RT700 PinMux v0.95'!AD13) | AE13: =IF('RT700 PinMux v0.94'!AE13='RT700 PinMux v0.95'!AE13,"",'RT700 PinMux v0.94'!AE13&" vs "&'RT700 PinMux v0.95'!AE13) | AF13: =IF('RT700 PinMux v0.94'!AF13='RT700 PinMux v0.95'!AF13,"",'RT700 PinMux v0.94'!AF13&" vs "&'RT700 PinMux v0.95'!AF13)
B14: ='RT700 PinMux v0.95'!B14 -> Compute VDD2 | C14: ='RT700 PinMux v0.95'!C14 -> VDDIO | D14: =IF('RT700 PinMux v0.94'!D14='RT700 PinMux v0.95'!D14,"",'RT700 PinMux v0.94'!D14&" vs "&'RT700 PinMux v0.95'!D14) | E14: =IF('RT700 PinMux v0.94'!E14='RT700 PinMux v0.95'!E14,"",'RT700 PinMux v0.94'!E14&" vs "&'RT700 PinMux v0.95'!E14) | F14: =IF('RT700 PinMux v0.94'!F14='RT700 PinMux v0.95'!F14,"",'RT700 PinMux v0.94'!F14&" vs "&'RT700 PinMux v0.95'!F14) | G14: =IF('RT700 PinMux v0.94'!G14='RT700 PinMux v0.95'!G14,"",'RT700 PinMux v0.94'!G14&" vs "&'RT700 PinMux v0.95'!G14) | H14: =IF('RT700 PinMux v0.94'!H14='RT700 PinMux v0.95'!H14,"",'RT700 PinMux v0.94'!H14&" vs "&'RT700 PinMux v0.95'!H14) | I14: =IF('RT700 PinMux v0.94'!I14='RT700 PinMux v0.95'!I14,"",'RT700 PinMux v0.94'!I14&" vs "&'RT700 PinMux v0.95'!I14) | J14: =IF('RT700 PinMux v0.94'!J14='RT700 PinMux v0.95'!J14,"",'RT700 PinMux v0.94'!J14&" vs "&'RT700 PinMux v0.95'!J14) | K14: =IF('RT700 PinMux v0.94'!K14='RT700 PinMux v0.95'!K14,"",'RT700 PinMux v0.94'!K14&" vs "&'RT700 PinMux v0.95'!K14) | ... S14: =IF('RT700 PinMux v0.94'!S14='RT700 PinMux v0.95'!S14,"",'RT700 PinMux v0.94'!S14&" vs "&'RT700 PinMux v0.95'!S14) | AA14: =IF('RT700 PinMux v0.94'!AA14='RT700 PinMux v0.95'!AA14,"",'RT700 PinMux v0.94'!AA14&" vs "&'RT700 PinMux v0.95'!AA14) | AB14: =IF('RT700 PinMux v0.94'!AB14='RT700 PinMux v0.95'!AB14,"",'RT700 PinMux v0.94'!AB14&" vs "&'RT700 PinMux v0.95'!AB14) | AC14: =IF('RT700 PinMux v0.94'!AC14='RT700 PinMux v0.95'!AC14,"",'RT700 PinMux v0.94'!AC14&" vs "&'RT700 PinMux v0.95'!AC14) | AD14: =IF('RT700 PinMux v0.94'!AD14='RT700 PinMux v0.95'!AD14,"",'RT700 PinMux v0.94'!AD14&" vs "&'RT700 PinMux v0.95'!AD14) | AE14: =IF('RT700 PinMux v0.94'!AE14='RT700 PinMux v0.95'!AE14,"",'RT700 PinMux v0.94'!AE14&" vs "&'RT700 PinMux v0.95'!AE14) | AF14: =IF('RT700 PinMux v0.94'!AF14='RT700 PinMux v0.95'!AF14,"",'RT700 PinMux v0.94'!AF14&" vs "&'RT700 PinMux v0.95'!AF14)
B15: ='RT700 PinMux v0.95'!B15 -> Compute VDD2 | C15: ='RT700 PinMux v0.95'!C15 -> VDDIO | D15: =IF('RT700 PinMux v0.94'!D15='RT700 PinMux v0.95'!D15,"",'RT700 PinMux v0.94'!D15&" vs "&'RT700 PinMux v0.95'!D15) | E15: =IF('RT700 PinMux v0.94'!E15='RT700 PinMux v0.95'!E15,"",'RT700 PinMux v0.94'!E15&" vs "&'RT700 PinMux v0.95'!E15) | F15: =IF('RT700 PinMux v0.94'!F15='RT700 PinMux v0.95'!F15,"",'RT700 PinMux v0.94'!F15&" vs "&'RT700 PinMux v0.95'!F15) | G15: =IF('RT700 PinMux v0.94'!G15='RT700 PinMux v0.95'!G15,"",'RT700 PinMux v0.94'!G15&" vs "&'RT700 PinMux v0.95'!G15) | H15: =IF('RT700 PinMux v0.94'!H15='RT700 PinMux v0.95'!H15,"",'RT700 PinMux v0.94'!H15&" vs "&'RT700 PinMux v0.95'!H15) | I15: =IF('RT700 PinMux v0.94'!I15='RT700 PinMux v0.95'!I15,"",'RT700 PinMux v0.94'!I15&" vs "&'RT700 PinMux v0.95'!I15) | J15: =IF('RT700 PinMux v0.94'!J15='RT700 PinMux v0.95'!J15,"",'RT700 PinMux v0.94'!J15&" vs "&'RT700 PinMux v0.95'!J15) | K15: =IF('RT700 PinMux v0.94'!K15='RT700 PinMux v0.95'!K15,"",'RT700 PinMux v0.94'!K15&" vs "&'RT700 PinMux v0.95'!K15) | ... S15: =IF('RT700 PinMux v0.94'!S15='RT700 PinMux v0.95'!S15,"",'RT700 PinMux v0.94'!S15&" vs "&'RT700 PinMux v0.95'!S15) | AA15: =IF('RT700 PinMux v0.94'!AA15='RT700 PinMux v0.95'!AA15,"",'RT700 PinMux v0.94'!AA15&" vs "&'RT700 PinMux v0.95'!AA15) | AB15: =IF('RT700 PinMux v0.94'!AB15='RT700 PinMux v0.95'!AB15,"",'RT700 PinMux v0.94'!AB15&" vs "&'RT700 PinMux v0.95'!AB15) | AC15: =IF('RT700 PinMux v0.94'!AC15='RT700 PinMux v0.95'!AC15,"",'RT700 PinMux v0.94'!AC15&" vs "&'RT700 PinMux v0.95'!AC15) | AD15: =IF('RT700 PinMux v0.94'!AD15='RT700 PinMux v0.95'!AD15,"",'RT700 PinMux v0.94'!AD15&" vs "&'RT700 PinMux v0.95'!AD15) | AE15: =IF('RT700 PinMux v0.94'!AE15='RT700 PinMux v0.95'!AE15,"",'RT700 PinMux v0.94'!AE15&" vs "&'RT700 PinMux v0.95'!AE15) | AF15: =IF('RT700 PinMux v0.94'!AF15='RT700 PinMux v0.95'!AF15,"",'RT700 PinMux v0.94'!AF15&" vs "&'RT700 PinMux v0.95'!AF15)
B16: ='RT700 PinMux v0.95'!B16 -> Compute VDD2 | C16: ='RT700 PinMux v0.95'!C16 -> VDDIO | D16: =IF('RT700 PinMux v0.94'!D16='RT700 PinMux v0.95'!D16,"",'RT700 PinMux v0.94'!D16&" vs "&'RT700 PinMux v0.95'!D16) | E16: =IF('RT700 PinMux v0.94'!E16='RT700 PinMux v0.95'!E16,"",'RT700 PinMux v0.94'!E16&" vs "&'RT700 PinMux v0.95'!E16) | F16: =IF('RT700 PinMux v0.94'!F16='RT700 PinMux v0.95'!F16,"",'RT700 PinMux v0.94'!F16&" vs "&'RT700 PinMux v0.95'!F16) | G16: =IF('RT700 PinMux v0.94'!G16='RT700 PinMux v0.95'!G16,"",'RT700 PinMux v0.94'!G16&" vs "&'RT700 PinMux v0.95'!G16) | H16: =IF('RT700 PinMux v0.94'!H16='RT700 PinMux v0.95'!H16,"",'RT700 PinMux v0.94'!H16&" vs "&'RT700 PinMux v0.95'!H16) | I16: =IF('RT700 PinMux v0.94'!I16='RT700 PinMux v0.95'!I16,"",'RT700 PinMux v0.94'!I16&" vs "&'RT700 PinMux v0.95'!I16) | J16: =IF('RT700 PinMux v0.94'!J16='RT700 PinMux v0.95'!J16,"",'RT700 PinMux v0.94'!J16&" vs "&'RT700 PinMux v0.95'!J16) | K16: =IF('RT700 PinMux v0.94'!K16='RT700 PinMux v0.95'!K16,"",'RT700 PinMux v0.94'!K16&" vs "&'RT700 PinMux v0.95'!K16) | ... S16: =IF('RT700 PinMux v0.94'!S16='RT700 PinMux v0.95'!S16,"",'RT700 PinMux v0.94'!S16&" vs "&'RT700 PinMux v0.95'!S16) | AA16: =IF('RT700 PinMux v0.94'!AA16='RT700 PinMux v0.95'!AA16,"",'RT700 PinMux v0.94'!AA16&" vs "&'RT700 PinMux v0.95'!AA16) | AB16: =IF('RT700 PinMux v0.94'!AB16='RT700 PinMux v0.95'!AB16,"",'RT700 PinMux v0.94'!AB16&" vs "&'RT700 PinMux v0.95'!AB16) | AC16: =IF('RT700 PinMux v0.94'!AC16='RT700 PinMux v0.95'!AC16,"",'RT700 PinMux v0.94'!AC16&" vs "&'RT700 PinMux v0.95'!AC16) | AD16: =IF('RT700 PinMux v0.94'!AD16='RT700 PinMux v0.95'!AD16,"",'RT700 PinMux v0.94'!AD16&" vs "&'RT700 PinMux v0.95'!AD16) | AE16: =IF('RT700 PinMux v0.94'!AE16='RT700 PinMux v0.95'!AE16,"",'RT700 PinMux v0.94'!AE16&" vs "&'RT700 PinMux v0.95'!AE16) | AF16: =IF('RT700 PinMux v0.94'!AF16='RT700 PinMux v0.95'!AF16,"",'RT700 PinMux v0.94'!AF16&" vs "&'RT700 PinMux v0.95'!AF16)
B17: ='RT700 PinMux v0.95'!B17 -> Compute VDD2 | C17: ='RT700 PinMux v0.95'!C17 -> VDDIO | D17: =IF('RT700 PinMux v0.94'!D17='RT700 PinMux v0.95'!D17,"",'RT700 PinMux v0.94'!D17&" vs "&'RT700 PinMux v0.95'!D17) | E17: =IF('RT700 PinMux v0.94'!E17='RT700 PinMux v0.95'!E17,"",'RT700 PinMux v0.94'!E17&" vs "&'RT700 PinMux v0.95'!E17) | F17: =IF('RT700 PinMux v0.94'!F17='RT700 PinMux v0.95'!F17,"",'RT700 PinMux v0.94'!F17&" vs "&'RT700 PinMux v0.95'!F17) | G17: =IF('RT700 PinMux v0.94'!G17='RT700 PinMux v0.95'!G17,"",'RT700 PinMux v0.94'!G17&" vs "&'RT700 PinMux v0.95'!G17) | H17: =IF('RT700 PinMux v0.94'!H17='RT700 PinMux v0.95'!H17,"",'RT700 PinMux v0.94'!H17&" vs "&'RT700 PinMux v0.95'!H17) | I17: =IF('RT700 PinMux v0.94'!I17='RT700 PinMux v0.95'!I17,"",'RT700 PinMux v0.94'!I17&" vs "&'RT700 PinMux v0.95'!I17) | J17: =IF('RT700 PinMux v0.94'!J17='RT700 PinMux v0.95'!J17,"",'RT700 PinMux v0.94'!J17&" vs "&'RT700 PinMux v0.95'!J17) -> vs x | K17: =IF('RT700 PinMux v0.94'!K17='RT700 PinMux v0.95'!K17,"",'RT700 PinMux v0.94'!K17&" vs "&'RT700 PinMux v0.95'!K17) | ... S17: =IF('RT700 PinMux v0.94'!S17='RT700 PinMux v0.95'!S17,"",'RT700 PinMux v0.94'!S17&" vs "&'RT700 PinMux v0.95'!S17) | AA17: =IF('RT700 PinMux v0.94'!AA17='RT700 PinMux v0.95'!AA17,"",'RT700 PinMux v0.94'!AA17&" vs "&'RT700 PinMux v0.95'!AA17) | AB17: =IF('RT700 PinMux v0.94'!AB17='RT700 PinMux v0.95'!AB17,"",'RT700 PinMux v0.94'!AB17&" vs "&'RT700 PinMux v0.95'!AB17) | AC17: =IF('RT700 PinMux v0.94'!AC17='RT700 PinMux v0.95'!AC17,"",'RT700 PinMux v0.94'!AC17&" vs "&'RT700 PinMux v0.95'!AC17) | AD17: =IF('RT700 PinMux v0.94'!AD17='RT700 PinMux v0.95'!AD17,"",'RT700 PinMux v0.94'!AD17&" vs "&'RT700 PinMux v0.95'!AD17) | AE17: =IF('RT700 PinMux v0.94'!AE17='RT700 PinMux v0.95'!AE17,"",'RT700 PinMux v0.94'!AE17&" vs "&'RT700 PinMux v0.95'!AE17) | AF17: =IF('RT700 PinMux v0.94'!AF17='RT700 PinMux v0.95'!AF17,"",'RT700 PinMux v0.94'!AF17&" vs "&'RT700 PinMux v0.95'!AF17)
B18: ='RT700 PinMux v0.95'!B18 -> Compute VDD2 | C18: ='RT700 PinMux v0.95'!C18 -> VDDIO | D18: =IF('RT700 PinMux v0.94'!D18='RT700 PinMux v0.95'!D18,"",'RT700 PinMux v0.94'!D18&" vs "&'RT700 PinMux v0.95'!D18) | E18: =IF('RT700 PinMux v0.94'!E18='RT700 PinMux v0.95'!E18,"",'RT700 PinMux v0.94'!E18&" vs "&'RT700 PinMux v0.95'!E18) | F18: =IF('RT700 PinMux v0.94'!F18='RT700 PinMux v0.95'!F18,"",'RT700 PinMux v0.94'!F18&" vs "&'RT700 PinMux v0.95'!F18) | G18: =IF('RT700 PinMux v0.94'!G18='RT700 PinMux v0.95'!G18,"",'RT700 PinMux v0.94'!G18&" vs "&'RT700 PinMux v0.95'!G18) | H18: =IF('RT700 PinMux v0.94'!H18='RT700 PinMux v0.95'!H18,"",'RT700 PinMux v0.94'!H18&" vs "&'RT700 PinMux v0.95'!H18) | I18: =IF('RT700 PinMux v0.94'!I18='RT700 PinMux v0.95'!I18,"",'RT700 PinMux v0.94'!I18&" vs "&'RT700 PinMux v0.95'!I18) | J18: =IF('RT700 PinMux v0.94'!J18='RT700 PinMux v0.95'!J18,"",'RT700 PinMux v0.94'!J18&" vs "&'RT700 PinMux v0.95'!J18) | K18: =IF('RT700 PinMux v0.94'!K18='RT700 PinMux v0.95'!K18,"",'RT700 PinMux v0.94'!K18&" vs "&'RT700 PinMux v0.95'!K18) | ... S18: =IF('RT700 PinMux v0.94'!S18='RT700 PinMux v0.95'!S18,"",'RT700 PinMux v0.94'!S18&" vs "&'RT700 PinMux v0.95'!S18) | AA18: =IF('RT700 PinMux v0.94'!AA18='RT700 PinMux v0.95'!AA18,"",'RT700 PinMux v0.94'!AA18&" vs "&'RT700 PinMux v0.95'!AA18) | AB18: =IF('RT700 PinMux v0.94'!AB18='RT700 PinMux v0.95'!AB18,"",'RT700 PinMux v0.94'!AB18&" vs "&'RT700 PinMux v0.95'!AB18) | AC18: =IF('RT700 PinMux v0.94'!AC18='RT700 PinMux v0.95'!AC18,"",'RT700 PinMux v0.94'!AC18&" vs "&'RT700 PinMux v0.95'!AC18) | AD18: =IF('RT700 PinMux v0.94'!AD18='RT700 PinMux v0.95'!AD18,"",'RT700 PinMux v0.94'!AD18&" vs "&'RT700 PinMux v0.95'!AD18) | AE18: =IF('RT700 PinMux v0.94'!AE18='RT700 PinMux v0.95'!AE18,"",'RT700 PinMux v0.94'!AE18&" vs "&'RT700 PinMux v0.95'!AE18) | AF18: =IF('RT700 PinMux v0.94'!AF18='RT700 PinMux v0.95'!AF18,"",'RT700 PinMux v0.94'!AF18&" vs "&'RT700 PinMux v0.95'!AF18)
B19: ='RT700 PinMux v0.95'!B19 -> Compute VDD2 | C19: ='RT700 PinMux v0.95'!C19 -> VDDIO | D19: =IF('RT700 PinMux v0.94'!D19='RT700 PinMux v0.95'!D19,"",'RT700 PinMux v0.94'!D19&" vs "&'RT700 PinMux v0.95'!D19) | E19: =IF('RT700 PinMux v0.94'!E19='RT700 PinMux v0.95'!E19,"",'RT700 PinMux v0.94'!E19&" vs "&'RT700 PinMux v0.95'!E19) | F19: =IF('RT700 PinMux v0.94'!F19='RT700 PinMux v0.95'!F19,"",'RT700 PinMux v0.94'!F19&" vs "&'RT700 PinMux v0.95'!F19) | G19: =IF('RT700 PinMux v0.94'!G19='RT700 PinMux v0.95'!G19,"",'RT700 PinMux v0.94'!G19&" vs "&'RT700 PinMux v0.95'!G19) | H19: =IF('RT700 PinMux v0.94'!H19='RT700 PinMux v0.95'!H19,"",'RT700 PinMux v0.94'!H19&" vs "&'RT700 PinMux v0.95'!H19) | I19: =IF('RT700 PinMux v0.94'!I19='RT700 PinMux v0.95'!I19,"",'RT700 PinMux v0.94'!I19&" vs "&'RT700 PinMux v0.95'!I19) | J19: =IF('RT700 PinMux v0.94'!J19='RT700 PinMux v0.95'!J19,"",'RT700 PinMux v0.94'!J19&" vs "&'RT700 PinMux v0.95'!J19) | K19: =IF('RT700 PinMux v0.94'!K19='RT700 PinMux v0.95'!K19,"",'RT700 PinMux v0.94'!K19&" vs "&'RT700 PinMux v0.95'!K19) | ... S19: =IF('RT700 PinMux v0.94'!S19='RT700 PinMux v0.95'!S19,"",'RT700 PinMux v0.94'!S19&" vs "&'RT700 PinMux v0.95'!S19) | AA19: =IF('RT700 PinMux v0.94'!AA19='RT700 PinMux v0.95'!AA19,"",'RT700 PinMux v0.94'!AA19&" vs "&'RT700 PinMux v0.95'!AA19) | AB19: =IF('RT700 PinMux v0.94'!AB19='RT700 PinMux v0.95'!AB19,"",'RT700 PinMux v0.94'!AB19&" vs "&'RT700 PinMux v0.95'!AB19) | AC19: =IF('RT700 PinMux v0.94'!AC19='RT700 PinMux v0.95'!AC19,"",'RT700 PinMux v0.94'!AC19&" vs "&'RT700 PinMux v0.95'!AC19) | AD19: =IF('RT700 PinMux v0.94'!AD19='RT700 PinMux v0.95'!AD19,"",'RT700 PinMux v0.94'!AD19&" vs "&'RT700 PinMux v0.95'!AD19) | AE19: =IF('RT700 PinMux v0.94'!AE19='RT700 PinMux v0.95'!AE19,"",'RT700 PinMux v0.94'!AE19&" vs "&'RT700 PinMux v0.95'!AE19) | AF19: =IF('RT700 PinMux v0.94'!AF19='RT700 PinMux v0.95'!AF19,"",'RT700 PinMux v0.94'!AF19&" vs "&'RT700 PinMux v0.95'!AF19)
