Workbook
Name CUST_LOOKUP: #REF!
Name CUST_LOOKUP: #REF!
Name CUST_LOOKUP: #REF!
Name CUSTNAME_TO_NETNAME: #REF!
Name CUSTNAME_TO_NETNAME: #REF!
Name CUSTNAME_TO_NETNAME: #REF!
Name Directions: [1]Extras!$A$2:$A$5
Name FirstOccur: #REF!
Name FirstOccur: #REF!
Name FirstOccur: #REF!
Name FirstOccur: #REF!
Name Functional_Categories: #REF!
Name NETLIST: #REF!
Name NETNAME_LOOKUP: #REF!
Name PINMUX: 'RT700 PinMux v0.94'!$L$7:$AD$296
Name PINMUX: 'RT700 PinMux v0.95'!$L$7:$AD$296
Name PINMUX: 'v0.94 vs v0.95'!$L$7:$AD$296
Name PINMUX: #REF!
Name PreTrigVals: [2]lookup!$A$2:$A$4
Name TriggerInputs: [2]Groupings!$B$3:$B$9
Name TriggerOutputs: [2]Groupings!$D$3:$D$9
Name VDD_VSS_LOOKUP: #REF!

Sheet RT700 PinMux v0.95
B1: RT700 Pin Function Planning | G1: Pin count summary:
G2: =COUNTIF(G8:G262,"x") -> 120 | H2: =COUNTIF(H8:H262,"x") -> 160 | I2: =COUNTIF(I8:I262,"x") -> 160 | J2: =COUNTIF(J8:J262,"x") -> 195 | K2: =COUNTIF(K8:K262,"x") -> 217 | L2: : GPIOs/functional pins | N2: Internal power rails that include peripherals with pin functions: | Q2: External I/O power rails:
C3: : in "Fn" columns, added pin functions for this revision. | G3: =COUNTIF(G237:G262,"d") -> 20 | H3: =COUNTIF(H237:H262,"d") -> 19 | I3: =COUNTIF(I237:I262,"d") -> 15 | J3: =COUNTIF(J237:J262,"d") -> 21 | K3: =COUNTIF(K237:K262,"d") -> 23 | L3: : Dedicated pins | N3: Compute VDD2 , Media VDD2 | O3: Compute & Media domains | Q3: VDDIO | R3: 1.8 V
G4: =SUM(G265:G306) -> 0 | H4: =SUM(H265:H306) -> 77 | I4: =SUM(I265:I306) -> 0 | J4: =SUM(J265:J306) -> 104 | K4: =SUM(K265:K306) -> 0 | L4: : Power | N4: Sense VDD1 | O4: Sense domain | Q4: VDDIO_4, 5, 6 | R4: 1.2V or 1.8V
G5: tbd | H5: =SUM(H2:H4) -> 256 | I5: tbd | J5: =SUM(J2:J4) -> 320 | K5: tbd | L5: : Total pins (including power) | N5: VDDN | O5: Media subset + clock sources | Q5: VDDIO_2 | R5: 3V tolerant (FLEXIO pads only) | AE5: updated
D6: =COUNTIF(D8:D262,"<>") -> 149 | E6: =COUNTIF(E8:E262,"<>") -> 194 | F6: =COUNTIF(F8:F262,"<>") -> 140 | G6: 184 | I6: 256 | K6: =361-K4 -> 361 | AE6: 221018
B7: Internal domain | C7: Pad VDD | D7: Use Case 1 (WLCSP) | E7: Use Case 2 (WLCSP) | F7: Use case (BGA184) | G7: BGA 184 | H7: WLCSP 256 | I7: WLCSP ALT | J7: FOWLP 324 | K7: BGA 361 | L7: Fn0 | M7: Fn1 | N7: Fn2 | O7: Fn3 | P7: Fn4 | Q7: Fn5 | R7: Fn6 | S7: Fn7 | T7: Fn8 | U7: Fn9 | V7: Fn10 | W7: Fn11 | X7: Fn12 | Y7: Fn 13 | Z7: Fn 14 | AA7: FN15 | AB7: Other Pin Uses | AC7: Pad/Bondout Info | AD7: On all pkgs | AE7: Required for test | AF7: Superset of WLCSPs
B8: Compute VDD2 | C8: VDDIO | D8: UART (Debug) | E8: HMI, Haptic | F8: HMI, Haptic | G8: x | H8: x | I8: x | J8: x | K8: x | L8: PIO0_0 | M8: FC8_P2 | N8: SCT0_GPIn0 | O8: SCT0_OUT0 | P8: CT_C_INP9 | Q8: SAI0_RX_BCLK | R8: SAI1_TX_BCLK | AA8: mod_debug_out[0] | AD8: =IF(AND(G8<>"",H8<>"",I8<>"",J8<>"",K8<>""),1,0) -> 1 | AE8: y | AF8: =IF(OR(H8<>"",I8<>""),1,0) -> 1
B9: Compute VDD2 | C9: VDDIO | D9: UART (Debug) | E9: HMI, Haptic | F9: HMI, Haptic | G9: x | H9: x | I9: x | J9: x | K9: x | L9: PIO0_1 | M9: FC8_P3 | N9: SCT0_GPIn1 | O9: SCT0_OUT1 | P9: CT0_MAT0 | Q9: SAI0_RX_SYNC | R9: SAI1_RX_DATA | AA9: mod_debug_out[1] | AD9: =IF(AND(G9<>"",H9<>"",I9<>"",J9<>"",K9<>""),1,0) -> 1 | AE9: y | AF9: =IF(OR(H9<>"",I9<>""),1,0) -> 1
B10: Compute VDD2 | C10: VDDIO | D10: GPIO (AUDIO) | E10: HMI, Haptic GPIO | F10: GPIO | G10: x | H10: x | I10: x | J10: x | K10: x | L10: PIO0_2 | M10: FC8_P4 | N10: SCT0_GPIn2 | O10: SCT0_OUT2 | P10: CT0_MAT1 | Q10: SAI0_RX_DATA | S10: FC9_P0 | AA10: mod_debug_out[2] | AD10: =IF(AND(G10<>"",H10<>"",I10<>"",J10<>"",K10<>""),1,0) -> 1 | AE10: y | AF10: =IF(OR(H10<>"",I10<>""),1,0) -> 1
B11: Compute VDD2 | C11: VDDIO | D11: I2S OUT | E11: HMI, Display Sensor | F11: GPIO | G11: x | H11: x | I11: x | J11: x | K11: x | L11: PIO0_3 | M11: FC4_P0 | N11: SCT0_GPIn3 | O11: SCT0_OUT3 | P11: CT0_MAT2 | Q11: SAI0_TX_BCLK | AA11: mod_debug_out[3] | AD11: =IF(AND(G11<>"",H11<>"",I11<>"",J11<>"",K11<>""),1,0) -> 1 | AE11: y | AF11: =IF(OR(H11<>"",I11<>""),1,0) -> 1
B12: Compute VDD2 | C12: VDDIO | D12: I2S OUT | E12: HMI, Display Sensor | F12: GPIO | G12: x | H12: x | I12: x | J12: x | K12: x | L12: PIO0_4 | M12: FC4_P1 | N12: SCT0_GPIn4 | O12: SCT0_OUT4 | P12: CT0_MAT3 | Q12: SAI0_TX_DATA | AA12: mod_debug_out[4] | AD12: =IF(AND(G12<>"",H12<>"",I12<>"",J12<>"",K12<>""),1,0) -> 1 | AE12: y | AF12: =IF(OR(H12<>"",I12<>""),1,0) -> 1
B13: Compute VDD2 | C13: VDDIO | D13: I2S OUT | E13: GPIO (HMI, Disp Sensor) | F13: GPIO | G13: x | H13: x | I13: x | J13: x | K13: x | L13: PIO0_5 | M13: FC4_P4 | N13: SCT0_GPIn5 | O13: SCT0_OUT5 | P13: CT2_MAT0 | Q13: SAI0_TX_SYNC | R13: MCLK | S13: FC9_P1 | AA13: mod_debug_out[5] | AD13: =IF(AND(G13<>"",H13<>"",I13<>"",J13<>"",K13<>""),1,0) -> 1 | AE13: y | AF13: =IF(OR(H13<>"",I13<>""),1,0) -> 1
B14: Compute VDD2 | C14: VDDIO | H14: x | I14: x | J14: x | K14: x | L14: PIO0_6 | M14: FC4_P2 | N14: SCT0_GPIn6 | O14: SCT0_OUT6 | P14: CT_C_INP10 | Q14: FC8_P0 | AD14: =IF(AND(G14<>"",H14<>"",I14<>"",J14<>"",K14<>""),1,0) -> 0 | AF14: =IF(OR(H14<>"",I14<>""),1,0) -> 1
B15: Compute VDD2 | C15: VDDIO | H15: x | I15: x | J15: x | K15: x | L15: PIO0_7 | M15: FC4_P3 | N15: SCT0_GPIn7 | O15: SCT0_OUT7 | P15: CT_C_INP11 | Q15: FC8_P1 | AD15: =IF(AND(G15<>"",H15<>"",I15<>"",J15<>"",K15<>""),1,0) -> 0 | AF15: =IF(OR(H15<>"",I15<>""),1,0) -> 1
B16: Compute VDD2 | C16: VDDIO | K16: x | L16: PIO0_8 | M16: FC4_P5 | N16: SCT0_GPIn0 | O16: SCT0_OUT0 | P16: CT_C_INP1 | R16: 32KHZ_CLKOUT | AD16: =IF(AND(G16<>"",H16<>"",I16<>"",J16<>"",K16<>""),1,0) -> 0 | AF16: =IF(OR(H16<>"",I16<>""),1,0) -> 0
B17: Compute VDD2 | C17: VDDIO | J17: x | K17: x | L17: PIO0_9 | M17: FC4_P6 | N17: SCT0_GPIn1 | O17: SCT0_OUT1 | P17: CT0_MAT0 | Q17: FC1_P5 | AD17: =IF(AND(G17<>"",H17<>"",I17<>"",J17<>"",K17<>""),1,0) -> 0 | AF17: =IF(OR(H17<>"",I17<>""),1,0) -> 0
B18: Compute VDD2 | C18: VDDIO | D18: HS UART (BT) | E18: HMI, Screen Touch | F18: HMI, Screen Touch | G18: x | H18: x | I18: x | J18: x | K18: x | L18: PIO0_10 | M18: FC5_P0 | N18: SCT0_GPIn4 | O18: SCT0_OUT4 | P18: CT1_MAT0 | Q18: CT_C_INP0 | R18: SAI2_RX_DATA | AA18: mod_debug_out[6] | AD18: =IF(AND(G18<>"",H18<>"",I18<>"",J18<>"",K18<>""),1,0) -> 1 | AE18: y | AF18: =IF(OR(H18<>"",I18<>""),1,0) -> 1
B19: Compute VDD2 | C19: VDDIO | D19: HS UART (BT) | E19: HMI, Screen Touch | F19: HMI, Screen Touch | G19: x | H19: x | I19: x | J19: x | K19: x | L19: PIO0_11 | M19: FC5_P1 | N19: SCT0_GPIn5 | O19: SCT0_OUT5 | P19: CT1_MAT1 | Q19: SAI2_TX_BCLK | AA19: mod_debug_out[7] | AD19: =IF(AND(G19<>"",H19<>"",I19<>"",J19<>"",K19<>""),1,0) -> 1 | AE19: y | AF19: =IF(OR(H19<>"",I19<>""),1,0) -> 1
B20: Compute VDD2 | C20: VDDIO | D20: HS UART (BT) | E20: HMI, Screen Touch | F20: HMI, Screen Touch GPIO | G20: x | H20: x | I20: x | J20: x | K20: x | L20: PIO0_12 | M20: FC5_P2 | N20: SCT0_GPIn6 | O20: SCT0_OUT6 | P20: CT1_MAT2 | Q20: SAI2_TX_DATA | AA20: mod_debug_out[8] | AD20: =IF(AND(G20<>"",H20<>"",I20<>"",J20<>"",K20<>""),1,0) -> 1 | AE20: y | AF20: =IF(OR(H20<>"",I20<>""),1,0) -> 1
B21: Compute VDD2 | C21: VDDIO | D21: HS UART (BT) | E21: HMI, Screen Touch | H21: x | I21: x | J21: x | K21: x | L21: PIO0_13 | M21: FC5_P3 | N21: SCT0_GPIn7 | O21: SCT0_OUT7 | P21: CT1_MAT3 | Q21: SAI2_TX_SYNC | AD21: =IF(AND(G21<>"",H21<>"",I21<>"",J21<>"",K21<>""),1,0) -> 0 | AF21: =IF(OR(H21<>"",I21<>""),1,0) -> 1
B22: Compute VDD2 | C22: VDDIO | D22: GPIO (AUDIO) | E22: GPIO | H22: x | I22: x | J22: x | K22: x | L22: PIO0_14 | M22: FC5_P4 | N22: SCT0_GPIn0 | O22: SCT0_OUT8 | P22: CT_C_INP2 | Q22: SAI2_RX_DATA | R22: CLKOUT | AD22: =IF(AND(G22<>"",H22<>"",I22<>"",J22<>"",K22<>""),1,0) -> 0 | AF22: =IF(OR(H22<>"",I22<>""),1,0) -> 1
B23: Compute VDD2 | C23: VDDIO | J23: x | K23: x | L23: PIO0_15 | M23: FC5_P5 | N23: SCT0_GPIn2 | O23: SCT0_OUT2 | P23: CT_C_INP3 | Q23: SAI2_RX_BCLK | R23: FC2_P5 | AD23: =IF(AND(G23<>"",H23<>"",I23<>"",J23<>"",K23<>""),1,0) -> 0 | AF23: =IF(OR(H23<>"",I23<>""),1,0) -> 0
B24: Compute VDD2 | C24: VDDIO | J24: x | K24: x | L24: PIO0_16 | M24: FC5_P6 | N24: SCT0_GPIn3 | O24: SCT0_OUT3 | P24: CT0_MAT1 | Q24: SAI2_RX_SYNC | R24: FC2_P6 | AD24: =IF(AND(G24<>"",H24<>"",I24<>"",J24<>"",K24<>""),1,0) -> 0 | AF24: =IF(OR(H24<>"",I24<>""),1,0) -> 0
B25: Compute VDD2 | C25: VDDIO | E25: Biosensor, PPG | F25: Biosensor, PPG | G25: x | J25: x | K25: x | L25: PIO0_17 | M25: FC6_P5 | N25: SCT0_GPIn0 | O25: SCT0_OUT0 | P25: CT2_MAT0 | Q25: SAI1_RX_BCLK | AD25: =IF(AND(G25<>"",H25<>"",I25<>"",J25<>"",K25<>""),1,0) -> 0 | AF25: =IF(OR(H25<>"",I25<>""),1,0) -> 0
B26: Compute VDD2 | C26: VDDIO | E26: Biosensor, PPG | F26: Biosensor, PPG | G26: x | J26: x | K26: x | L26: PIO0_18 | M26: FC6_P6 | N26: SCT0_GPIn1 | O26: SCT0_OUT1 | P26: CT2_MAT1 | Q26: SAI1_RX_DATA | AD26: =IF(AND(G26<>"",H26<>"",I26<>"",J26<>"",K26<>""),1,0) -> 0 | AF26: =IF(OR(H26<>"",I26<>""),1,0) -> 0
B27: Compute VDD2 | C27: VDDIO | E27: Biosensor, PPG | F27: Biosensor, PPG | G27: x | H27: x | J27: x | K27: x | L27: PIO0_19 | M27: FC6_P2 | N27: SCT0_GPIn2 | O27: SCT0_OUT2 | P27: CT2_MAT2 | Q27: SAI1_RX_SYNC | AD27: =IF(AND(G27<>"",H27<>"",I27<>"",J27<>"",K27<>""),1,0) -> 0 | AF27: =IF(OR(H27<>"",I27<>""),1,0) -> 1
B28: Compute VDD2 | C28: VDDIO | E28: Biosensor, PPG | F28: Biosensor, PPG | G28: x | H28: x | J28: x | K28: x | L28: PIO0_20 | M28: FC6_P3 | N28: SCT0_GPIn3 | O28: SCT0_OUT3 | P28: CT2_MAT3 | Q28: SAI1_TX_BCLK | AD28: =IF(AND(G28<>"",H28<>"",I28<>"",J28<>"",K28<>""),1,0) -> 0 | AF28: =IF(OR(H28<>"",I28<>""),1,0) -> 1
B29: Compute VDD2 | C29: VDDIO | D29: GPIO (NFC) | E29: GPIO | F29: GPIO (Biosensor, PPG) | G29: x | H29: x | I29: x | J29: x | K29: x | L29: PIO0_21 | M29: FC6_P0 | N29: SCT0_GPIn6 | O29: SCT0_OUT6 | P29: CT_C_INP4 | Q29: SAI1_TX_DATA | R29: MCLK | AA29: mod_debug_out[9] | AD29: =IF(AND(G29<>"",H29<>"",I29<>"",J29<>"",K29<>""),1,0) -> 1 | AE29: y | AF29: =IF(OR(H29<>"",I29<>""),1,0) -> 1
B30: Compute VDD2 | C30: VDDIO | D30: CLKOUT | E30: GPIO | F30: GPIO (Biosensor, PPG) | G30: x | H30: x | I30: x | J30: x | K30: x | L30: PIO0_22 | M30: FC6_P1 | N30: SCT0_GPIn4 | O30: SCT0_OUT4 | P30: CT_C_INP5 | Q30: SAI1_TX_SYNC | R30: CLKOUT | AA30: mod_debug_out[10] | AD30: =IF(AND(G30<>"",H30<>"",I30<>"",J30<>"",K30<>""),1,0) -> 1 | AE30: y | AF30: =IF(OR(H30<>"",I30<>""),1,0) -> 1
B31: Compute VDD2 | C31: VDDIO | E31: GPIO | F31: GPIO | G31: x | K31: x | L31: PIO0_23 | M31: FC6_P4 | N31: SCT0_GPIn5 | O31: SCT0_OUT5 | P31: CT0_MAT2 | Q31: CLKIN | AD31: =IF(AND(G31<>"",H31<>"",I31<>"",J31<>"",K31<>""),1,0) -> 0 | AF31: =IF(OR(H31<>"",I31<>""),1,0) -> 0
B32: Compute VDD2 | C32: VDDIO | E32: Biosensor, GSR | F32: Biosensor, GSR | G32: x | K32: x | L32: PIO0_24 | M32: FC7_P0 | N32: SCT0_GPIn5 | O32: SCT0_OUT5 | P32: CT3_MAT0 | Q32: CT_C_INP12 | AD32: =IF(AND(G32<>"",H32<>"",I32<>"",J32<>"",K32<>""),1,0) -> 0 | AF32: =IF(OR(H32<>"",I32<>""),1,0) -> 0
B33: Compute VDD2 | C33: VDDIO | E33: Biosensor, GSR | F33: Biosensor, GSR | G33: x | K33: x | L33: PIO0_25 | M33: FC7_P1 | N33: SCT0_GPIn6 | O33: SCT0_OUT6 | P33: CT3_MAT1 | Q33: CT_C_INP13 | AD33: =IF(AND(G33<>"",H33<>"",I33<>"",J33<>"",K33<>""),1,0) -> 0 | AF33: =IF(OR(H33<>"",I33<>""),1,0) -> 0
B34: Compute VDD2 | C34: VDDIO | E34: GPIO | F34: GPIO (GSR) | G34: x | K34: x | L34: PIO0_26 | M34: FC7_P2 | N34: SCT0_GPIn7 | O34: SCT0_OUT8 | P34: CT3_MAT2 | Q34: CT_C_INP14 | AD34: =IF(AND(G34<>"",H34<>"",I34<>"",J34<>"",K34<>""),1,0) -> 0 | AF34: =IF(OR(H34<>"",I34<>""),1,0) -> 0
B35: Compute VDD2 | C35: VDDIO | E35: GPIO | K35: x | L35: PIO0_27 | M35: FC7_P3 | N35: SCT0_GPIn2 | O35: SCT0_OUT9 | P35: CT3_MAT3 | Q35: FC9_P0 | AD35: =IF(AND(G35<>"",H35<>"",I35<>"",J35<>"",K35<>""),1,0) -> 0 | AF35: =IF(OR(H35<>"",I35<>""),1,0) -> 0
B36: Compute VDD2 | C36: VDDIO | K36: x | L36: PIO0_28 | M36: FC7_P4 | N36: UTICK0_CAP0 | O36: FREQME_GPIO_A_CLK | P36: CT_C_INP6 | Q36: FC9_P1 | AD36: =IF(AND(G36<>"",H36<>"",I36<>"",J36<>"",K36<>""),1,0) -> 0 | AF36: =IF(OR(H36<>"",I36<>""),1,0) -> 0
B37: Compute VDD2 | C37: VDDIO | K37: x | L37: PIO0_29 | M37: FC7_P5 | N37: SCT0_GPIn6 | O37: SCT0_OUT6 | P37: CT_C_INP7 | Q37: FC9_P2 | AD37: =IF(AND(G37<>"",H37<>"",I37<>"",J37<>"",K37<>""),1,0) -> 0 | AF37: =IF(OR(H37<>"",I37<>""),1,0) -> 0
B38: Compute VDD2 | C38: VDDIO | K38: x | L38: PIO0_30 | M38: FC7_P6 | N38: SCT0_GPIn7 | O38: SCT0_OUT7 | P38: CT0_MAT3 | Q38: CLKOUT | R38: FC1_P6 | AD38: =IF(AND(G38<>"",H38<>"",I38<>"",J38<>"",K38<>""),1,0) -> 0 | AF38: =IF(OR(H38<>"",I38<>""),1,0) -> 0
B39: Compute VDD2 | C39: VDDIO | E39: Temp Sensor | F39: Temp Sensor | G39: x | H39: x | I39: x | J39: x | K39: x | L39: PIO0_31 | M39: FC0_P0 | N39: UTICK0_CAP2 | O39: SCT0_OUT8 | P39: CT4_MAT0 | AB39: UART boot | AD39: =IF(AND(G39<>"",H39<>"",I39<>"",J39<>"",K39<>""),1,0) -> 1 | AF39: =IF(OR(H39<>"",I39<>""),1,0) -> 1
B40: Compute VDD2 | C40: VDDIO | E40: Temp Sensor | F40: Temp Sensor | G40: x | H40: x | I40: x | J40: x | K40: x | L40: PIO1_0 | M40: FC0_P1 | O40: SCT0_OUT9 | P40: CT4_MAT1 | AB40: UART boot | AD40: =IF(AND(G40<>"",H40<>"",I40<>"",J40<>"",K40<>""),1,0) -> 1 | AF40: =IF(OR(H40<>"",I40<>""),1,0) -> 1
B41: Compute VDD2 | C41: VDDIO | E41: GPIO | F41: Temp Sensor GPIO | G41: x | K41: x | L41: PIO1_1 | M41: FC0_P2 | P41: CT4_MAT2 | Q41: CT_C_INP15 | AD41: =IF(AND(G41<>"",H41<>"",I41<>"",J41<>"",K41<>""),1,0) -> 0 | AF41: =IF(OR(H41<>"",I41<>""),1,0) -> 0
B42: Compute VDD2 | C42: VDDIO | E42: GPIO | J42: x | K42: x | L42: PIO1_2 | M42: FC0_P3 | N42: SCT0_GPIn0 | O42: SCT0_OUT6 | P42: CT4_MAT3 | Q42: FC9_P5 | R42: CLKOUT | AD42: =IF(AND(G42<>"",H42<>"",I42<>"",J42<>"",K42<>""),1,0) -> 0 | AF42: =IF(OR(H42<>"",I42<>""),1,0) -> 0
B43: Compute VDD2 | C43: VDDIO | J43: x | K43: x | L43: PIO1_3 | M43: FC0_P4 | N43: SCT0_GPIn1 | O43: SCT0_OUT7 | P43: CT_C_INP8 | Q43: FC9_P6 | R43: 32KHZ_CLKOUT | AD43: =IF(AND(G43<>"",H43<>"",I43<>"",J43<>"",K43<>""),1,0) -> 0 | AF43: =IF(OR(H43<>"",I43<>""),1,0) -> 0
B44: Compute VDD2 | C44: VDDIO | J44: x | K44: x | L44: PIO1_4 | M44: FC0_P5 | N44: SCT0_GPIn2 | O44: SCT0_OUT8 | P44: CT1_MAT0 | Q44: FC9_P3 | AD44: =IF(AND(G44<>"",H44<>"",I44<>"",J44<>"",K44<>""),1,0) -> 0 | AF44: =IF(OR(H44<>"",I44<>""),1,0) -> 0
B45: Compute VDD2 | C45: VDDIO | J45: x | K45: x | L45: PIO1_5 | M45: FC0_P6 | N45: SCT0_GPIn3 | O45: SCT0_OUT9 | P45: CT1_MAT1 | Q45: FC9_P4 | AD45: =IF(AND(G45<>"",H45<>"",I45<>"",J45<>"",K45<>""),1,0) -> 0 | AF45: =IF(OR(H45<>"",I45<>""),1,0) -> 0
B46: Compute VDD2 | C46: VDDIO | E46: GPIO | F46: GPIO | G46: x | H46: x | J46: x | K46: x | L46: PIO1_6 | M46: FC1_P4 | N46: SCT0_GPIn4 | O46: SCT0_OUT0 | P46: CT_C_INP12 | Q46: I3C1_PUR | AD46: =IF(AND(G46<>"",H46<>"",I46<>"",J46<>"",K46<>""),1,0) -> 0 | AF46: =IF(OR(H46<>"",I46<>""),1,0) -> 1
B47: Compute VDD2 | C47: VDDIO | D47: I2C (NFC) | E47: BLE/ANT | F47: BLE/ANT | G47: x | H47: x | I47: x | J47: x | K47: x | L47: PIO1_7 | M47: FC1_P0 | N47: SCT0_GPIn5 | O47: SCT0_OUT1 | P47: CT_C_INP13 | Q47: I3C1_SDA | AA47: mod_debug_out[11] | AB47: ISP boot select 1 | AD47: =IF(AND(G47<>"",H47<>"",I47<>"",J47<>"",K47<>""),1,0) -> 1 | AE47: y | AF47: =IF(OR(H47<>"",I47<>""),1,0) -> 1
B48: Compute VDD2 | C48: VDDIO | D48: I2C (NFC) | E48: BLE/ANT | F48: BLE/ANT | G48: x | H48: x | I48: x | J48: x | K48: x | L48: PIO1_8 | M48: FC1_P1 | N48: SCT0_GPIn6 | O48: SCT0_OUT2 | P48: CT_C_INP14 | Q48: I3C1_SCL | AA48: mod_debug_out[12] | AB48: ISP boot select 0 | AD48: =IF(AND(G48<>"",H48<>"",I48<>"",J48<>"",K48<>""),1,0) -> 1 | AE48: y | AF48: =IF(OR(H48<>"",I48<>""),1,0) -> 1
B49: Compute VDD2 | C49: VDDIO | D49: GPIO (DISP) | E49: GPIO (BLE/ANT GPIO) | F49: GPIO (BLE/ANT GPIO) | G49: x | H49: x | I49: x | J49: x | K49: x | L49: PIO1_9 | M49: FC1_P2 | N49: SCT0_GPIn7 | O49: SCT0_OUT3 | P49: CT_C_INP15 | Q49: CLKIN | R49: CLKOUT | AA49: mod_debug_out[13] | AD49: =IF(AND(G49<>"",H49<>"",I49<>"",J49<>"",K49<>""),1,0) -> 1 | AE49: y | AF49: =IF(OR(H49<>"",I49<>""),1,0) -> 1
B50: Compute VDD2 | C50: VDDIO | D50: GPIO (DISP) | E50: GPIO (BLE/ANT GPIO) | F50: GPIO (BLE/ANT GPIO) | G50: x | H50: x | I50: x | J50: x | K50: x | L50: PIO1_10 | M50: FC1_P3 | N50: UTICK0_CAP3 | P50: CT2_MAT1 | Q50: TRACECLK | R50: CLKOUT | AA50: mod_debug_out[14] | AD50: =IF(AND(G50<>"",H50<>"",I50<>"",J50<>"",K50<>""),1,0) -> 1 | AE50: y | AF50: =IF(OR(H50<>"",I50<>""),1,0) -> 1
B51: Compute VDD2 | C51: VDDIO | D51: GPIO (NFC) | E51: Comm periphs, NFC | F51: Comm periphs, NFC | G51: x | H51: x | I51: x | J51: x | K51: x | L51: PIO1_11 | M51: FC2_P0 | P51: CT2_MAT2 | Q51: TRACEDATA0 | AA51: mod_debug_out[15] | AB51: I2C slave boot | AD51: =IF(AND(G51<>"",H51<>"",I51<>"",J51<>"",K51<>""),1,0) -> 1 | AE51: y | AF51: =IF(OR(H51<>"",I51<>""),1,0) -> 1
B52: Compute VDD2 | C52: VDDIO | D52: GPIO (PMIC) | E52: Comm periphs, NFC | F52: Comm periphs, NFC | G52: x | H52: x | I52: x | J52: x | K52: x | L52: PIO1_12 | M52: FC2_P1 | N52: SCT0_GPIn3 | O52: SCT0_OUT9 | P52: CT1_MAT1 | Q52: TRACEDATA1 | AA52: mod_debug_out[16] | AB52: I2C slave boot | AD52: =IF(AND(G52<>"",H52<>"",I52<>"",J52<>"",K52<>""),1,0) -> 1 | AE52: y | AF52: =IF(OR(H52<>"",I52<>""),1,0) -> 1
B53: Compute VDD2 | C53: VDDIO | D53: 32kHz_CLKOUT | E53: GPIO (NFC) | F53: GPIO (NFC) | G53: x | H53: x | I53: x | J53: x | K53: x | L53: PIO1_13 | M53: FC2_P4 | N53: UTICK0_CAP1 | P53: CT2_MAT3 | Q53: TRACEDATA2 | R53: 32KHZ_CLKOUT | AA53: mod_debug_out[17] | AD53: =IF(AND(G53<>"",H53<>"",I53<>"",J53<>"",K53<>""),1,0) -> 1 | AE53: y | AF53: =IF(OR(H53<>"",I53<>""),1,0) -> 1
B54: Compute VDD2 | C54: VDDIO | D54: GPIO (Touch) | E54: GPIO | F54: GPIO | G54: x | H54: x | I54: x | J54: x | K54: x | L54: PIO1_14 | M54: FC2_P2 | P54: CT3_MAT0 | Q54: TRACEDATA3 | AA54: mod_debug_out[18] | AD54: =IF(AND(G54<>"",H54<>"",I54<>"",J54<>"",K54<>""),1,0) -> 1 | AE54: y | AF54: =IF(OR(H54<>"",I54<>""),1,0) -> 1
B55: Compute VDD2 | C55: VDDIO | H55: x | J55: x | K55: x | L55: PIO1_15 | M55: FC2_P3 | P55: CT3_MAT1 | Q55: CLKIN | AD55: =IF(AND(G55<>"",H55<>"",I55<>"",J55<>"",K55<>""),1,0) -> 0 | AF55: =IF(OR(H55<>"",I55<>""),1,0) -> 1
B56: Compute VDD2 | C56: VDDIO | H56: x | J56: x | K56: x | L56: PIO1_16 | M56: FC3_P2 | P56: CT3_MAT2 | Q56: I3C0_PUR | AD56: =IF(AND(G56<>"",H56<>"",I56<>"",J56<>"",K56<>""),1,0) -> 0 | AF56: =IF(OR(H56<>"",I56<>""),1,0) -> 1
B57: Compute VDD2 | C57: VDDIO | D57: GPIO (Touch) | E57: GPIO (WiFi) | F57: GPIO (WiFi) | G57: x | H57: x | I57: x | J57: x | K57: x | L57: PIO1_17 | M57: FC3_P1 | N57: USB1_OVERCURRENTN | P57: CT3_MAT3 | Q57: I3C0_SCL | AD57: =IF(AND(G57<>"",H57<>"",I57<>"",J57<>"",K57<>""),1,0) -> 1 | AE57: y | AF57: =IF(OR(H57<>"",I57<>""),1,0) -> 1
B58: Compute VDD2 | C58: VDDIO | D58: GPIO (NFC) | E58: GPIO (WiFi) | F58: GPIO (WiFi) | G58: x | H58: x | I58: x | J58: x | K58: x | L58: PIO1_18 | M58: FC3_P0 | N58: USB1_PORTPWRN | P58: CT4_MAT0 | Q58: I3C0_SDA | AD58: =IF(AND(G58<>"",H58<>"",I58<>"",J58<>"",K58<>""),1,0) -> 1 | AE58: y | AF58: =IF(OR(H58<>"",I58<>""),1,0) -> 1
B59: Compute VDD2 | C59: VDDIO | J59: x | K59: x | L59: PIO1_19 | M59: FC3_P3 | N59: MCLK | O59: FREQME_GPIO_B_CLK | P59: CT4_MAT1 | AD59: =IF(AND(G59<>"",H59<>"",I59<>"",J59<>"",K59<>""),1,0) -> 0 | AF59: =IF(OR(H59<>"",I59<>""),1,0) -> 0
AD60: =IF(AND(G60<>"",H60<>"",I60<>"",J60<>"",K60<>""),1,0) -> 0 | AF60: =IF(OR(H60<>"",I60<>""),1,0) -> 0
B61: Media VDD2 | C61: VDDIO_2 | D61: Parallel displays | E61: Parallel displays | F61: Parallel displays | G61: x | H61: x | I61: x | J61: x | K61: x | L61: PIO2_0 | N61: USB1_OVERCURRENTN | P61: EZH_PIO0 | Q61: FLEXIO_D0 | S61: LCD_DBI_CSX_AB | AD61: =IF(AND(G61<>"",H61<>"",I61<>"",J61<>"",K61<>""),1,0) -> 1 | AE61: y | AF61: =IF(OR(H61<>"",I61<>""),1,0) -> 1
B62: Media VDD2 | C62: VDDIO_2 | D62: Parallel displays | E62: Parallel displays | F62: Parallel displays | G62: x | H62: x | I62: x | J62: x | K62: x | L62: PIO2_1 | N62: USB1_PORTPWRN | P62: EZH_PIO1 | Q62: FLEXIO_D1 | S62: LCD_DBI-DCX-AB | AD62: =IF(AND(G62<>"",H62<>"",I62<>"",J62<>"",K62<>""),1,0) -> 1 | AE62: y | AF62: =IF(OR(H62<>"",I62<>""),1,0) -> 1
B63: Media VDD2 | C63: VDDIO_2 | D63: Parallel displays | E63: Parallel displays | F63: Parallel displays | G63: x | H63: x | I63: x | J63: x | K63: x | L63: PIO2_2 | M63: LPSPI1_SOUT | P63: EZH_PIO2 | Q63: FLEXIO_D2 | R63: LCD_ENABLE | S63: LCD_DBI-DATA_OEN | AD63: =IF(AND(G63<>"",H63<>"",I63<>"",J63<>"",K63<>""),1,0) -> 1 | AE63: y | AF63: =IF(OR(H63<>"",I63<>""),1,0) -> 1
B64: Media VDD2 | C64: VDDIO_2 | D64: Parallel displays | E64: Parallel displays | F64: Parallel displays | G64: x | H64: x | I64: x | J64: x | K64: x | L64: PIO2_3 | M64: LPSPI1_SCK | P64: EZH_PIO3 | Q64: FLEXIO_D3 | R64: LCD_DOTCLK | S64: LCD_DBI-RWDX | AD64: =IF(AND(G64<>"",H64<>"",I64<>"",J64<>"",K64<>""),1,0) -> 1 | AE64: y | AF64: =IF(OR(H64<>"",I64<>""),1,0) -> 1
B65: Media VDD2 | C65: VDDIO_2 | D65: Parallel displays | E65: Parallel displays | F65: Parallel displays | G65: x | H65: x | I65: x | J65: x | K65: x | L65: PIO2_4 | M65: LPSPI1_SIN | P65: EZH_PIO4 | Q65: FLEXIO_D4 | R65: LCD_HSYNC | S65: LCD_DBI-WRX | AD65: =IF(AND(G65<>"",H65<>"",I65<>"",J65<>"",K65<>""),1,0) -> 1 | AE65: y | AF65: =IF(OR(H65<>"",I65<>""),1,0) -> 1
B66: Media VDD2 | C66: VDDIO_2 | D66: Parallel displays | E66: Parallel displays | F66: Parallel displays | G66: x | H66: x | I66: x | J66: x | K66: x | L66: PIO2_5 | M66: LPSPI1_PCS0 | P66: EZH_PIO5 | Q66: FLEXIO_D5 | R66: LCD_VSYNC | S66: LCD_DBI-E | AD66: =IF(AND(G66<>"",H66<>"",I66<>"",J66<>"",K66<>""),1,0) -> 1 | AE66: y | AF66: =IF(OR(H66<>"",I66<>""),1,0) -> 1
B67: Media VDD2 | C67: VDDIO_2 | D67: Parallel displays | E67: Parallel displays | F67: Parallel displays | G67: x | H67: x | I67: x | J67: x | K67: x | L67: PIO2_6 | M67: LPSPI1_PCS3 | P67: EZH_PIO6 | Q67: FLEXIO_D6 | R67: LCD_D0 | S67: LCD_DBI-D0 | AD67: =IF(AND(G67<>"",H67<>"",I67<>"",J67<>"",K67<>""),1,0) -> 1 | AE67: y | AF67: =IF(OR(H67<>"",I67<>""),1,0) -> 1
B68: Media VDD2 | C68: VDDIO_2 | D68: Parallel displays | E68: Parallel displays | F68: Parallel displays | G68: x | H68: x | I68: x | J68: x | K68: x | L68: PIO2_7 | M68: LPSPI1_PCS2 | P68: EZH_PIO7 | Q68: FLEXIO_D7 | R68: LCD_D1 | S68: LCD_DBI-D1 | AD68: =IF(AND(G68<>"",H68<>"",I68<>"",J68<>"",K68<>""),1,0) -> 1 | AE68: y | AF68: =IF(OR(H68<>"",I68<>""),1,0) -> 1
B69: Media VDD2 | C69: VDDIO_2 | D69: Parallel displays | E69: Parallel displays | F69: Parallel displays | G69: x | H69: x | I69: x | J69: x | K69: x | L69: PIO2_8 | M69: LPSPI1_PCS1 | P69: EZH_PIO8 | Q69: FLEXIO_D8 | R69: LCD_D2 | S69: LCD_DBI-D2 | AD69: =IF(AND(G69<>"",H69<>"",I69<>"",J69<>"",K69<>""),1,0) -> 1 | AE69: y | AF69: =IF(OR(H69<>"",I69<>""),1,0) -> 1
B70: Media VDD2 | C70: VDDIO_2 | D70: Parallel displays | E70: Parallel displays | F70: Parallel displays | G70: x | H70: x | I70: x | J70: x | K70: x | L70: PIO2_9 | P70: EZH_PIO9 | Q70: FLEXIO_D9 | R70: LCD_D3 | S70: LCD_DBI-D3 | AD70: =IF(AND(G70<>"",H70<>"",I70<>"",J70<>"",K70<>""),1,0) -> 1 | AE70: y | AF70: =IF(OR(H70<>"",I70<>""),1,0) -> 1
B71: Media VDD2 | C71: VDDIO_2 | D71: Parallel displays | E71: Parallel displays | F71: Parallel displays | G71: x | H71: x | I71: x | J71: x | K71: x | L71: PIO2_10 | P71: EZH_PIO10 | Q71: FLEXIO_D10 | R71: LCD_D4 | S71: LCD_DBI-D4 | AD71: =IF(AND(G71<>"",H71<>"",I71<>"",J71<>"",K71<>""),1,0) -> 1 | AE71: y | AF71: =IF(OR(H71<>"",I71<>""),1,0) -> 1
B72: Media VDD2 | C72: VDDIO_2 | D72: Parallel displays | E72: Parallel displays | F72: Parallel displays | G72: x | H72: x | I72: x | J72: x | K72: x | L72: PIO2_11 | P72: EZH_PIO11 | Q72: FLEXIO_D11 | R72: LCD_D5 | S72: LCD_DBI-D5 | AD72: =IF(AND(G72<>"",H72<>"",I72<>"",J72<>"",K72<>""),1,0) -> 1 | AE72: y | AF72: =IF(OR(H72<>"",I72<>""),1,0) -> 1
B73: Media VDD2 | C73: VDDIO_2 | D73: GPIO (DISP) | E73: Parallel displays | F73: Parallel displays | G73: x | H73: x | I73: x | J73: x | K73: x | L73: PIO2_12 | P73: EZH_PIO12 | Q73: FLEXIO_D12 | R73: LCD_D6 | S73: LCD_DBI-D6 | AD73: =IF(AND(G73<>"",H73<>"",I73<>"",J73<>"",K73<>""),1,0) -> 1 | AE73: y | AF73: =IF(OR(H73<>"",I73<>""),1,0) -> 1
B74: Media VDD2 | C74: VDDIO_2 | D74: GPIO (DISP) | E74: Parallel displays | F74: Parallel displays | G74: x | H74: x | I74: x | J74: x | K74: x | L74: PIO2_13 | P74: EZH_PIO13 | Q74: FLEXIO_D13 | R74: LCD_D7 | S74: LCD_DBI-D7 | AD74: =IF(AND(G74<>"",H74<>"",I74<>"",J74<>"",K74<>""),1,0) -> 1 | AE74: y | AF74: =IF(OR(H74<>"",I74<>""),1,0) -> 1
B75: Media VDD2 | C75: VDDIO_2 | H75: x | I75: x | J75: x | K75: x | L75: PIO2_14 | P75: EZH_PIO14 | Q75: FLEXIO_D14 | R75: LOW_FREQ_CLKOUT | AD75: =IF(AND(G75<>"",H75<>"",I75<>"",J75<>"",K75<>""),1,0) -> 0 | AF75: =IF(OR(H75<>"",I75<>""),1,0) -> 1
B76: Media VDD2 | C76: VDDIO_2 | H76: x | I76: x | J76: x | K76: x | L76: PIO2_15 | P76: EZH_PIO15 | Q76: FLEXIO_D15 | R76: LOW_FREQ_CLKOUT_N | AD76: =IF(AND(G76<>"",H76<>"",I76<>"",J76<>"",K76<>""),1,0) -> 0 | AF76: =IF(OR(H76<>"",I76<>""),1,0) -> 1
AD77: =IF(AND(G77<>"",H77<>"",I77<>"",J77<>"",K77<>""),1,0) -> 0 | AF77: =IF(OR(H77<>"",I77<>""),1,0) -> 0
B78: Media VDD2 | C78: VDDIO | D78: SPI (GPS) | E78: GPIO | F78: GPIO | G78: x | H78: x | I78: x | J78: x | K78: x | L78: PIO3_0 | M78: LPSPI0_SOUT | P78: EZH_PIO16 | AB78: SPI boot | AD78: =IF(AND(G78<>"",H78<>"",I78<>"",J78<>"",K78<>""),1,0) -> 1 | AE78: y | AF78: =IF(OR(H78<>"",I78<>""),1,0) -> 1
B79: Media VDD2 | C79: VDDIO | D79: SPI (GPS) | E79: GPIO | F79: GPIO | G79: x | H79: x | I79: x | J79: x | K79: x | L79: PIO3_1 | M79: LPSPI0_SCK | P79: EZH_PIO17 | AB79: SPI boot | AD79: =IF(AND(G79<>"",H79<>"",I79<>"",J79<>"",K79<>""),1,0) -> 1 | AE79: y | AF79: =IF(OR(H79<>"",I79<>""),1,0) -> 1
B80: Media VDD2 | C80: VDDIO | D80: SPI (GPS) | E80: GPIO | F80: GPIO | G80: x | H80: x | I80: x | J80: x | K80: x | L80: PIO3_2 | M80: LPSPI0_SIN | P80: EZH_PIO18 | AB80: SPI boot | AD80: =IF(AND(G80<>"",H80<>"",I80<>"",J80<>"",K80<>""),1,0) -> 1 | AE80: y | AF80: =IF(OR(H80<>"",I80<>""),1,0) -> 1
B81: Media VDD2 | C81: VDDIO | D81: SPI (GPS) | E81: GPIO | F81: GPIO | G81: x | H81: x | I81: x | J81: x | K81: x | L81: PIO3_3 | M81: LPSPI0_PCS0 | P81: EZH_PIO19 | AB81: SPI boot | AD81: =IF(AND(G81<>"",H81<>"",I81<>"",J81<>"",K81<>""),1,0) -> 1 | AE81: n | AF81: =IF(OR(H81<>"",I81<>""),1,0) -> 1
B82: Media VDD2 | C82: VDDIO | I82: x | J82: x | K82: x | L82: PIO3_4 | M82: LPSPI0_PCS3 | N82: FC0_P4 | O82: FC3_P2 | P82: EZH_PIO20 | AD82: =IF(AND(G82<>"",H82<>"",I82<>"",J82<>"",K82<>""),1,0) -> 0 | AF82: =IF(OR(H82<>"",I82<>""),1,0) -> 1
B83: Media VDD2 | C83: VDDIO | I83: x | J83: x | K83: x | L83: PIO3_5 | M83: LPSPI0_PCS2 | N83: FC0_P5 | O83: FC3_P3 | P83: EZH_PIO21 | AD83: =IF(AND(G83<>"",H83<>"",I83<>"",J83<>"",K83<>""),1,0) -> 0 | AF83: =IF(OR(H83<>"",I83<>""),1,0) -> 1
B84: Media VDD2 | C84: VDDIO | I84: x | J84: x | K84: x | L84: PIO3_6 | M84: LPSPI0_PCS1 | N84: FC0_P6 | O84: FC9_P2 | P84: EZH_PIO22 | Q84: I3C0_PUR | AD84: =IF(AND(G84<>"",H84<>"",I84<>"",J84<>"",K84<>""),1,0) -> 0 | AF84: =IF(OR(H84<>"",I84<>""),1,0) -> 1
B85: Media VDD2 | C85: VDDIO | I85: x | J85: x | K85: x | L85: PIO3_7 | M85: FC0_P2 | O85: FC5_P5 | P85: EZH_PIO23 | AD85: =IF(AND(G85<>"",H85<>"",I85<>"",J85<>"",K85<>""),1,0) -> 0 | AF85: =IF(OR(H85<>"",I85<>""),1,0) -> 1
B86: Media VDD2 | C86: VDDIO | I86: x | J86: x | K86: x | L86: PIO3_8 | M86: FC0_P3 | O86: FC5_P6 | P86: EZH_PIO24 | AD86: =IF(AND(G86<>"",H86<>"",I86<>"",J86<>"",K86<>""),1,0) -> 0 | AF86: =IF(OR(H86<>"",I86<>""),1,0) -> 1
B87: Media VDD2 | C87: VDDIO | I87: x | J87: x | K87: x | L87: PIO3_9 | M87: FC6_P2 | O87: FC3_P4 | P87: EZH_PIO25 | AD87: =IF(AND(G87<>"",H87<>"",I87<>"",J87<>"",K87<>""),1,0) -> 0 | AF87: =IF(OR(H87<>"",I87<>""),1,0) -> 1
B88: Media VDD2 | C88: VDDIO | I88: x | J88: x | K88: x | L88: PIO3_10 | M88: FC6_P3 | N88: USB1_OVERCURRENTN | O88: FC3_P5 | P88: EZH_PIO26 | AD88: =IF(AND(G88<>"",H88<>"",I88<>"",J88<>"",K88<>""),1,0) -> 0 | AF88: =IF(OR(H88<>"",I88<>""),1,0) -> 1
B89: Media VDD2 | C89: VDDIO | I89: x | J89: x | K89: x | L89: PIO3_11 | M89: FC6_P4 | N89: USB1_PORTPWRN | O89: FC9_P3 | P89: EZH_PIO27 | Q89: I3C1_PUR | AD89: =IF(AND(G89<>"",H89<>"",I89<>"",J89<>"",K89<>""),1,0) -> 0 | AF89: =IF(OR(H89<>"",I89<>""),1,0) -> 1
B90: Media VDD2 | C90: VDDIO | K90: x | L90: PIO3_12 | P90: EZH_PIO28 | AD90: =IF(AND(G90<>"",H90<>"",I90<>"",J90<>"",K90<>""),1,0) -> 0 | AF90: =IF(OR(H90<>"",I90<>""),1,0) -> 0
B91: Media VDD2 | C91: VDDIO | K91: x | L91: PIO3_13 | P91: EZH_PIO29 | AD91: =IF(AND(G91<>"",H91<>"",I91<>"",J91<>"",K91<>""),1,0) -> 0 | AF91: =IF(OR(H91<>"",I91<>""),1,0) -> 0
B92: Media VDD2 | C92: VDDIO | K92: x | L92: PIO3_14 | P92: EZH_PIO30 | AD92: =IF(AND(G92<>"",H92<>"",I92<>"",J92<>"",K92<>""),1,0) -> 0 | AF92: =IF(OR(H92<>"",I92<>""),1,0) -> 0
AD93: =IF(AND(G93<>"",H93<>"",I93<>"",J93<>"",K93<>""),1,0) -> 0 | AF93: =IF(OR(H93<>"",I93<>""),1,0) -> 0
B94: VDDN | C94: VDDIO_4 | D94: Code Execution 2 - pSRAM | E94: Code execution 2 | F94: Code execution 2 | G94: x | H94: x | I94: x | J94: x | K94: x | L94: PIO4_0 | M94: XSPI2_SS0_N | N94: FC8_P0 | AD94: =IF(AND(G94<>"",H94<>"",I94<>"",J94<>"",K94<>""),1,0) -> 1 | AE94: y | AF94: =IF(OR(H94<>"",I94<>""),1,0) -> 1
B95: VDDN | C95: VDDIO_4 | D95: Code Execution 2 - pSRAM | E95: Code execution 2 | F95: Code execution 2 | G95: x | H95: x | I95: x | J95: x | K95: x | L95: PIO4_1 | M95: XSPI2_DATA0 | N95: FC8_P1 | R95: LCD_D20 | AD95: =IF(AND(G95<>"",H95<>"",I95<>"",J95<>"",K95<>""),1,0) -> 1 | AE95: y | AF95: =IF(OR(H95<>"",I95<>""),1,0) -> 1
B96: VDDN | C96: VDDIO_4 | D96: Code Execution 2 - pSRAM | E96: Code execution 2 | F96: Code execution 2 | G96: x | H96: x | I96: x | J96: x | K96: x | L96: PIO4_2 | M96: XSPI2_DATA1 | N96: FC8_P2 | R96: LCD_D21 | AD96: =IF(AND(G96<>"",H96<>"",I96<>"",J96<>"",K96<>""),1,0) -> 1 | AE96: n | AF96: =IF(OR(H96<>"",I96<>""),1,0) -> 1
B97: VDDN | C97: VDDIO_4 | D97: Code Execution 2 - pSRAM | E97: Code execution 2 | F97: Code execution 2 | G97: x | H97: x | I97: x | J97: x | K97: x | L97: PIO4_3 | M97: XSPI2_DATA2 | N97: FC8_P3 | R97: LCD_D22 | AD97: =IF(AND(G97<>"",H97<>"",I97<>"",J97<>"",K97<>""),1,0) -> 1 | AE97: n | AF97: =IF(OR(H97<>"",I97<>""),1,0) -> 1
B98: VDDN | C98: VDDIO_4 | D98: Code Execution 2 - pSRAM | E98: Code execution 2 | F98: Code execution 2 | G98: x | H98: x | I98: x | J98: x | K98: x | L98: PIO4_4 | M98: XSPI2_DATA3 | N98: FC8_P4 | R98: LCD_D23 | AD98: =IF(AND(G98<>"",H98<>"",I98<>"",J98<>"",K98<>""),1,0) -> 1 | AE98: y | AF98: =IF(OR(H98<>"",I98<>""),1,0) -> 1
B99: VDDN | C99: VDDIO_4 | D99: Code Execution 2 - pSRAM | E99: Code execution 2 | F99: Code execution 2 | G99: x | H99: x | I99: x | J99: x | K99: x | L99: PIO4_5 | M99: XSPI2_DQS0 | N99: FC8_P5 | AD99: =IF(AND(G99<>"",H99<>"",I99<>"",J99<>"",K99<>""),1,0) -> 1 | AE99: y | AF99: =IF(OR(H99<>"",I99<>""),1,0) -> 1
B100: VDDN | C100: VDDIO_4 | D100: Code Execution 2 - pSRAM | E100: Code execution 2 | F100: Code execution 2 | G100: x | H100: x | I100: x | J100: x | K100: x | L100: PIO4_6 | M100: XSPI2_DATA4 | N100: FC8_P6 | R100: LCD_D16 | AD100: =IF(AND(G100<>"",H100<>"",I100<>"",J100<>"",K100<>""),1,0) -> 1 | AE100: y | AF100: =IF(OR(H100<>"",I100<>""),1,0) -> 1
...

Sheet RT700 PinMux v0.94
B1: RT700 Pin Function Planning | G1: Pin count summary:
G2: =COUNTIF(G8:G262,"x") -> 120 | H2: =COUNTIF(H8:H262,"x") -> 153 | I2: =COUNTIF(I8:I262,"x") -> 161 | J2: =COUNTIF(J8:J262,"x") -> 174 | K2: =COUNTIF(K8:K262,"x") -> 217 | L2: : GPIOs/functional pins | N2: Internal power rails that include peripherals with pin functions: | Q2: External I/O power rails:
C3: : in "Fn" columns, added pin functions for this revision. | G3: =COUNTIF(G8:G262,"d") -> 20 | H3: =COUNTIF(H8:H262,"d") -> 21 | I3: =COUNTIF(I8:I262,"d") -> 15 | J3: =COUNTIF(J8:J262,"d") -> 23 | K3: =COUNTIF(K8:K262,"d") -> 23 | L3: : Dedicated pins | N3: Compute VDD2 , Media VDD2 | O3: Compute & Media domains | Q3: VDDIO | R3: 1.8 V
G4: =G2+G3 -> 140 | H4: =H2+H3 -> 174 | I4: =I2+I3 -> 176 | J4: =J2+J3 -> 197 | K4: =K2+K3 -> 240 | L4: : Subtotal | N4: Sense VDD1 | O4: Sense domain | Q4: VDDIO_4, 5, 6 | R4: 1.2V or 1.8V
G5: tbd | H5: tbd | I5: tbd | J5: tbd | K5: tbd | L5: : Total pins (including power) | N5: VDDN | O5: Media subset + clock sources | Q5: VDDIO_2 | R5: 3V tolerant (FLEXIO pads only) | AE5: updated
D6: =COUNTIF(D8:D262,"<>") -> 149 | E6: =COUNTIF(E8:E262,"<>") -> 194 | F6: =COUNTIF(F8:F262,"<>") -> 140 | G6: =184-G4 -> 44 | H6: =252-H4 -> 78 | I6: =252-I4 -> 76 | J6: =249-J4 -> 52 | K6: =361-K4 -> 121 | AE6: 221018
B7: Internal domain | C7: Pad VDD | D7: Use Case 1 (WLCSP225) | E7: Use Case 2 (225) | F7: Use case (176) | G7: BGA 184 | H7: WLCSP 252 | I7: WLCSP ALT | J7: FOWLP | K7: BGA 361 | L7: Fn0 | M7: Fn1 | N7: Fn2 | O7: Fn3 | P7: Fn4 | Q7: Fn5 | R7: Fn6 | S7: Fn7 | T7: Fn8 | U7: Fn9 | V7: Fn10 | W7: Fn11 | X7: Fn12 | Y7: Fn 13 | Z7: Fn 14 | AA7: FN15 | AB7: Other Pin Uses | AC7: Pad/Bondout Info | AD7: On all pkgs | AE7: Required for test | AF7: Superset of WLCSPs
B8: Compute VDD2 | C8: VDDIO | D8: UART (Debug) | E8: HMI, Haptic | F8: HMI, Haptic | G8: x | H8: x | I8: x | J8: x | K8: x | L8: PIO0_0 | M8: FC8_P2 | N8: SCT0_GPIn0 | O8: SCT0_OUT0 | P8: CT_C_INP9 | Q8: SAI0_RX_BCLK | R8: SAI1_TX_BCLK | AA8: mod_debug_out[0] | AD8: =IF(AND(G8<>"",H8<>"",I8<>"",J8<>"",K8<>""),1,0) -> 1 | AE8: y | AF8: =IF(OR(H8<>"",I8<>""),1,0) -> 1
B9: Compute VDD2 | C9: VDDIO | D9: UART (Debug) | E9: HMI, Haptic | F9: HMI, Haptic | G9: x | H9: x | I9: x | J9: x | K9: x | L9: PIO0_1 | M9: FC8_P3 | N9: SCT0_GPIn1 | O9: SCT0_OUT1 | P9: CT0_MAT0 | Q9: SAI0_RX_SYNC | R9: SAI1_RX_DATA | AA9: mod_debug_out[1] | AD9: =IF(AND(G9<>"",H9<>"",I9<>"",J9<>"",K9<>""),1,0) -> 1 | AE9: y | AF9: =IF(OR(H9<>"",I9<>""),1,0) -> 1
B10: Compute VDD2 | C10: VDDIO | D10: GPIO (AUDIO) | E10: HMI, Haptic GPIO | F10: GPIO | G10: x | H10: x | I10: x | J10: x | K10: x | L10: PIO0_2 | M10: FC8_P4 | N10: SCT0_GPIn2 | O10: SCT0_OUT2 | P10: CT0_MAT1 | Q10: SAI0_RX_DATA | S10: FC9_P0 | AA10: mod_debug_out[2] | AD10: =IF(AND(G10<>"",H10<>"",I10<>"",J10<>"",K10<>""),1,0) -> 1 | AE10: y | AF10: =IF(OR(H10<>"",I10<>""),1,0) -> 1
B11: Compute VDD2 | C11: VDDIO | D11: I2S OUT | E11: HMI, Display Sensor | F11: GPIO | G11: x | H11: x | I11: x | J11: x | K11: x | L11: PIO0_3 | M11: FC4_P0 | N11: SCT0_GPIn3 | O11: SCT0_OUT3 | P11: CT0_MAT2 | Q11: SAI0_TX_BCLK | AA11: mod_debug_out[3] | AD11: =IF(AND(G11<>"",H11<>"",I11<>"",J11<>"",K11<>""),1,0) -> 1 | AE11: y | AF11: =IF(OR(H11<>"",I11<>""),1,0) -> 1
B12: Compute VDD2 | C12: VDDIO | D12: I2S OUT | E12: HMI, Display Sensor | F12: GPIO | G12: x | H12: x | I12: x | J12: x | K12: x | L12: PIO0_4 | M12: FC4_P1 | N12: SCT0_GPIn4 | O12: SCT0_OUT4 | P12: CT0_MAT3 | Q12: SAI0_TX_DATA | AA12: mod_debug_out[4] | AD12: =IF(AND(G12<>"",H12<>"",I12<>"",J12<>"",K12<>""),1,0) -> 1 | AE12: y | AF12: =IF(OR(H12<>"",I12<>""),1,0) -> 1
B13: Compute VDD2 | C13: VDDIO | D13: I2S OUT | E13: GPIO (HMI, Disp Sensor) | F13: GPIO | G13: x | H13: x | I13: x | J13: x | K13: x | L13: PIO0_5 | M13: FC4_P4 | N13: SCT0_GPIn5 | O13: SCT0_OUT5 | P13: CT2_MAT0 | Q13: SAI0_TX_SYNC | R13: MCLK | S13: FC9_P1 | AA13: mod_debug_out[5] | AD13: =IF(AND(G13<>"",H13<>"",I13<>"",J13<>"",K13<>""),1,0) -> 1 | AE13: y | AF13: =IF(OR(H13<>"",I13<>""),1,0) -> 1
B14: Compute VDD2 | C14: VDDIO | H14: x | I14: x | J14: x | K14: x | L14: PIO0_6 | M14: FC4_P2 | N14: SCT0_GPIn6 | O14: SCT0_OUT6 | P14: CT_C_INP10 | Q14: FC8_P0 | AD14: =IF(AND(G14<>"",H14<>"",I14<>"",J14<>"",K14<>""),1,0) -> 0 | AF14: =IF(OR(H14<>"",I14<>""),1,0) -> 1
B15: Compute VDD2 | C15: VDDIO | H15: x | I15: x | J15: x | K15: x | L15: PIO0_7 | M15: FC4_P3 | N15: SCT0_GPIn7 | O15: SCT0_OUT7 | P15: CT_C_INP11 | Q15: FC8_P1 | AD15: =IF(AND(G15<>"",H15<>"",I15<>"",J15<>"",K15<>""),1,0) -> 0 | AF15: =IF(OR(H15<>"",I15<>""),1,0) -> 1
B16: Compute VDD2 | C16: VDDIO | K16: x | L16: PIO0_8 | M16: FC4_P5 | N16: SCT0_GPIn0 | O16: SCT0_OUT0 | P16: CT_C_INP1 | R16: 32KHZ_CLKOUT | AD16: =IF(AND(G16<>"",H16<>"",I16<>"",J16<>"",K16<>""),1,0) -> 0 | AF16: =IF(OR(H16<>"",I16<>""),1,0) -> 0
B17: Compute VDD2 | C17: VDDIO | K17: x | L17: PIO0_9 | M17: FC4_P6 | N17: SCT0_GPIn1 | O17: SCT0_OUT1 | P17: CT0_MAT0 | Q17: FC1_P5 | AD17: =IF(AND(G17<>"",H17<>"",I17<>"",J17<>"",K17<>""),1,0) -> 0 | AF17: =IF(OR(H17<>"",I17<>""),1,0) -> 0
B18: Compute VDD2 | C18: VDDIO | D18: HS UART (BT) | E18: HMI, Screen Touch | F18: HMI, Screen Touch | G18: x | H18: x | I18: x | J18: x | K18: x | L18: PIO0_10 | M18: FC5_P0 | N18: SCT0_GPIn4 | O18: SCT0_OUT4 | P18: CT1_MAT0 | Q18: CT_C_INP0 | R18: SAI2_RX_DATA | AA18: mod_debug_out[6] | AD18: =IF(AND(G18<>"",H18<>"",I18<>"",J18<>"",K18<>""),1,0) -> 1 | AE18: y | AF18: =IF(OR(H18<>"",I18<>""),1,0) -> 1
B19: Compute VDD2 | C19: VDDIO | D19: HS UART (BT) | E19: HMI, Screen Touch | F19: HMI, Screen Touch | G19: x | H19: x | I19: x | J19: x | K19: x | L19: PIO0_11 | M19: FC5_P1 | N19: SCT0_GPIn5 | O19: SCT0_OUT5 | P19: CT1_MAT1 | Q19: SAI2_TX_BCLK | AA19: mod_debug_out[7] | AD19: =IF(AND(G19<>"",H19<>"",I19<>"",J19<>"",K19<>""),1,0) -> 1 | AE19: y | AF19: =IF(OR(H19<>"",I19<>""),1,0) -> 1
B20: Compute VDD2 | C20: VDDIO | D20: HS UART (BT) | E20: HMI, Screen Touch | F20: HMI, Screen Touch GPIO | G20: x | H20: x | I20: x | J20: x | K20: x | L20: PIO0_12 | M20: FC5_P2 | N20: SCT0_GPIn6 | O20: SCT0_OUT6 | P20: CT1_MAT2 | Q20: SAI2_TX_DATA | AA20: mod_debug_out[8] | AD20: =IF(AND(G20<>"",H20<>"",I20<>"",J20<>"",K20<>""),1,0) -> 1 | AE20: y | AF20: =IF(OR(H20<>"",I20<>""),1,0) -> 1
B21: Compute VDD2 | C21: VDDIO | D21: HS UART (BT) | E21: HMI, Screen Touch | H21: x | I21: x | J21: x | K21: x | L21: PIO0_13 | M21: FC5_P3 | N21: SCT0_GPIn7 | O21: SCT0_OUT7 | P21: CT1_MAT3 | Q21: SAI2_TX_SYNC | AD21: =IF(AND(G21<>"",H21<>"",I21<>"",J21<>"",K21<>""),1,0) -> 0 | AF21: =IF(OR(H21<>"",I21<>""),1,0) -> 1
B22: Compute VDD2 | C22: VDDIO | D22: GPIO (AUDIO) | E22: GPIO | H22: x | I22: x | J22: x | K22: x | L22: PIO0_14 | M22: FC5_P4 | N22: SCT0_GPIn0 | O22: SCT0_OUT8 | P22: CT_C_INP2 | Q22: SAI2_RX_DATA | R22: CLKOUT | AD22: =IF(AND(G22<>"",H22<>"",I22<>"",J22<>"",K22<>""),1,0) -> 0 | AF22: =IF(OR(H22<>"",I22<>""),1,0) -> 1
B23: Compute VDD2 | C23: VDDIO | K23: x | L23: PIO0_15 | M23: FC5_P5 | N23: SCT0_GPIn2 | O23: SCT0_OUT2 | P23: CT_C_INP3 | Q23: SAI2_RX_BCLK | R23: FC2_P5 | AD23: =IF(AND(G23<>"",H23<>"",I23<>"",J23<>"",K23<>""),1,0) -> 0 | AF23: =IF(OR(H23<>"",I23<>""),1,0) -> 0
B24: Compute VDD2 | C24: VDDIO | K24: x | L24: PIO0_16 | M24: FC5_P6 | N24: SCT0_GPIn3 | O24: SCT0_OUT3 | P24: CT0_MAT1 | Q24: SAI2_RX_SYNC | R24: FC2_P6 | AD24: =IF(AND(G24<>"",H24<>"",I24<>"",J24<>"",K24<>""),1,0) -> 0 | AF24: =IF(OR(H24<>"",I24<>""),1,0) -> 0
B25: Compute VDD2 | C25: VDDIO | E25: Biosensor, PPG | F25: Biosensor, PPG | G25: x | K25: x | L25: PIO0_17 | M25: FC6_P5 | N25: SCT0_GPIn0 | O25: SCT0_OUT0 | P25: CT2_MAT0 | Q25: SAI1_RX_BCLK | AD25: =IF(AND(G25<>"",H25<>"",I25<>"",J25<>"",K25<>""),1,0) -> 0 | AF25: =IF(OR(H25<>"",I25<>""),1,0) -> 0
B26: Compute VDD2 | C26: VDDIO | E26: Biosensor, PPG | F26: Biosensor, PPG | G26: x | K26: x | L26: PIO0_18 | M26: FC6_P6 | N26: SCT0_GPIn1 | O26: SCT0_OUT1 | P26: CT2_MAT1 | Q26: SAI1_RX_DATA | AD26: =IF(AND(G26<>"",H26<>"",I26<>"",J26<>"",K26<>""),1,0) -> 0 | AF26: =IF(OR(H26<>"",I26<>""),1,0) -> 0
B27: Compute VDD2 | C27: VDDIO | E27: Biosensor, PPG | F27: Biosensor, PPG | G27: x | K27: x | L27: PIO0_19 | M27: FC6_P2 | N27: SCT0_GPIn2 | O27: SCT0_OUT2 | P27: CT2_MAT2 | Q27: SAI1_RX_SYNC | AD27: =IF(AND(G27<>"",H27<>"",I27<>"",J27<>"",K27<>""),1,0) -> 0 | AF27: =IF(OR(H27<>"",I27<>""),1,0) -> 0
B28: Compute VDD2 | C28: VDDIO | E28: Biosensor, PPG | F28: Biosensor, PPG | G28: x | K28: x | L28: PIO0_20 | M28: FC6_P3 | N28: SCT0_GPIn3 | O28: SCT0_OUT3 | P28: CT2_MAT3 | Q28: SAI1_TX_BCLK | AD28: =IF(AND(G28<>"",H28<>"",I28<>"",J28<>"",K28<>""),1,0) -> 0 | AF28: =IF(OR(H28<>"",I28<>""),1,0) -> 0
B29: Compute VDD2 | C29: VDDIO | D29: GPIO (NFC) | E29: GPIO | F29: GPIO (Biosensor, PPG) | G29: x | H29: x | I29: x | J29: x | K29: x | L29: PIO0_21 | M29: FC6_P0 | N29: SCT0_GPIn6 | O29: SCT0_OUT6 | P29: CT_C_INP4 | Q29: SAI1_TX_DATA | R29: MCLK | AA29: mod_debug_out[9] | AD29: =IF(AND(G29<>"",H29<>"",I29<>"",J29<>"",K29<>""),1,0) -> 1 | AE29: y | AF29: =IF(OR(H29<>"",I29<>""),1,0) -> 1
B30: Compute VDD2 | C30: VDDIO | D30: CLKOUT | E30: GPIO | F30: GPIO (Biosensor, PPG) | G30: x | H30: x | I30: x | J30: x | K30: x | L30: PIO0_22 | M30: FC6_P1 | N30: SCT0_GPIn4 | O30: SCT0_OUT4 | P30: CT_C_INP5 | Q30: SAI1_TX_SYNC | R30: CLKOUT | AA30: mod_debug_out[10] | AD30: =IF(AND(G30<>"",H30<>"",I30<>"",J30<>"",K30<>""),1,0) -> 1 | AE30: y | AF30: =IF(OR(H30<>"",I30<>""),1,0) -> 1
B31: Compute VDD2 | C31: VDDIO | E31: GPIO | F31: GPIO | G31: x | K31: x | L31: PIO0_23 | M31: FC6_P4 | N31: SCT0_GPIn5 | O31: SCT0_OUT5 | P31: CT0_MAT2 | Q31: CLKIN | AD31: =IF(AND(G31<>"",H31<>"",I31<>"",J31<>"",K31<>""),1,0) -> 0 | AF31: =IF(OR(H31<>"",I31<>""),1,0) -> 0
B32: Compute VDD2 | C32: VDDIO | E32: Biosensor, GSR | F32: Biosensor, GSR | G32: x | K32: x | L32: PIO0_24 | M32: FC7_P0 | N32: SCT0_GPIn5 | O32: SCT0_OUT5 | P32: CT3_MAT0 | Q32: CT_C_INP12 | AD32: =IF(AND(G32<>"",H32<>"",I32<>"",J32<>"",K32<>""),1,0) -> 0 | AF32: =IF(OR(H32<>"",I32<>""),1,0) -> 0
B33: Compute VDD2 | C33: VDDIO | E33: Biosensor, GSR | F33: Biosensor, GSR | G33: x | K33: x | L33: PIO0_25 | M33: FC7_P1 | N33: SCT0_GPIn6 | O33: SCT0_OUT6 | P33: CT3_MAT1 | Q33: CT_C_INP13 | AD33: =IF(AND(G33<>"",H33<>"",I33<>"",J33<>"",K33<>""),1,0) -> 0 | AF33: =IF(OR(H33<>"",I33<>""),1,0) -> 0
B34: Compute VDD2 | C34: VDDIO | E34: GPIO | F34: GPIO (GSR) | G34: x | K34: x | L34: PIO0_26 | M34: FC7_P2 | N34: SCT0_GPIn7 | O34: SCT0_OUT8 | P34: CT3_MAT2 | Q34: CT_C_INP14 | AD34: =IF(AND(G34<>"",H34<>"",I34<>"",J34<>"",K34<>""),1,0) -> 0 | AF34: =IF(OR(H34<>"",I34<>""),1,0) -> 0
B35: Compute VDD2 | C35: VDDIO | E35: GPIO | K35: x | L35: PIO0_27 | M35: FC7_P3 | N35: SCT0_GPIn2 | O35: SCT0_OUT9 | P35: CT3_MAT3 | Q35: FC9_P0 | AD35: =IF(AND(G35<>"",H35<>"",I35<>"",J35<>"",K35<>""),1,0) -> 0 | AF35: =IF(OR(H35<>"",I35<>""),1,0) -> 0
B36: Compute VDD2 | C36: VDDIO | K36: x | L36: PIO0_28 | M36: FC7_P4 | N36: UTICK0_CAP0 | O36: FREQME_GPIO_A_CLK | P36: CT_C_INP6 | Q36: FC9_P1 | AD36: =IF(AND(G36<>"",H36<>"",I36<>"",J36<>"",K36<>""),1,0) -> 0 | AF36: =IF(OR(H36<>"",I36<>""),1,0) -> 0
B37: Compute VDD2 | C37: VDDIO | K37: x | L37: PIO0_29 | M37: FC7_P5 | N37: SCT0_GPIn6 | O37: SCT0_OUT6 | P37: CT_C_INP7 | Q37: FC9_P2 | AD37: =IF(AND(G37<>"",H37<>"",I37<>"",J37<>"",K37<>""),1,0) -> 0 | AF37: =IF(OR(H37<>"",I37<>""),1,0) -> 0
B38: Compute VDD2 | C38: VDDIO | K38: x | L38: PIO0_30 | M38: FC7_P6 | N38: SCT0_GPIn7 | O38: SCT0_OUT7 | P38: CT0_MAT3 | Q38: CLKOUT | R38: FC1_P6 | AD38: =IF(AND(G38<>"",H38<>"",I38<>"",J38<>"",K38<>""),1,0) -> 0 | AF38: =IF(OR(H38<>"",I38<>""),1,0) -> 0
B39: Compute VDD2 | C39: VDDIO | E39: Temp Sensor | F39: Temp Sensor | G39: x | H39: x | I39: x | J39: x | K39: x | L39: PIO0_31 | M39: FC0_P0 | N39: UTICK0_CAP2 | O39: SCT0_OUT8 | P39: CT4_MAT0 | AB39: UART boot | AD39: =IF(AND(G39<>"",H39<>"",I39<>"",J39<>"",K39<>""),1,0) -> 1 | AF39: =IF(OR(H39<>"",I39<>""),1,0) -> 1
B40: Compute VDD2 | C40: VDDIO | E40: Temp Sensor | F40: Temp Sensor | G40: x | H40: x | I40: x | J40: x | K40: x | L40: PIO1_0 | M40: FC0_P1 | O40: SCT0_OUT9 | P40: CT4_MAT1 | AB40: UART boot | AD40: =IF(AND(G40<>"",H40<>"",I40<>"",J40<>"",K40<>""),1,0) -> 1 | AF40: =IF(OR(H40<>"",I40<>""),1,0) -> 1
B41: Compute VDD2 | C41: VDDIO | E41: GPIO | F41: Temp Sensor GPIO | G41: x | K41: x | L41: PIO1_1 | M41: FC0_P2 | P41: CT4_MAT2 | Q41: CT_C_INP15 | AD41: =IF(AND(G41<>"",H41<>"",I41<>"",J41<>"",K41<>""),1,0) -> 0 | AF41: =IF(OR(H41<>"",I41<>""),1,0) -> 0
B42: Compute VDD2 | C42: VDDIO | E42: GPIO | K42: x | L42: PIO1_2 | M42: FC0_P3 | N42: SCT0_GPIn0 | O42: SCT0_OUT6 | P42: CT4_MAT3 | Q42: FC9_P5 | R42: CLKOUT | AD42: =IF(AND(G42<>"",H42<>"",I42<>"",J42<>"",K42<>""),1,0) -> 0 | AF42: =IF(OR(H42<>"",I42<>""),1,0) -> 0
B43: Compute VDD2 | C43: VDDIO | K43: x | L43: PIO1_3 | M43: FC0_P4 | N43: SCT0_GPIn1 | O43: SCT0_OUT7 | P43: CT_C_INP8 | Q43: FC9_P6 | R43: 32KHZ_CLKOUT | AD43: =IF(AND(G43<>"",H43<>"",I43<>"",J43<>"",K43<>""),1,0) -> 0 | AF43: =IF(OR(H43<>"",I43<>""),1,0) -> 0
B44: Compute VDD2 | C44: VDDIO | K44: x | L44: PIO1_4 | M44: FC0_P5 | N44: SCT0_GPIn2 | O44: SCT0_OUT8 | P44: CT1_MAT0 | Q44: FC9_P3 | AD44: =IF(AND(G44<>"",H44<>"",I44<>"",J44<>"",K44<>""),1,0) -> 0 | AF44: =IF(OR(H44<>"",I44<>""),1,0) -> 0
B45: Compute VDD2 | C45: VDDIO | K45: x | L45: PIO1_5 | M45: FC0_P6 | N45: SCT0_GPIn3 | O45: SCT0_OUT9 | P45: CT1_MAT1 | Q45: FC9_P4 | AD45: =IF(AND(G45<>"",H45<>"",I45<>"",J45<>"",K45<>""),1,0) -> 0 | AF45: =IF(OR(H45<>"",I45<>""),1,0) -> 0
B46: Compute VDD2 | C46: VDDIO | E46: GPIO | F46: GPIO | G46: x | K46: x | L46: PIO1_6 | M46: FC1_P4 | N46: SCT0_GPIn4 | O46: SCT0_OUT0 | P46: CT_C_INP12 | Q46: I3C1_PUR | AD46: =IF(AND(G46<>"",H46<>"",I46<>"",J46<>"",K46<>""),1,0) -> 0 | AF46: =IF(OR(H46<>"",I46<>""),1,0) -> 0
B47: Compute VDD2 | C47: VDDIO | D47: I2C (NFC) | E47: BLE/ANT | F47: BLE/ANT | G47: x | H47: x | I47: x | J47: x | K47: x | L47: PIO1_7 | M47: FC1_P0 | N47: SCT0_GPIn5 | O47: SCT0_OUT1 | P47: CT_C_INP13 | Q47: I3C1_SDA | AA47: mod_debug_out[11] | AD47: =IF(AND(G47<>"",H47<>"",I47<>"",J47<>"",K47<>""),1,0) -> 1 | AE47: y | AF47: =IF(OR(H47<>"",I47<>""),1,0) -> 1
B48: Compute VDD2 | C48: VDDIO | D48: I2C (NFC) | E48: BLE/ANT | F48: BLE/ANT | G48: x | H48: x | I48: x | J48: x | K48: x | L48: PIO1_8 | M48: FC1_P1 | N48: SCT0_GPIn6 | O48: SCT0_OUT2 | P48: CT_C_INP14 | Q48: I3C1_SCL | AA48: mod_debug_out[12] | AD48: =IF(AND(G48<>"",H48<>"",I48<>"",J48<>"",K48<>""),1,0) -> 1 | AE48: y | AF48: =IF(OR(H48<>"",I48<>""),1,0) -> 1
B49: Compute VDD2 | C49: VDDIO | D49: GPIO (DISP) | E49: GPIO (BLE/ANT GPIO) | F49: GPIO (BLE/ANT GPIO) | G49: x | H49: x | I49: x | J49: x | K49: x | L49: PIO1_9 | M49: FC1_P2 | N49: SCT0_GPIn7 | O49: SCT0_OUT3 | P49: CT_C_INP15 | Q49: CLKIN | R49: CLKOUT | AA49: mod_debug_out[13] | AD49: =IF(AND(G49<>"",H49<>"",I49<>"",J49<>"",K49<>""),1,0) -> 1 | AE49: y | AF49: =IF(OR(H49<>"",I49<>""),1,0) -> 1
B50: Compute VDD2 | C50: VDDIO | D50: GPIO (DISP) | E50: GPIO (BLE/ANT GPIO) | F50: GPIO (BLE/ANT GPIO) | G50: x | H50: x | I50: x | J50: x | K50: x | L50: PIO1_10 | M50: FC1_P3 | N50: UTICK0_CAP3 | P50: CT2_MAT1 | Q50: TRACECLK | R50: CLKOUT | AA50: mod_debug_out[14] | AD50: =IF(AND(G50<>"",H50<>"",I50<>"",J50<>"",K50<>""),1,0) -> 1 | AE50: y | AF50: =IF(OR(H50<>"",I50<>""),1,0) -> 1
B51: Compute VDD2 | C51: VDDIO | D51: GPIO (NFC) | E51: Comm periphs, NFC | F51: Comm periphs, NFC | G51: x | H51: x | I51: x | J51: x | K51: x | L51: PIO1_11 | M51: FC2_P0 | P51: CT2_MAT2 | Q51: TRACEDATA0 | AA51: mod_debug_out[15] | AB51: I2C slave boot | AD51: =IF(AND(G51<>"",H51<>"",I51<>"",J51<>"",K51<>""),1,0) -> 1 | AE51: y | AF51: =IF(OR(H51<>"",I51<>""),1,0) -> 1
B52: Compute VDD2 | C52: VDDIO | D52: GPIO (PMIC) | E52: Comm periphs, NFC | F52: Comm periphs, NFC | G52: x | H52: x | I52: x | J52: x | K52: x | L52: PIO1_12 | M52: FC2_P1 | N52: SCT0_GPIn3 | O52: SCT0_OUT9 | P52: CT1_MAT1 | Q52: TRACEDATA1 | AA52: mod_debug_out[16] | AB52: I2C slave boot | AD52: =IF(AND(G52<>"",H52<>"",I52<>"",J52<>"",K52<>""),1,0) -> 1 | AE52: y | AF52: =IF(OR(H52<>"",I52<>""),1,0) -> 1
B53: Compute VDD2 | C53: VDDIO | D53: 32kHz_CLKOUT | E53: GPIO (NFC) | F53: GPIO (NFC) | G53: x | H53: x | I53: x | J53: x | K53: x | L53: PIO1_13 | M53: FC2_P4 | N53: UTICK0_CAP1 | P53: CT2_MAT3 | Q53: TRACEDATA2 | R53: 32KHZ_CLKOUT | AA53: mod_debug_out[17] | AD53: =IF(AND(G53<>"",H53<>"",I53<>"",J53<>"",K53<>""),1,0) -> 1 | AE53: y | AF53: =IF(OR(H53<>"",I53<>""),1,0) -> 1
B54: Compute VDD2 | C54: VDDIO | D54: GPIO (Touch) | E54: GPIO | F54: GPIO | G54: x | H54: x | I54: x | J54: x | K54: x | L54: PIO1_14 | M54: FC2_P2 | P54: CT3_MAT0 | Q54: TRACEDATA3 | AA54: mod_debug_out[18] | AD54: =IF(AND(G54<>"",H54<>"",I54<>"",J54<>"",K54<>""),1,0) -> 1 | AE54: y | AF54: =IF(OR(H54<>"",I54<>""),1,0) -> 1
B55: Compute VDD2 | C55: VDDIO | H55: x | I55: x | J55: x | K55: x | L55: PIO1_15 | M55: FC2_P3 | P55: CT3_MAT1 | Q55: CLKIN | AD55: =IF(AND(G55<>"",H55<>"",I55<>"",J55<>"",K55<>""),1,0) -> 0 | AF55: =IF(OR(H55<>"",I55<>""),1,0) -> 1
B56: Compute VDD2 | C56: VDDIO | K56: x | L56: PIO1_16 | M56: FC3_P2 | P56: CT3_MAT2 | Q56: I3C0_PUR | AD56: =IF(AND(G56<>"",H56<>"",I56<>"",J56<>"",K56<>""),1,0) -> 0 | AF56: =IF(OR(H56<>"",I56<>""),1,0) -> 0
B57: Compute VDD2 | C57: VDDIO | D57: GPIO (Touch) | E57: GPIO (WiFi) | F57: GPIO (WiFi) | G57: x | H57: x | I57: x | J57: x | K57: x | L57: PIO1_17 | M57: FC3_P1 | N57: USB1_OVERCURRENTN | P57: CT3_MAT3 | Q57: I3C0_SCL | AD57: =IF(AND(G57<>"",H57<>"",I57<>"",J57<>"",K57<>""),1,0) -> 1 | AE57: y | AF57: =IF(OR(H57<>"",I57<>""),1,0) -> 1
B58: Compute VDD2 | C58: VDDIO | D58: GPIO (NFC) | E58: GPIO (WiFi) | F58: GPIO (WiFi) | G58: x | H58: x | I58: x | J58: x | K58: x | L58: PIO1_18 | M58: FC3_P0 | N58: USB1_PORTPWRN | P58: CT4_MAT0 | Q58: I3C0_SDA | AD58: =IF(AND(G58<>"",H58<>"",I58<>"",J58<>"",K58<>""),1,0) -> 1 | AE58: y | AF58: =IF(OR(H58<>"",I58<>""),1,0) -> 1
B59: Compute VDD2 | C59: VDDIO | K59: x | L59: PIO1_19 | M59: FC3_P3 | N59: MCLK | O59: FREQME_GPIO_B_CLK | P59: CT4_MAT1 | AD59: =IF(AND(G59<>"",H59<>"",I59<>"",J59<>"",K59<>""),1,0) -> 0 | AF59: =IF(OR(H59<>"",I59<>""),1,0) -> 0
AD60: =IF(AND(G60<>"",H60<>"",I60<>"",J60<>"",K60<>""),1,0) -> 0 | AF60: =IF(OR(H60<>"",I60<>""),1,0) -> 0
B61: Media VDD2 | C61: VDDIO_2 | D61: Parallel displays | E61: Parallel displays | F61: Parallel displays | G61: x | H61: x | I61: x | J61: x | K61: x | L61: PIO2_0 | N61: USB1_OVERCURRENTN | P61: EZH_PIO0 | Q61: FLEXIO_D0 | S61: LCD_DBI_CSX_AB | AB61: LCD_DBI-CSX-C | AD61: =IF(AND(G61<>"",H61<>"",I61<>"",J61<>"",K61<>""),1,0) -> 1 | AE61: y | AF61: =IF(OR(H61<>"",I61<>""),1,0) -> 1
B62: Media VDD2 | C62: VDDIO_2 | D62: Parallel displays | E62: Parallel displays | F62: Parallel displays | G62: x | H62: x | I62: x | J62: x | K62: x | L62: PIO2_1 | N62: USB1_PORTPWRN | P62: EZH_PIO1 | Q62: FLEXIO_D1 | S62: LCD_DBI-DCX-AB | AB62: LCD_DBI-DCX-C | AD62: =IF(AND(G62<>"",H62<>"",I62<>"",J62<>"",K62<>""),1,0) -> 1 | AE62: y | AF62: =IF(OR(H62<>"",I62<>""),1,0) -> 1
B63: Media VDD2 | C63: VDDIO_2 | D63: Parallel displays | E63: Parallel displays | F63: Parallel displays | G63: x | H63: x | I63: x | J63: x | K63: x | L63: PIO2_2 | M63: LPSPI1_SOUT | P63: EZH_PIO2 | Q63: FLEXIO_D2 | R63: LCD_ENABLE | S63: LCD_DBI-DATA_OEN | AD63: =IF(AND(G63<>"",H63<>"",I63<>"",J63<>"",K63<>""),1,0) -> 1 | AE63: y | AF63: =IF(OR(H63<>"",I63<>""),1,0) -> 1
B64: Media VDD2 | C64: VDDIO_2 | D64: Parallel displays | E64: Parallel displays | F64: Parallel displays | G64: x | H64: x | I64: x | J64: x | K64: x | L64: PIO2_3 | M64: LPSPI1_SCK | P64: EZH_PIO3 | Q64: FLEXIO_D3 | R64: LCD_DOTCLK | S64: LCD_DBI-RWDX | AD64: =IF(AND(G64<>"",H64<>"",I64<>"",J64<>"",K64<>""),1,0) -> 1 | AE64: y | AF64: =IF(OR(H64<>"",I64<>""),1,0) -> 1
B65: Media VDD2 | C65: VDDIO_2 | D65: Parallel displays | E65: Parallel displays | F65: Parallel displays | G65: x | H65: x | I65: x | J65: x | K65: x | L65: PIO2_4 | M65: LPSPI1_SIN | P65: EZH_PIO4 | Q65: FLEXIO_D4 | R65: LCD_HSYNC | S65: LCD_DBI-WRX | AD65: =IF(AND(G65<>"",H65<>"",I65<>"",J65<>"",K65<>""),1,0) -> 1 | AE65: y | AF65: =IF(OR(H65<>"",I65<>""),1,0) -> 1
B66: Media VDD2 | C66: VDDIO_2 | D66: Parallel displays | E66: Parallel displays | F66: Parallel displays | G66: x | H66: x | I66: x | J66: x | K66: x | L66: PIO2_5 | M66: LPSPI1_PCS0 | P66: EZH_PIO5 | Q66: FLEXIO_D5 | R66: LCD_VSYNC | S66: LCD_DBI-E | AD66: =IF(AND(G66<>"",H66<>"",I66<>"",J66<>"",K66<>""),1,0) -> 1 | AE66: y | AF66: =IF(OR(H66<>"",I66<>""),1,0) -> 1
B67: Media VDD2 | C67: VDDIO_2 | D67: Parallel displays | E67: Parallel displays | F67: Parallel displays | G67: x | H67: x | I67: x | J67: x | K67: x | L67: PIO2_6 | M67: LPSPI1_PCS3 | P67: EZH_PIO6 | Q67: FLEXIO_D6 | R67: LCD_D0 | S67: LCD_DBI-D0 | AD67: =IF(AND(G67<>"",H67<>"",I67<>"",J67<>"",K67<>""),1,0) -> 1 | AE67: y | AF67: =IF(OR(H67<>"",I67<>""),1,0) -> 1
B68: Media VDD2 | C68: VDDIO_2 | D68: Parallel displays | E68: Parallel displays | F68: Parallel displays | G68: x | H68: x | I68: x | J68: x | K68: x | L68: PIO2_7 | M68: LPSPI1_PCS2 | P68: EZH_PIO7 | Q68: FLEXIO_D7 | R68: LCD_D1 | S68: LCD_DBI-D1 | AD68: =IF(AND(G68<>"",H68<>"",I68<>"",J68<>"",K68<>""),1,0) -> 1 | AE68: y | AF68: =IF(OR(H68<>"",I68<>""),1,0) -> 1
B69: Media VDD2 | C69: VDDIO_2 | D69: Parallel displays | E69: Parallel displays | F69: Parallel displays | G69: x | H69: x | I69: x | J69: x | K69: x | L69: PIO2_8 | M69: LPSPI1_PCS1 | P69: EZH_PIO8 | Q69: FLEXIO_D8 | R69: LCD_D2 | S69: LCD_DBI-D2 | AD69: =IF(AND(G69<>"",H69<>"",I69<>"",J69<>"",K69<>""),1,0) -> 1 | AE69: y | AF69: =IF(OR(H69<>"",I69<>""),1,0) -> 1
B70: Media VDD2 | C70: VDDIO_2 | D70: Parallel displays | E70: Parallel displays | F70: Parallel displays | G70: x | H70: x | I70: x | J70: x | K70: x | L70: PIO2_9 | P70: EZH_PIO9 | Q70: FLEXIO_D9 | R70: LCD_D3 | S70: LCD_DBI-D3 | AD70: =IF(AND(G70<>"",H70<>"",I70<>"",J70<>"",K70<>""),1,0) -> 1 | AE70: y | AF70: =IF(OR(H70<>"",I70<>""),1,0) -> 1
B71: Media VDD2 | C71: VDDIO_2 | D71: Parallel displays | E71: Parallel displays | F71: Parallel displays | G71: x | H71: x | I71: x | J71: x | K71: x | L71: PIO2_10 | P71: EZH_PIO10 | Q71: FLEXIO_D10 | R71: LCD_D4 | S71: LCD_DBI-D4 | AD71: =IF(AND(G71<>"",H71<>"",I71<>"",J71<>"",K71<>""),1,0) -> 1 | AE71: y | AF71: =IF(OR(H71<>"",I71<>""),1,0) -> 1
B72: Media VDD2 | C72: VDDIO_2 | D72: Parallel displays | E72: Parallel displays | F72: Parallel displays | G72: x | H72: x | I72: x | J72: x | K72: x | L72: PIO2_11 | P72: EZH_PIO11 | Q72: FLEXIO_D11 | R72: LCD_D5 | S72: LCD_DBI-D5 | AD72: =IF(AND(G72<>"",H72<>"",I72<>"",J72<>"",K72<>""),1,0) -> 1 | AE72: y | AF72: =IF(OR(H72<>"",I72<>""),1,0) -> 1
B73: Media VDD2 | C73: VDDIO_2 | D73: GPIO (DISP) | E73: Parallel displays | F73: Parallel displays | G73: x | H73: x | I73: x | J73: x | K73: x | L73: PIO2_12 | P73: EZH_PIO12 | Q73: FLEXIO_D12 | R73: LCD_D6 | S73: LCD_DBI-D6 | AD73: =IF(AND(G73<>"",H73<>"",I73<>"",J73<>"",K73<>""),1,0) -> 1 | AE73: y | AF73: =IF(OR(H73<>"",I73<>""),1,0) -> 1
B74: Media VDD2 | C74: VDDIO_2 | D74: GPIO (DISP) | E74: Parallel displays | F74: Parallel displays | G74: x | H74: x | I74: x | J74: x | K74: x | L74: PIO2_13 | P74: EZH_PIO13 | Q74: FLEXIO_D13 | R74: LCD_D7 | S74: LCD_DBI-D7 | AD74: =IF(AND(G74<>"",H74<>"",I74<>"",J74<>"",K74<>""),1,0) -> 1 | AE74: y | AF74: =IF(OR(H74<>"",I74<>""),1,0) -> 1
B75: Media VDD2 | C75: VDDIO_2 | H75: x | I75: x | J75: x | K75: x | L75: PIO2_14 | P75: EZH_PIO14 | Q75: FLEXIO_D14 | R75: LOW_FREQ_CLKOUT | AD75: =IF(AND(G75<>"",H75<>"",I75<>"",J75<>"",K75<>""),1,0) -> 0 | AF75: =IF(OR(H75<>"",I75<>""),1,0) -> 1
B76: Media VDD2 | C76: VDDIO_2 | H76: x | I76: x | J76: x | K76: x | L76: PIO2_15 | P76: EZH_PIO15 | Q76: FLEXIO_D15 | R76: LOW_FREQ_CLKOUT_N | AD76: =IF(AND(G76<>"",H76<>"",I76<>"",J76<>"",K76<>""),1,0) -> 0 | AF76: =IF(OR(H76<>"",I76<>""),1,0) -> 1
AD77: =IF(AND(G77<>"",H77<>"",I77<>"",J77<>"",K77<>""),1,0) -> 0 | AF77: =IF(OR(H77<>"",I77<>""),1,0) -> 0
B78: Media VDD2 | C78: VDDIO | D78: SPI (GPS) | E78: GPIO | F78: GPIO | G78: x | H78: x | I78: x | J78: x | K78: x | L78: PIO3_0 | M78: LPSPI0_SOUT | P78: EZH_PIO16 | AB78: SPI boot | AD78: =IF(AND(G78<>"",H78<>"",I78<>"",J78<>"",K78<>""),1,0) -> 1 | AE78: y | AF78: =IF(OR(H78<>"",I78<>""),1,0) -> 1
B79: Media VDD2 | C79: VDDIO | D79: SPI (GPS) | E79: GPIO | F79: GPIO | G79: x | H79: x | I79: x | J79: x | K79: x | L79: PIO3_1 | M79: LPSPI0_SCK | P79: EZH_PIO17 | AB79: SPI boot | AD79: =IF(AND(G79<>"",H79<>"",I79<>"",J79<>"",K79<>""),1,0) -> 1 | AE79: y | AF79: =IF(OR(H79<>"",I79<>""),1,0) -> 1
B80: Media VDD2 | C80: VDDIO | D80: SPI (GPS) | E80: GPIO | F80: GPIO | G80: x | H80: x | I80: x | J80: x | K80: x | L80: PIO3_2 | M80: LPSPI0_SIN | P80: EZH_PIO18 | AB80: SPI boot | AD80: =IF(AND(G80<>"",H80<>"",I80<>"",J80<>"",K80<>""),1,0) -> 1 | AE80: y | AF80: =IF(OR(H80<>"",I80<>""),1,0) -> 1
B81: Media VDD2 | C81: VDDIO | D81: SPI (GPS) | E81: GPIO | F81: GPIO | G81: x | H81: x | I81: x | J81: x | K81: x | L81: PIO3_3 | M81: LPSPI0_PCS0 | P81: EZH_PIO19 | AB81: SPI boot | AD81: =IF(AND(G81<>"",H81<>"",I81<>"",J81<>"",K81<>""),1,0) -> 1 | AE81: n | AF81: =IF(OR(H81<>"",I81<>""),1,0) -> 1
B82: Media VDD2 | C82: VDDIO | I82: x | J82: x | K82: x | L82: PIO3_4 | M82: LPSPI0_PCS3 | N82: FC0_P4 | O82: FC3_P2 | P82: EZH_PIO20 | AD82: =IF(AND(G82<>"",H82<>"",I82<>"",J82<>"",K82<>""),1,0) -> 0 | AF82: =IF(OR(H82<>"",I82<>""),1,0) -> 1
B83: Media VDD2 | C83: VDDIO | I83: x | J83: x | K83: x | L83: PIO3_5 | M83: LPSPI0_PCS2 | N83: FC0_P5 | O83: FC3_P3 | P83: EZH_PIO21 | AD83: =IF(AND(G83<>"",H83<>"",I83<>"",J83<>"",K83<>""),1,0) -> 0 | AF83: =IF(OR(H83<>"",I83<>""),1,0) -> 1
B84: Media VDD2 | C84: VDDIO | I84: x | J84: x | K84: x | L84: PIO3_6 | M84: LPSPI0_PCS1 | N84: FC0_P6 | O84: FC9_P2 | P84: EZH_PIO22 | Q84: I3C0_PUR | AD84: =IF(AND(G84<>"",H84<>"",I84<>"",J84<>"",K84<>""),1,0) -> 0 | AF84: =IF(OR(H84<>"",I84<>""),1,0) -> 1
B85: Media VDD2 | C85: VDDIO | I85: x | J85: x | K85: x | L85: PIO3_7 | M85: FC0_P2 | O85: FC5_P5 | P85: EZH_PIO23 | AD85: =IF(AND(G85<>"",H85<>"",I85<>"",J85<>"",K85<>""),1,0) -> 0 | AF85: =IF(OR(H85<>"",I85<>""),1,0) -> 1
B86: Media VDD2 | C86: VDDIO | I86: x | J86: x | K86: x | L86: PIO3_8 | M86: FC0_P3 | O86: FC5_P6 | P86: EZH_PIO24 | AD86: =IF(AND(G86<>"",H86<>"",I86<>"",J86<>"",K86<>""),1,0) -> 0 | AF86: =IF(OR(H86<>"",I86<>""),1,0) -> 1
B87: Media VDD2 | C87: VDDIO | I87: x | J87: x | K87: x | L87: PIO3_9 | M87: FC6_P2 | O87: FC3_P4 | P87: EZH_PIO25 | AD87: =IF(AND(G87<>"",H87<>"",I87<>"",J87<>"",K87<>""),1,0) -> 0 | AF87: =IF(OR(H87<>"",I87<>""),1,0) -> 1
B88: Media VDD2 | C88: VDDIO | I88: x | J88: x | K88: x | L88: PIO3_10 | M88: FC6_P3 | N88: USB1_OVERCURRENTN | O88: FC3_P5 | P88: EZH_PIO26 | AD88: =IF(AND(G88<>"",H88<>"",I88<>"",J88<>"",K88<>""),1,0) -> 0 | AF88: =IF(OR(H88<>"",I88<>""),1,0) -> 1
B89: Media VDD2 | C89: VDDIO | I89: x | J89: x | K89: x | L89: PIO3_11 | M89: FC6_P4 | N89: USB1_PORTPWRN | O89: FC9_P3 | P89: EZH_PIO27 | Q89: I3C1_PUR | AD89: =IF(AND(G89<>"",H89<>"",I89<>"",J89<>"",K89<>""),1,0) -> 0 | AF89: =IF(OR(H89<>"",I89<>""),1,0) -> 1
B90: Media VDD2 | C90: VDDIO | K90: x | L90: PIO3_12 | P90: EZH_PIO28 | AD90: =IF(AND(G90<>"",H90<>"",I90<>"",J90<>"",K90<>""),1,0) -> 0 | AF90: =IF(OR(H90<>"",I90<>""),1,0) -> 0
B91: Media VDD2 | C91: VDDIO | K91: x | L91: PIO3_13 | P91: EZH_PIO29 | AD91: =IF(AND(G91<>"",H91<>"",I91<>"",J91<>"",K91<>""),1,0) -> 0 | AF91: =IF(OR(H91<>"",I91<>""),1,0) -> 0
B92: Media VDD2 | C92: VDDIO | K92: x | L92: PIO3_14 | P92: EZH_PIO30 | AD92: =IF(AND(G92<>"",H92<>"",I92<>"",J92<>"",K92<>""),1,0) -> 0 | AF92: =IF(OR(H92<>"",I92<>""),1,0) -> 0
AD93: =IF(AND(G93<>"",H93<>"",I93<>"",J93<>"",K93<>""),1,0) -> 0 | AF93: =IF(OR(H93<>"",I93<>""),1,0) -> 0
B94: VDDN | C94: VDDIO_4 | D94: Code Execution 2 - pSRAM | E94: Code execution 2 | F94: Code execution 2 | G94: x | H94: x | I94: x | J94: x | K94: x | L94: PIO4_0 | M94: XSPI2_SS0_N | N94: FC8_P0 | AD94: =IF(AND(G94<>"",H94<>"",I94<>"",J94<>"",K94<>""),1,0) -> 1 | AE94: y | AF94: =IF(OR(H94<>"",I94<>""),1,0) -> 1
B95: VDDN | C95: VDDIO_4 | D95: Code Execution 2 - pSRAM | E95: Code execution 2 | F95: Code execution 2 | G95: x | H95: x | I95: x | J95: x | K95: x | L95: PIO4_1 | M95: XSPI2_DATA0 | N95: FC8_P1 | R95: LCD_D20 | AD95: =IF(AND(G95<>"",H95<>"",I95<>"",J95<>"",K95<>""),1,0) -> 1 | AE95: y | AF95: =IF(OR(H95<>"",I95<>""),1,0) -> 1
B96: VDDN | C96: VDDIO_4 | D96: Code Execution 2 - pSRAM | E96: Code execution 2 | F96: Code execution 2 | G96: x | H96: x | I96: x | J96: x | K96: x | L96: PIO4_2 | M96: XSPI2_DATA1 | N96: FC8_P2 | R96: LCD_D21 | AD96: =IF(AND(G96<>"",H96<>"",I96<>"",J96<>"",K96<>""),1,0) -> 1 | AE96: n | AF96: =IF(OR(H96<>"",I96<>""),1,0) -> 1
B97: VDDN | C97: VDDIO_4 | D97: Code Execution 2 - pSRAM | E97: Code execution 2 | F97: Code execution 2 | G97: x | H97: x | I97: x | J97: x | K97: x | L97: PIO4_3 | M97: XSPI2_DATA2 | N97: FC8_P3 | R97: LCD_D22 | AD97: =IF(AND(G97<>"",H97<>"",I97<>"",J97<>"",K97<>""),1,0) -> 1 | AE97: n | AF97: =IF(OR(H97<>"",I97<>""),1,0) -> 1
B98: VDDN | C98: VDDIO_4 | D98: Code Execution 2 - pSRAM | E98: Code execution 2 | F98: Code execution 2 | G98: x | H98: x | I98: x | J98: x | K98: x | L98: PIO4_4 | M98: XSPI2_DATA3 | N98: FC8_P4 | R98: LCD_D23 | AD98: =IF(AND(G98<>"",H98<>"",I98<>"",J98<>"",K98<>""),1,0) -> 1 | AE98: y | AF98: =IF(OR(H98<>"",I98<>""),1,0) -> 1
B99: VDDN | C99: VDDIO_4 | D99: Code Execution 2 - pSRAM | E99: Code execution 2 | F99: Code execution 2 | G99: x | H99: x | I99: x | J99: x | K99: x | L99: PIO4_5 | M99: XSPI2_DQS0 | N99: FC8_P5 | AD99: =IF(AND(G99<>"",H99<>"",I99<>"",J99<>"",K99<>""),1,0) -> 1 | AE99: y | AF99: =IF(OR(H99<>"",I99<>""),1,0) -> 1
B100: VDDN | C100: VDDIO_4 | D100: Code Execution 2 - pSRAM | E100: Code execution 2 | F100: Code execution 2 | G100: x | H100: x | I100: x | J100: x | K100: x | L100: PIO4_6 | M100: XSPI2_DATA4 | N100: FC8_P6 | R100: LCD_D16 | AD100: =IF(AND(G100<>"",H100<>"",I100<>"",J100<>"",K100<>""),1,0) -> 1 | AE100: y | AF100: =IF(OR(H100<>"",I100<>""),1,0) -> 1
...

Sheet v0.94 vs v0.95
B1: RT700 Pin Function Planning | G1: Pin count summary:
G2: =COUNTIF(G8:G262,"x") -> 0 | H2: =COUNTIF(H8:H262,"x") -> 0 | I2: =COUNTIF(I8:I262,"x") -> 0 | J2: =COUNTIF(J8:J262,"x") -> 0 | K2: =COUNTIF(K8:K262,"x") -> 0 | L2: : GPIOs/functional pins | N2: Internal power rails that include peripherals with pin functions: | Q2: External I/O power rails:
C3: : in "Fn" columns, added pin functions for this revision. | G3: =COUNTIF(G237:G262,"d") -> 0 | H3: =COUNTIF(H237:H262,"d") -> 0 | I3: =COUNTIF(I237:I262,"d") -> 0 | J3: =COUNTIF(J237:J262,"d") -> 0 | K3: =COUNTIF(K237:K262,"d") -> 0 | L3: : Dedicated pins | N3: Compute VDD2 , Media VDD2 | O3: Compute & Media domains | Q3: VDDIO | R3: 1.8 V
G4: =SUM(G265:G306) -> 0 | H4: =SUM(H265:H306) -> 0 | I4: =SUM(I265:I306) -> 0 | J4: =SUM(J265:J306) -> 0 | K4: =SUM(K265:K306) -> 0 | L4: : Power | N4: Sense VDD1 | O4: Sense domain | Q4: VDDIO_4, 5, 6 | R4: 1.2V or 1.8V
G5: tbd | H5: =SUM(H2:H4) -> 0 | I5: tbd | J5: =SUM(J2:J4) -> 0 | K5: tbd | L5: : Total pins (including power) | N5: VDDN | O5: Media subset + clock sources | Q5: VDDIO_2 | R5: 3V tolerant (FLEXIO pads only) | AE5: updated
D6: =COUNTIF(D8:D262,"<>") -> 240 | E6: =COUNTIF(E8:E262,"<>") -> 240 | F6: =COUNTIF(F8:F262,"<>") -> 240 | G6: 184 | I6: 256 | K6: =361-K4 -> 361 | AE6: 221018
B7: Internal domain | C7: Pad VDD | D7: Use Case 1 (WLCSP) | E7: Use Case 2 (WLCSP) | F7: Use case (BGA184) | G7: BGA 184 | H7: WLCSP 256 | I7: WLCSP ALT | J7: FOWLP 324 | K7: BGA 361 | L7: Fn0 | M7: Fn1 | N7: Fn2 | O7: Fn3 | P7: Fn4 | Q7: Fn5 | R7: Fn6 | S7: Fn7 | T7: Fn8 | U7: Fn9 | V7: Fn10 | W7: Fn11 | X7: Fn12 | Y7: Fn 13 | Z7: Fn 14 | AA7: FN15 | AB7: Other Pin Uses | AC7: Pad/Bondout Info | AD7: On all pkgs | AE7: Required for test | AF7: Superset of WLCSPs
B8: ='RT700 PinMux v0.95'!B8 -> Compute VDD2 | C8: ='RT700 PinMux v0.95'!C8 -> VDDIO | D8: =IF('RT700 PinMux v0.94'!D8='RT700 PinMux v0.95'!D8,"",'RT700 PinMux v0.94'!D8&" vs "&'RT700 PinMux v0.95'!D8) | E8: =IF('RT700 PinMux v0.94'!E8='RT700 PinMux v0.95'!E8,"",'RT700 PinMux v0.94'!E8&" vs "&'RT700 PinMux v0.95'!E8) | F8: =IF('RT700 PinMux v0.94'!F8='RT700 PinMux v0.95'!F8,"",'RT700 PinMux v0.94'!F8&" vs "&'RT700 PinMux v0.95'!F8) | G8: =IF('RT700 PinMux v0.94'!G8='RT700 PinMux v0.95'!G8,"",'RT700 PinMux v0.94'!G8&" vs "&'RT700 PinMux v0.95'!G8) | H8: =IF('RT700 PinMux v0.94'!H8='RT700 PinMux v0.95'!H8,"",'RT700 PinMux v0.94'!H8&" vs "&'RT700 PinMux v0.95'!H8) | I8: =IF('RT700 PinMux v0.94'!I8='RT700 PinMux v0.95'!I8,"",'RT700 PinMux v0.94'!I8&" vs "&'RT700 PinMux v0.95'!I8) | J8: =IF('RT700 PinMux v0.94'!J8='RT700 PinMux v0.95'!J8,"",'RT700 PinMux v0.94'!J8&" vs "&'RT700 PinMux v0.95'!J8) | K8: =IF('RT700 PinMux v0.94'!K8='RT700 PinMux v0.95'!K8,"",'RT700 PinMux v0.94'!K8&" vs "&'RT700 PinMux v0.95'!K8) | ... BK8: =IF('RT700 PinMux v0.94'!BK8='RT700 PinMux v0.95'!BK8,"",'RT700 PinMux v0.94'!BK8&" vs "&'RT700 PinMux v0.95'!BK8) | BM8: =IF('RT700 PinMux v0.94'!BM8='RT700 PinMux v0.95'!BM8,"",'RT700 PinMux v0.94'!BM8&" vs "&'RT700 PinMux v0.95'!BM8) | BN8: =IF('RT700 PinMux v0.94'!BN8='RT700 PinMux v0.95'!BN8,"",'RT700 PinMux v0.94'!BN8&" vs "&'RT700 PinMux v0.95'!BN8) | BO8: =IF('RT700 PinMux v0.94'!BO8='RT700 PinMux v0.95'!BO8,"",'RT700 PinMux v0.94'!BO8&" vs "&'RT700 PinMux v0.95'!BO8) | BP8: =IF('RT700 PinMux v0.94'!BP8='RT700 PinMux v0.95'!BP8,"",'RT700 PinMux v0.94'!BP8&" vs "&'RT700 PinMux v0.95'!BP8) | BQ8: =IF('RT700 PinMux v0.94'!BQ8='RT700 PinMux v0.95'!BQ8,"",'RT700 PinMux v0.94'!BQ8&" vs "&'RT700 PinMux v0.95'!BQ8) | BR8: =IF('RT700 PinMux v0.94'!BR8='RT700 PinMux v0.95'!BR8,"",'RT700 PinMux v0.94'!BR8&" vs "&'RT700 PinMux v0.95'!BR8) | BS8: =IF('RT700 PinMux v0.94'!BS8='RT700 PinMux v0.95'!BS8,"",'RT700 PinMux v0.94'!BS8&" vs "&'RT700 PinMux v0.95'!BS8) | BT8: =IF('RT700 PinMux v0.94'!BT8='RT700 PinMux v0.95'!BT8,"",'RT700 PinMux v0.94'!BT8&" vs "&'RT700 PinMux v0.95'!BT8) | ... CB8: =IF('RT700 PinMux v0.94'!CB8='RT700 PinMux v0.95'!CB8,"",'RT700 PinMux v0.94'!CB8&" vs "&'RT700 PinMux v0.95'!CB8) | CD8: =IF('RT700 PinMux v0.94'!CD8='RT700 PinMux v0.95'!CD8,"",'RT700 PinMux v0.94'!CD8&" vs "&'RT700 PinMux v0.95'!CD8) | CE8: =IF('RT700 PinMux v0.94'!CE8='RT700 PinMux v0.95'!CE8,"",'RT700 PinMux v0.94'!CE8&" vs "&'RT700 PinMux v0.95'!CE8) | CF8: =IF('RT700 PinMux v0.94'!CF8='RT700 PinMux v0.95'!CF8,"",'RT700 PinMux v0.94'!CF8&" vs "&'RT700 PinMux v0.95'!CF8) | CG8: =IF('RT700 PinMux v0.94'!CG8='RT700 PinMux v0.95'!CG8,"",'RT700 PinMux v0.94'!CG8&" vs "&'RT700 PinMux v0.95'!CG8) | CH8: =IF('RT700 PinMux v0.94'!CH8='RT700 PinMux v0.95'!CH8,"",'RT700 PinMux v0.94'!CH8&" vs "&'RT700 PinMux v0.95'!CH8) | CI8: =IF('RT700 PinMux v0.94'!CI8='RT700 PinMux v0.95'!CI8,"",'RT700 PinMux v0.94'!CI8&" vs "&'RT700 PinMux v0.95'!CI8) | CJ8: =IF('RT700 PinMux v0.94'!CJ8='RT700 PinMux v0.95'!CJ8,"",'RT700 PinMux v0.94'!CJ8&" vs "&'RT700 PinMux v0.95'!CJ8) | CK8: =IF('RT700 PinMux v0.94'!CK8='RT700 PinMux v0.95'!CK8,"",'RT700 PinMux v0.94'!CK8&" vs "&'RT700 PinMux v0.95'!CK8) | ... CR8: =IF('RT700 PinMux v0.94'!CR8='RT700 PinMux v0.95'!CR8,"",'RT700 PinMux v0.94'!CR8&" vs "&'RT700 PinMux v0.95'!CR8) | CT8: =IF('RT700 PinMux v0.94'!CT8='RT700 PinMux v0.95'!CT8,"",'RT700 PinMux v0.94'!CT8&" vs "&'RT700 PinMux v0.95'!CT8) | CU8: =IF('RT700 PinMux v0.94'!CU8='RT700 PinMux v0.95'!CU8,"",'RT700 PinMux v0.94'!CU8&" vs "&'RT700 PinMux v0.95'!CU8) | CV8: =IF('RT700 PinMux v0.94'!CV8='RT700 PinMux v0.95'!CV8,"",'RT700 PinMux v0.94'!CV8&" vs "&'RT700 PinMux v0.95'!CV8) | CW8: =IF('RT700 PinMux v0.94'!CW8='RT700 PinMux v0.95'!CW8,"",'RT700 PinMux v0.94'!CW8&" vs "&'RT700 PinMux v0.95'!CW8) | CX8: =IF('RT700 PinMux v0.94'!CX8='RT700 PinMux v0.95'!CX8,"",'RT700 PinMux v0.94'!CX8&" vs "&'RT700 PinMux v0.95'!CX8) | CY8: =IF('RT700 PinMux v0.94'!CY8='RT700 PinMux v0.95'!CY8,"",'RT700 PinMux v0.94'!CY8&" vs "&'RT700 PinMux v0.95'!CY8) | CZ8: =IF('RT700 PinMux v0.94'!CZ8='RT700 PinMux v0.95'!CZ8,"",'RT700 PinMux v0.94'!CZ8&" vs "&'RT700 PinMux v0.95'!CZ8) | DA8: =IF('RT700 PinMux v0.94'!DA8='RT700 PinMux v0.95'!DA8,"",'RT700 PinMux v0.94'!DA8&" vs "&'RT700 PinMux v0.95'!DA8) | ... DN8: =IF('RT700 PinMux v0.94'!DN8='RT700 PinMux v0.95'!DN8,"",'RT700 PinMux v0.94'!DN8&" vs "&'RT700 PinMux v0.95'!DN8) | DQ8: =IF('RT700 PinMux v0.94'!DQ8='RT700 PinMux v0.95'!DQ8,"",'RT700 PinMux v0.94'!DQ8&" vs "&'RT700 PinMux v0.95'!DQ8) | DR8: =IF('RT700 PinMux v0.94'!DR8='RT700 PinMux v0.95'!DR8,"",'RT700 PinMux v0.94'!DR8&" vs "&'RT700 PinMux v0.95'!DR8) | DS8: =IF('RT700 PinMux v0.94'!DS8='RT700 PinMux v0.95'!DS8,"",'RT700 PinMux v0.94'!DS8&" vs "&'RT700 PinMux v0.95'!DS8) | DT8: =IF('RT700 PinMux v0.94'!DT8='RT700 PinMux v0.95'!DT8,"",'RT700 PinMux v0.94'!DT8&" vs "&'RT700 PinMux v0.95'!DT8) | DU8: =IF('RT700 PinMux v0.94'!DU8='RT700 PinMux v0.95'!DU8,"",'RT700 PinMux v0.94'!DU8&" vs "&'RT700 PinMux v0.95'!DU8) | DV8: =IF('RT700 PinMux v0.94'!DV8='RT700 PinMux v0.95'!DV8,"",'RT700 PinMux v0.94'!DV8&" vs "&'RT700 PinMux v0.95'!DV8) | DW8: =IF('RT700 PinMux v0.94'!DW8='RT700 PinMux v0.95'!DW8,"",'RT700 PinMux v0.94'!DW8&" vs "&'RT700 PinMux v0.95'!DW8) | DX8: =IF('RT700 PinMux v0.94'!DX8='RT700 PinMux v0.95'!DX8,"",'RT700 PinMux v0.94'!DX8&" vs "&'RT700 PinMux v0.95'!DX8) | ... EK8: =IF('RT700 PinMux v0.94'!EK8='RT700 PinMux v0.95'!EK8,"",'RT700 PinMux v0.94'!EK8&" vs "&'RT700 PinMux v0.95'!EK8) | EN8: =IF('RT700 PinMux v0.94'!EN8='RT700 PinMux v0.95'!EN8,"",'RT700 PinMux v0.94'!EN8&" vs "&'RT700 PinMux v0.95'!EN8) | EO8: =IF('RT700 PinMux v0.94'!EO8='RT700 PinMux v0.95'!EO8,"",'RT700 PinMux v0.94'!EO8&" vs "&'RT700 PinMux v0.95'!EO8) | EP8: =IF('RT700 PinMux v0.94'!EP8='RT700 PinMux v0.95'!EP8,"",'RT700 PinMux v0.94'!EP8&" vs "&'RT700 PinMux v0.95'!EP8) | EQ8: =IF('RT700 PinMux v0.94'!EQ8='RT700 PinMux v0.95'!EQ8,"",'RT700 PinMux v0.94'!EQ8&" vs "&'RT700 PinMux v0.95'!EQ8) | ER8: =IF('RT700 PinMux v0.94'!ER8='RT700 PinMux v0.95'!ER8,"",'RT700 PinMux v0.94'!ER8&" vs "&'RT700 PinMux v0.95'!ER8) | ES8: =IF('RT700 PinMux v0.94'!ES8='RT700 PinMux v0.95'!ES8,"",'RT700 PinMux v0.94'!ES8&" vs "&'RT700 PinMux v0.95'!ES8) | ET8: =IF('RT700 PinMux v0.94'!ET8='RT700 PinMux v0.95'!ET8,"",'RT700 PinMux v0.94'!ET8&" vs "&'RT700 PinMux v0.95'!ET8) | EU8: =IF('RT700 PinMux v0.94'!EU8='RT700 PinMux v0.95'!EU8,"",'RT700 PinMux v0.94'!EU8&" vs "&'RT700 PinMux v0.95'!EU8) | ... EZ8: =IF('RT700 PinMux v0.94'!EZ8='RT700 PinMux v0.95'!EZ8,"",'RT700 PinMux v0.94'!EZ8&" vs "&'RT700 PinMux v0.95'!EZ8) | FB8: =IF('RT700 PinMux v0.94'!FB8='RT700 PinMux v0.95'!FB8,"",'RT700 PinMux v0.94'!FB8&" vs "&'RT700 PinMux v0.95'!FB8) | FC8: =IF('RT700 PinMux v0.94'!FC8='RT700 PinMux v0.95'!FC8,"",'RT700 PinMux v0.94'!FC8&" vs "&'RT700 PinMux v0.95'!FC8) | FD8: =IF('RT700 PinMux v0.94'!FD8='RT700 PinMux v0.95'!FD8,"",'RT700 PinMux v0.94'!FD8&" vs "&'RT700 PinMux v0.95'!FD8) | FE8: =IF('RT700 PinMux v0.94'!FE8='RT700 PinMux v0.95'!FE8,"",'RT700 PinMux v0.94'!FE8&" vs "&'RT700 PinMux v0.95'!FE8) | FF8: =IF('RT700 PinMux v0.94'!FF8='RT700 PinMux v0.95'!FF8,"",'RT700 PinMux v0.94'!FF8&" vs "&'RT700 PinMux v0.95'!FF8) | FG8: =IF('RT700 PinMux v0.94'!FG8='RT700 PinMux v0.95'!FG8,"",'RT700 PinMux v0.94'!FG8&" vs "&'RT700 PinMux v0.95'!FG8) | FH8: =IF('RT700 PinMux v0.94'!FH8='RT700 PinMux v0.95'!FH8,"",'RT700 PinMux v0.94'!FH8&" vs "&'RT700 PinMux v0.95'!FH8) | FI8: =IF('RT700 PinMux v0.94'!FI8='RT700 PinMux v0.95'!FI8,"",'RT700 PinMux v0.94'!FI8&" vs "&'RT700 PinMux v0.95'!FI8) | ... GA8: =IF('RT700 PinMux v0.94'!GA8='RT700 PinMux v0.95'!GA8,"",'RT700 PinMux v0.94'!GA8&" vs "&'RT700 PinMux v0.95'!GA8) | GD8: =IF('RT700 PinMux v0.94'!GD8='RT700 PinMux v0.95'!GD8,"",'RT700 PinMux v0.94'!GD8&" vs "&'RT700 PinMux v0.95'!GD8) | GE8: =IF('RT700 PinMux v0.94'!GE8='RT700 PinMux v0.95'!GE8,"",'RT700 PinMux v0.94'!GE8&" vs "&'RT700 PinMux v0.95'!GE8) | GF8: =IF('RT700 PinMux v0.94'!GF8='RT700 PinMux v0.95'!GF8,"",'RT700 PinMux v0.94'!GF8&" vs "&'RT700 PinMux v0.95'!GF8) | GG8: =IF('RT700 PinMux v0.94'!GG8='RT700 PinMux v0.95'!GG8,"",'RT700 PinMux v0.94'!GG8&" vs "&'RT700 PinMux v0.95'!GG8) | GH8: =IF('RT700 PinMux v0.94'!GH8='RT700 PinMux v0.95'!GH8,"",'RT700 PinMux v0.94'!GH8&" vs "&'RT700 PinMux v0.95'!GH8) | GI8: =IF('RT700 PinMux v0.94'!GI8='RT700 PinMux v0.95'!GI8,"",'RT700 PinMux v0.94'!GI8&" vs "&'RT700 PinMux v0.95'!GI8) | GJ8: =IF('RT700 PinMux v0.94'!GJ8='RT700 PinMux v0.95'!GJ8,"",'RT700 PinMux v0.94'!GJ8&" vs "&'RT700 PinMux v0.95'!GJ8) | GK8: =IF('RT700 PinMux v0.94'!GK8='RT700 PinMux v0.95'!GK8,"",'RT700 PinMux v0.94'!GK8&" vs "&'RT700 PinMux v0.95'!GK8) | ... HL8: =IF('RT700 PinMux v0.94'!HL8='RT700 PinMux v0.95'!HL8,"",'RT700 PinMux v0.94'!HL8&" vs "&'RT700 PinMux v0.95'!HL8) | HN8: =IF('RT700 PinMux v0.94'!HN8='RT700 PinMux v0.95'!HN8,"",'RT700 PinMux v0.94'!HN8&" vs "&'RT700 PinMux v0.95'!HN8) | HO8: =IF('RT700 PinMux v0.94'!HO8='RT700 PinMux v0.95'!HO8,"",'RT700 PinMux v0.94'!HO8&" vs "&'RT700 PinMux v0.95'!HO8) | HP8: =IF('RT700 PinMux v0.94'!HP8='RT700 PinMux v0.95'!HP8,"",'RT700 PinMux v0.94'!HP8&" vs "&'RT700 PinMux v0.95'!HP8) | HQ8: =IF('RT700 PinMux v0.94'!HQ8='RT700 PinMux v0.95'!HQ8,"",'RT700 PinMux v0.94'!HQ8&" vs "&'RT700 PinMux v0.95'!HQ8) | HR8: =IF('RT700 PinMux v0.94'!HR8='RT700 PinMux v0.95'!HR8,"",'RT700 PinMux v0.94'!HR8&" vs "&'RT700 PinMux v0.95'!HR8) | HS8: =IF('RT700 PinMux v0.94'!HS8='RT700 PinMux v0.95'!HS8,"",'RT700 PinMux v0.94'!HS8&" vs "&'RT700 PinMux v0.95'!HS8) | HT8: =IF('RT700 PinMux v0.94'!HT8='RT700 PinMux v0.95'!HT8,"",'RT700 PinMux v0.94'!HT8&" vs "&'RT700 PinMux v0.95'!HT8) | HU8: =IF('RT700 PinMux v0.94'!HU8='RT700 PinMux v0.95'!HU8,"",'RT700 PinMux v0.94'!HU8&" vs "&'RT700 PinMux v0.95'!HU8) | ... IE8: =IF('RT700 PinMux v0.94'!IE8='RT700 PinMux v0.95'!IE8,"",'RT700 PinMux v0.94'!IE8&" vs "&'RT700 PinMux v0.95'!IE8)
B9: ='RT700 PinMux v0.95'!B9 -> Compute VDD2 | C9: ='RT700 PinMux v0.95'!C9 -> VDDIO | D9: =IF('RT700 PinMux v0.94'!D9='RT700 PinMux v0.95'!D9,"",'RT700 PinMux v0.94'!D9&" vs "&'RT700 PinMux v0.95'!D9) | E9: =IF('RT700 PinMux v0.94'!E9='RT700 PinMux v0.95'!E9,"",'RT700 PinMux v0.94'!E9&" vs "&'RT700 PinMux v0.95'!E9) | F9: =IF('RT700 PinMux v0.94'!F9='RT700 PinMux v0.95'!F9,"",'RT700 PinMux v0.94'!F9&" vs "&'RT700 PinMux v0.95'!F9) | G9: =IF('RT700 PinMux v0.94'!G9='RT700 PinMux v0.95'!G9,"",'RT700 PinMux v0.94'!G9&" vs "&'RT700 PinMux v0.95'!G9) | H9: =IF('RT700 PinMux v0.94'!H9='RT700 PinMux v0.95'!H9,"",'RT700 PinMux v0.94'!H9&" vs "&'RT700 PinMux v0.95'!H9) | I9: =IF('RT700 PinMux v0.94'!I9='RT700 PinMux v0.95'!I9,"",'RT700 PinMux v0.94'!I9&" vs "&'RT700 PinMux v0.95'!I9) | J9: =IF('RT700 PinMux v0.94'!J9='RT700 PinMux v0.95'!J9,"",'RT700 PinMux v0.94'!J9&" vs "&'RT700 PinMux v0.95'!J9) | K9: =IF('RT700 PinMux v0.94'!K9='RT700 PinMux v0.95'!K9,"",'RT700 PinMux v0.94'!K9&" vs "&'RT700 PinMux v0.95'!K9) | ... S9: =IF('RT700 PinMux v0.94'!S9='RT700 PinMux v0.95'!S9,"",'RT700 PinMux v0.94'!S9&" vs "&'RT700 PinMux v0.95'!S9) | AA9: =IF('RT700 PinMux v0.94'!AA9='RT700 PinMux v0.95'!AA9,"",'RT700 PinMux v0.94'!AA9&" vs "&'RT700 PinMux v0.95'!AA9) | AB9: =IF('RT700 PinMux v0.94'!AB9='RT700 PinMux v0.95'!AB9,"",'RT700 PinMux v0.94'!AB9&" vs "&'RT700 PinMux v0.95'!AB9) | AC9: =IF('RT700 PinMux v0.94'!AC9='RT700 PinMux v0.95'!AC9,"",'RT700 PinMux v0.94'!AC9&" vs "&'RT700 PinMux v0.95'!AC9) | AD9: =IF('RT700 PinMux v0.94'!AD9='RT700 PinMux v0.95'!AD9,"",'RT700 PinMux v0.94'!AD9&" vs "&'RT700 PinMux v0.95'!AD9) | AE9: =IF('RT700 PinMux v0.94'!AE9='RT700 PinMux v0.95'!AE9,"",'RT700 PinMux v0.94'!AE9&" vs "&'RT700 PinMux v0.95'!AE9) | AF9: =IF('RT700 PinMux v0.94'!AF9='RT700 PinMux v0.95'!AF9,"",'RT700 PinMux v0.94'!AF9&" vs "&'RT700 PinMux v0.95'!AF9)
B10: ='RT700 PinMux v0.95'!B10 -> Compute VDD2 | C10: ='RT700 PinMux v0.95'!C10 -> VDDIO | D10: =IF('RT700 PinMux v0.94'!D10='RT700 PinMux v0.95'!D10,"",'RT700 PinMux v0.94'!D10&" vs "&'RT700 PinMux v0.95'!D10) | E10: =IF('RT700 PinMux v0.94'!E10='RT700 PinMux v0.95'!E10,"",'RT700 PinMux v0.94'!E10&" vs "&'RT700 PinMux v0.95'!E10) | F10: =IF('RT700 PinMux v0.94'!F10='RT700 PinMux v0.95'!F10,"",'RT700 PinMux v0.94'!F10&" vs "&'RT700 PinMux v0.95'!F10) | G10: =IF('RT700 PinMux v0.94'!G10='RT700 PinMux v0.95'!G10,"",'RT700 PinMux v0.94'!G10&" vs "&'RT700 PinMux v0.95'!G10) | H10: =IF('RT700 PinMux v0.94'!H10='RT700 PinMux v0.95'!H10,"",'RT700 PinMux v0.94'!H10&" vs "&'RT700 PinMux v0.95'!H10) | I10: =IF('RT700 PinMux v0.94'!I10='RT700 PinMux v0.95'!I10,"",'RT700 PinMux v0.94'!I10&" vs "&'RT700 PinMux v0.95'!I10) | J10: =IF('RT700 PinMux v0.94'!J10='RT700 PinMux v0.95'!J10,"",'RT700 PinMux v0.94'!J10&" vs "&'RT700 PinMux v0.95'!J10) | K10: =IF('RT700 PinMux v0.94'!K10='RT700 PinMux v0.95'!K10,"",'RT700 PinMux v0.94'!K10&" vs "&'RT700 PinMux v0.95'!K10) | ... S10: =IF('RT700 PinMux v0.94'!S10='RT700 PinMux v0.95'!S10,"",'RT700 PinMux v0.94'!S10&" vs "&'RT700 PinMux v0.95'!S10) | AA10: =IF('RT700 PinMux v0.94'!AA10='RT700 PinMux v0.95'!AA10,"",'RT700 PinMux v0.94'!AA10&" vs "&'RT700 PinMux v0.95'!AA10) | AB10: =IF('RT700 PinMux v0.94'!AB10='RT700 PinMux v0.95'!AB10,"",'RT700 PinMux v0.94'!AB10&" vs "&'RT700 PinMux v0.95'!AB10) | AC10: =IF('RT700 PinMux v0.94'!AC10='RT700 PinMux v0.95'!AC10,"",'RT700 PinMux v0.94'!AC10&" vs "&'RT700 PinMux v0.95'!AC10) | AD10: =IF('RT700 PinMux v0.94'!AD10='RT700 PinMux v0.95'!AD10,"",'RT700 PinMux v0.94'!AD10&" vs "&'RT700 PinMux v0.95'!AD10) | AE10: =IF('RT700 PinMux v0.94'!AE10='RT700 PinMux v0.95'!AE10,"",'RT700 PinMux v0.94'!AE10&" vs "&'RT700 PinMux v0.95'!AE10) | AF10: =IF('RT700 PinMux v0.94'!AF10='RT700 PinMux v0.95'!AF10,"",'RT700 PinMux v0.94'!AF10&" vs "&'RT700 PinMux v0.95'!AF10)
B11: ='RT700 PinMux v0.95'!B11 -> Compute VDD2 | C11: ='RT700 PinMux v0.95'!C11 -> VDDIO | D11: =IF('RT700 PinMux v0.94'!D11='RT700 PinMux v0.95'!D11,"",'RT700 PinMux v0.94'!D11&" vs "&'RT700 PinMux v0.95'!D11) | E11: =IF('RT700 PinMux v0.94'!E11='RT700 PinMux v0.95'!E11,"",'RT700 PinMux v0.94'!E11&" vs "&'RT700 PinMux v0.95'!E11) | F11: =IF('RT700 PinMux v0.94'!F11='RT700 PinMux v0.95'!F11,"",'RT700 PinMux v0.94'!F11&" vs "&'RT700 PinMux v0.95'!F11) | G11: =IF('RT700 PinMux v0.94'!G11='RT700 PinMux v0.95'!G11,"",'RT700 PinMux v0.94'!G11&" vs "&'RT700 PinMux v0.95'!G11) | H11: =IF('RT700 PinMux v0.94'!H11='RT700 PinMux v0.95'!H11,"",'RT700 PinMux v0.94'!H11&" vs "&'RT700 PinMux v0.95'!H11) | I11: =IF('RT700 PinMux v0.94'!I11='RT700 PinMux v0.95'!I11,"",'RT700 PinMux v0.94'!I11&" vs "&'RT700 PinMux v0.95'!I11) | J11: =IF('RT700 PinMux v0.94'!J11='RT700 PinMux v0.95'!J11,"",'RT700 PinMux v0.94'!J11&" vs "&'RT700 PinMux v0.95'!J11) | K11: =IF('RT700 PinMux v0.94'!K11='RT700 PinMux v0.95'!K11,"",'RT700 PinMux v0.94'!K11&" vs "&'RT700 PinMux v0.95'!K11) | ... S11: =IF('RT700 PinMux v0.94'!S11='RT700 PinMux v0.95'!S11,"",'RT700 PinMux v0.94'!S11&" vs "&'RT700 PinMux v0.95'!S11) | AA11: =IF('RT700 PinMux v0.94'!AA11='RT700 PinMux v0.95'!AA11,"",'RT700 PinMux v0.94'!AA11&" vs "&'RT700 PinMux v0.95'!AA11) | AB11: =IF('RT700 PinMux v0.94'!AB11='RT700 PinMux v0.95'!AB11,"",'RT700 PinMux v0.94'!AB11&" vs "&'RT700 PinMux v0.95'!AB11) | AC11: =IF('RT700 PinMux v0.94'!AC11='RT700 PinMux v0.95'!AC11,"",'RT700 PinMux v0.94'!AC11&" vs "&'RT700 PinMux v0.95'!AC11) | AD11: =IF('RT700 PinMux v0.94'!AD11='RT700 PinMux v0.95'!AD11,"",'RT700 PinMux v0.94'!AD11&" vs "&'RT700 PinMux v0.95'!AD11) | AE11: =IF('RT700 PinMux v0.94'!AE11='RT700 PinMux v0.95'!AE11,"",'RT700 PinMux v0.94'!AE11&" vs "&'RT700 PinMux v0.95'!AE11) | AF11: =IF('RT700 PinMux v0.94'!AF11='RT700 PinMux v0.95'!AF11,"",'RT700 PinMux v0.94'!AF11&" vs "&'RT700 PinMux v0.95'!AF11)
B12: ='RT700 PinMux v0.95'!B12 -> Compute VDD2 | C12: ='RT700 PinMux v0.95'!C12 -> VDDIO | D12: =IF('RT700 PinMux v0.94'!D12='RT700 PinMux v0.95'!D12,"",'RT700 PinMux v0.94'!D12&" vs "&'RT700 PinMux v0.95'!D12) | E12: =IF('RT700 PinMux v0.94'!E12='RT700 PinMux v0.95'!E12,"",'RT700 PinMux v0.94'!E12&" vs "&'RT700 PinMux v0.95'!E12) | F12: =IF('RT700 PinMux v0.94'!F12='RT700 PinMux v0.95'!F12,"",'RT700 PinMux v0.94'!F12&" vs "&'RT700 PinMux v0.95'!F12) | G12: =IF('RT700 PinMux v0.94'!G12='RT700 PinMux v0.95'!G12,"",'RT700 PinMux v0.94'!G12&" vs "&'RT700 PinMux v0.95'!G12) | H12: =IF('RT700 PinMux v0.94'!H12='RT700 PinMux v0.95'!H12,"",'RT700 PinMux v0.94'!H12&" vs "&'RT700 PinMux v0.95'!H12) | I12: =IF('RT700 PinMux v0.94'!I12='RT700 PinMux v0.95'!I12,"",'RT700 PinMux v0.94'!I12&" vs "&'RT700 PinMux v0.95'!I12) | J12: =IF('RT700 PinMux v0.94'!J12='RT700 PinMux v0.95'!J12,"",'RT700 PinMux v0.94'!J12&" vs "&'RT700 PinMux v0.95'!J12) | K12: =IF('RT700 PinMux v0.94'!K12='RT700 PinMux v0.95'!K12,"",'RT700 PinMux v0.94'!K12&" vs "&'RT700 PinMux v0.95'!K12) | ... S12: =IF('RT700 PinMux v0.94'!S12='RT700 PinMux v0.95'!S12,"",'RT700 PinMux v0.94'!S12&" vs "&'RT700 PinMux v0.95'!S12) | AA12: =IF('RT700 PinMux v0.94'!AA12='RT700 PinMux v0.95'!AA12,"",'RT700 PinMux v0.94'!AA12&" vs "&'RT700 PinMux v0.95'!AA12) | AB12: =IF('RT700 PinMux v0.94'!AB12='RT700 PinMux v0.95'!AB12,"",'RT700 PinMux v0.94'!AB12&" vs "&'RT700 PinMux v0.95'!AB12) | AC12: =IF('RT700 PinMux v0.94'!AC12='RT700 PinMux v0.95'!AC12,"",'RT700 PinMux v0.94'!AC12&" vs "&'RT700 PinMux v0.95'!AC12) | AD12: =IF('RT700 PinMux v0.94'!AD12='RT700 PinMux v0.95'!AD12,"",'RT700 PinMux v0.94'!AD12&" vs "&'RT700 PinMux v0.95'!AD12) | AE12: =IF('RT700 PinMux v0.94'!AE12='RT700 PinMux v0.95'!AE12,"",'RT700 PinMux v0.94'!AE12&" vs "&'RT700 PinMux v0.95'!AE12) | AF12: =IF('RT700 PinMux v0.94'!AF12='RT700 PinMux v0.95'!AF12,"",'RT700 PinMux v0.94'!AF12&" vs "&'RT700 PinMux v0.95'!AF12)
B13: ='RT700 PinMux v0.95'!B13 -> Compute VDD2 | C13: ='RT700 PinMux v0.95'!C13 -> VDDIO | D13: =IF('RT700 PinMux v0.94'!D13='RT700 PinMux v0.95'!D13,"",'RT700 PinMux v0.94'!D13&" vs "&'RT700 PinMux v0.95'!D13) | E13: =IF('RT700 PinMux v0.94'!E13='RT700 PinMux v0.95'!E13,"",'RT700 PinMux v0.94'!E13&" vs "&'RT700 PinMux v0.95'!E13) | F13: =IF('RT700 PinMux v0.94'!F13='RT700 PinMux v0.95'!F13,"",'RT700 PinMux v0.94'!F13&" vs "&'RT700 PinMux v0.95'!F13) | G13: =IF('RT700 PinMux v0.94'!G13='RT700 PinMux v0.95'!G13,"",'RT700 PinMux v0.94'!G13&" vs "&'RT700 PinMux v0.95'!G13) | H13: =IF('RT700 PinMux v0.94'!H13='RT700 PinMux v0.95'!H13,"",'RT700 PinMux v0.94'!H13&" vs "&'RT700 PinMux v0.95'!H13) | I13: =IF('RT700 PinMux v0.94'!I13='RT700 PinMux v0.95'!I13,"",'RT700 PinMux v0.94'!I13&" vs "&'RT700 PinMux v0.95'!I13) | J13: =IF('RT700 PinMux v0.94'!J13='RT700 PinMux v0.95'!J13,"",'RT700 PinMux v0.94'!J13&" vs "&'RT700 PinMux v0.95'!J13) | K13: =IF('RT700 PinMux v0.94'!K13='RT700 PinMux v0.95'!K13,"",'RT700 PinMux v0.94'!K13&" vs "&'RT700 PinMux v0.95'!K13) | ... S13: =IF('RT700 PinMux v0.94'!S13='RT700 PinMux v0.95'!S13,"",'RT700 PinMux v0.94'!S13&" vs "&'RT700 PinMux v0.95'!S13) | AA13: =IF('RT700 PinMux v0.94'!AA13='RT700 PinMux v0.95'!AA13,"",'RT700 PinMux v0.94'!AA13&" vs "&'RT700 PinMux v0.95'!AA13) | AB13: =IF('RT700 PinMux v0.94'!AB13='RT700 PinMux v0.95'!AB13,"",'RT700 PinMux v0.94'!AB13&" vs "&'RT700 PinMux v0.95'!AB13) | AC13: =IF('RT700 PinMux v0.94'!AC13='RT700 PinMux v0.95'!AC13,"",'RT700 PinMux v0.94'!AC13&" vs "&'RT700 PinMux v0.95'!AC13) | AD13: =IF('RT700 PinMux v0.94'!AD13='RT700 PinMux v0.95'!AD13,"",'RT700 PinMux v0.94'!AD13&" vs "&'RT700 PinMux v0.95'!AD13) | AE13: =IF('RT700 PinMux v0.94'!AE13='RT700 PinMux v0.95'!AE13,"",'RT700 PinMux v0.94'!AE13&" vs "&'RT700 PinMux v0.95'!AE13) | AF13: =IF('RT700 PinMux v0.94'!AF13='RT700 PinMux v0.95'!AF13,"",'RT700 PinMux v0.94'!AF13&" vs "&'RT700 PinMux v0.95'!AF13)
B14: ='RT700 PinMux v0.95'!B14 -> Compute VDD2 | C14: ='RT700 PinMux v0.95'!C14 -> VDDIO | D14: =IF('RT700 PinMux v0.94'!D14='RT700 PinMux v0.95'!D14,"",'RT700 PinMux v0.94'!D14&" vs "&'RT700 PinMux v0.95'!D14) | E14: =IF('RT700 PinMux v0.94'!E14='RT700 PinMux v0.95'!E14,"",'RT700 PinMux v0.94'!E14&" vs "&'RT700 PinMux v0.95'!E14) | F14: =IF('RT700 PinMux v0.94'!F14='RT700 PinMux v0.95'!F14,"",'RT700 PinMux v0.94'!F14&" vs "&'RT700 PinMux v0.95'!F14) | G14: =IF('RT700 PinMux v0.94'!G14='RT700 PinMux v0.95'!G14,"",'RT700 PinMux v0.94'!G14&" vs "&'RT700 PinMux v0.95'!G14) | H14: =IF('RT700 PinMux v0.94'!H14='RT700 PinMux v0.95'!H14,"",'RT700 PinMux v0.94'!H14&" vs "&'RT700 PinMux v0.95'!H14) | I14: =IF('RT700 PinMux v0.94'!I14='RT700 PinMux v0.95'!I14,"",'RT700 PinMux v0.94'!I14&" vs "&'RT700 PinMux v0.95'!I14) | J14: =IF('RT700 PinMux v0.94'!J14='RT700 PinMux v0.95'!J14,"",'RT700 PinMux v0.94'!J14&" vs "&'RT700 PinMux v0.95'!J14) | K14: =IF('RT700 PinMux v0.94'!K14='RT700 PinMux v0.95'!K14,"",'RT700 PinMux v0.94'!K14&" vs "&'RT700 PinMux v0.95'!K14) | ... S14: =IF('RT700 PinMux v0.94'!S14='RT700 PinMux v0.95'!S14,"",'RT700 PinMux v0.94'!S14&" vs "&'RT700 PinMux v0.95'!S14) | AA14: =IF('RT700 PinMux v0.94'!AA14='RT700 PinMux v0.95'!AA14,"",'RT700 PinMux v0.94'!AA14&" vs "&'RT700 PinMux v0.95'!AA14) | AB14: =IF('RT700 PinMux v0.94'!AB14='RT700 PinMux v0.95'!AB14,"",'RT700 PinMux v0.94'!AB14&" vs "&'RT700 PinMux v0.95'!AB14) | AC14: =IF('RT700 PinMux v0.94'!AC14='RT700 PinMux v0.95'!AC14,"",'RT700 PinMux v0.94'!AC14&" vs "&'RT700 PinMux v0.95'!AC14) | AD14: =IF('RT700 PinMux v0.94'!AD14='RT700 PinMux v0.95'!AD14,"",'RT700 PinMux v0.94'!AD14&" vs "&'RT700 PinMux v0.95'!AD14) | AE14: =IF('RT700 PinMux v0.94'!AE14='RT700 PinMux v0.95'!AE14,"",'RT700 PinMux v0.94'!AE14&" vs "&'RT700 PinMux v0.95'!AE14) | AF14: =IF('RT700 PinMux v0.94'!AF14='RT700 PinMux v0.95'!AF14,"",'RT700 PinMux v0.94'!AF14&" vs "&'RT700 PinMux v0.95'!AF14)
B15: ='RT700 PinMux v0.95'!B15 -> Compute VDD2 | C15: ='RT700 PinMux v0.95'!C15 -> VDDIO | D15: =IF('RT700 PinMux v0.94'!D15='RT700 PinMux v0.95'!D15,"",'RT700 PinMux v0.94'!D15&" vs "&'RT700 PinMux v0.95'!D15) | E15: =IF('RT700 PinMux v0.94'!E15='RT700 PinMux v0.95'!E15,"",'RT700 PinMux v0.94'!E15&" vs "&'RT700 PinMux v0.95'!E15) | F15: =IF('RT700 PinMux v0.94'!F15='RT700 PinMux v0.95'!F15,"",'RT700 PinMux v0.94'!F15&" vs "&'RT700 PinMux v0.95'!F15) | G15: =IF('RT700 PinMux v0.94'!G15='RT700 PinMux v0.95'!G15,"",'RT700 PinMux v0.94'!G15&" vs "&'RT700 PinMux v0.95'!G15) | H15: =IF('RT700 PinMux v0.94'!H15='RT700 PinMux v0.95'!H15,"",'RT700 PinMux v0.94'!H15&" vs "&'RT700 PinMux v0.95'!H15) | I15: =IF('RT700 PinMux v0.94'!I15='RT700 PinMux v0.95'!I15,"",'RT700 PinMux v0.94'!I15&" vs "&'RT700 PinMux v0.95'!I15) | J15: =IF('RT700 PinMux v0.94'!J15='RT700 PinMux v0.95'!J15,"",'RT700 PinMux v0.94'!J15&" vs "&'RT700 PinMux v0.95'!J15) | K15: =IF('RT700 PinMux v0.94'!K15='RT700 PinMux v0.95'!K15,"",'RT700 PinMux v0.94'!K15&" vs "&'RT700 PinMux v0.95'!K15) | ... S15: =IF('RT700 PinMux v0.94'!S15='RT700 PinMux v0.95'!S15,"",'RT700 PinMux v0.94'!S15&" vs "&'RT700 PinMux v0.95'!S15) | AA15: =IF('RT700 PinMux v0.94'!AA15='RT700 PinMux v0.95'!AA15,"",'RT700 PinMux v0.94'!AA15&" vs "&'RT700 PinMux v0.95'!AA15) | AB15: =IF('RT700 PinMux v0.94'!AB15='RT700 PinMux v0.95'!AB15,"",'RT700 PinMux v0.94'!AB15&" vs "&'RT700 PinMux v0.95'!AB15) | AC15: =IF('RT700 PinMux v0.94'!AC15='RT700 PinMux v0.95'!AC15,"",'RT700 PinMux v0.94'!AC15&" vs "&'RT700 PinMux v0.95'!AC15) | AD15: =IF('RT700 PinMux v0.94'!AD15='RT700 PinMux v0.95'!AD15,"",'RT700 PinMux v0.94'!AD15&" vs "&'RT700 PinMux v0.95'!AD15) | AE15: =IF('RT700 PinMux v0.94'!AE15='RT700 PinMux v0.95'!AE15,"",'RT700 PinMux v0.94'!AE15&" vs "&'RT700 PinMux v0.95'!AE15) | AF15: =IF('RT700 PinMux v0.94'!AF15='RT700 PinMux v0.95'!AF15,"",'RT700 PinMux v0.94'!AF15&" vs "&'RT700 PinMux v0.95'!AF15)
B16: ='RT700 PinMux v0.95'!B16 -> Compute VDD2 | C16: ='RT700 PinMux v0.95'!C16 -> VDDIO | D16: =IF('RT700 PinMux v0.94'!D16='RT700 PinMux v0.95'!D16,"",'RT700 PinMux v0.94'!D16&" vs "&'RT700 PinMux v0.95'!D16) | E16: =IF('RT700 PinMux v0.94'!E16='RT700 PinMux v0.95'!E16,"",'RT700 PinMux v0.94'!E16&" vs "&'RT700 PinMux v0.95'!E16) | F16: =IF('RT700 PinMux v0.94'!F16='RT700 PinMux v0.95'!F16,"",'RT700 PinMux v0.94'!F16&" vs "&'RT700 PinMux v0.95'!F16) | G16: =IF('RT700 PinMux v0.94'!G16='RT700 PinMux v0.95'!G16,"",'RT700 PinMux v0.94'!G16&" vs "&'RT700 PinMux v0.95'!G16) | H16: =IF('RT700 PinMux v0.94'!H16='RT700 PinMux v0.95'!H16,"",'RT700 PinMux v0.94'!H16&" vs "&'RT700 PinMux v0.95'!H16) | I16: =IF('RT700 PinMux v0.94'!I16='RT700 PinMux v0.95'!I16,"",'RT700 PinMux v0.94'!I16&" vs "&'RT700 PinMux v0.95'!I16) | J16: =IF('RT700 PinMux v0.94'!J16='RT700 PinMux v0.95'!J16,"",'RT700 PinMux v0.94'!J16&" vs "&'RT700 PinMux v0.95'!J16) | K16: =IF('RT700 PinMux v0.94'!K16='RT700 PinMux v0.95'!K16,"",'RT700 PinMux v0.94'!K16&" vs "&'RT700 PinMux v0.95'!K16) | ... S16: =IF('RT700 PinMux v0.94'!S16='RT700 PinMux v0.95'!S16,"",'RT700 PinMux v0.94'!S16&" vs "&'RT700 PinMux v0.95'!S16) | AA16: =IF('RT700 PinMux v0.94'!AA16='RT700 PinMux v0.95'!AA16,"",'RT700 PinMux v0.94'!AA16&" vs "&'RT700 PinMux v0.95'!AA16) | AB16: =IF('RT700 PinMux v0.94'!AB16='RT700 PinMux v0.95'!AB16,"",'RT700 PinMux v0.94'!AB16&" vs "&'RT700 PinMux v0.95'!AB16) | AC16: =IF('RT700 PinMux v0.94'!AC16='RT700 PinMux v0.95'!AC16,"",'RT700 PinMux v0.94'!AC16&" vs "&'RT700 PinMux v0.95'!AC16) | AD16: =IF('RT700 PinMux v0.94'!AD16='RT700 PinMux v0.95'!AD16,"",'RT700 PinMux v0.94'!AD16&" vs "&'RT700 PinMux v0.95'!AD16) | AE16: =IF('RT700 PinMux v0.94'!AE16='RT700 PinMux v0.95'!AE16,"",'RT700 PinMux v0.94'!AE16&" vs "&'RT700 PinMux v0.95'!AE16) | AF16: =IF('RT700 PinMux v0.94'!AF16='RT700 PinMux v0.95'!AF16,"",'RT700 PinMux v0.94'!AF16&" vs "&'RT700 PinMux v0.95'!AF16)
B17: ='RT700 PinMux v0.95'!B17 -> Compute VDD2 | C17: ='RT700 PinMux v0.95'!C17 -> VDDIO | D17: =IF('RT700 PinMux v0.94'!D17='RT700 PinMux v0.95'!D17,"",'RT700 PinMux v0.94'!D17&" vs "&'RT700 PinMux v0.95'!D17) | E17: =IF('RT700 PinMux v0.94'!E17='RT700 PinMux v0.95'!E17,"",'RT700 PinMux v0.94'!E17&" vs "&'RT700 PinMux v0.95'!E17) | F17: =IF('RT700 PinMux v0.94'!F17='RT700 PinMux v0.95'!F17,"",'RT700 PinMux v0.94'!F17&" vs "&'RT700 PinMux v0.95'!F17) | G17: =IF('RT700 PinMux v0.94'!G17='RT700 PinMux v0.95'!G17,"",'RT700 PinMux v0.94'!G17&" vs "&'RT700 PinMux v0.95'!G17) | H17: =IF('RT700 PinMux v0.94'!H17='RT700 PinMux v0.95'!H17,"",'RT700 PinMux v0.94'!H17&" vs "&'RT700 PinMux v0.95'!H17) | I17: =IF('RT700 PinMux v0.94'!I17='RT700 PinMux v0.95'!I17,"",'RT700 PinMux v0.94'!I17&" vs "&'RT700 PinMux v0.95'!I17) | J17: =IF('RT700 PinMux v0.94'!J17='RT700 PinMux v0.95'!J17,"",'RT700 PinMux v0.94'!J17&" vs "&'RT700 PinMux v0.95'!J17) -> vs x | K17: =IF('RT700 PinMux v0.94'!K17='RT700 PinMux v0.95'!K17,"",'RT700 PinMux v0.94'!K17&" vs "&'RT700 PinMux v0.95'!K17) | ... S17: =IF('RT700 PinMux v0.94'!S17='RT700 PinMux v0.95'!S17,"",'RT700 PinMux v0.94'!S17&" vs "&'RT700 PinMux v0.95'!S17) | AA17: =IF('RT700 PinMux v0.94'!AA17='RT700 PinMux v0.95'!AA17,"",'RT700 PinMux v0.94'!AA17&" vs "&'RT700 PinMux v0.95'!AA17) | AB17: =IF('RT700 PinMux v0.94'!AB17='RT700 PinMux v0.95'!AB17,"",'RT700 PinMux v0.94'!AB17&" vs "&'RT700 PinMux v0.95'!AB17) | AC17: =IF('RT700 PinMux v0.94'!AC17='RT700 PinMux v0.95'!AC17,"",'RT700 PinMux v0.94'!AC17&" vs "&'RT700 PinMux v0.95'!AC17) | AD17: =IF('RT700 PinMux v0.94'!AD17='RT700 PinMux v0.95'!AD17,"",'RT700 PinMux v0.94'!AD17&" vs "&'RT700 PinMux v0.95'!AD17) | AE17: =IF('RT700 PinMux v0.94'!AE17='RT700 PinMux v0.95'!AE17,"",'RT700 PinMux v0.94'!AE17&" vs "&'RT700 PinMux v0.95'!AE17) | AF17: =IF('RT700 PinMux v0.94'!AF17='RT700 PinMux v0.95'!AF17,"",'RT700 PinMux v0.94'!AF17&" vs "&'RT700 PinMux v0.95'!AF17)
B18: ='RT700 PinMux v0.95'!B18 -> Compute VDD2 | C18: ='RT700 PinMux v0.95'!C18 -> VDDIO | D18: =IF('RT700 PinMux v0.94'!D18='RT700 PinMux v0.95'!D18,"",'RT700 PinMux v0.94'!D18&" vs "&'RT700 PinMux v0.95'!D18) | E18: =IF('RT700 PinMux v0.94'!E18='RT700 PinMux v0.95'!E18,"",'RT700 PinMux v0.94'!E18&" vs "&'RT700 PinMux v0.95'!E18) | F18: =IF('RT700 PinMux v0.94'!F18='RT700 PinMux v0.95'!F18,"",'RT700 PinMux v0.94'!F18&" vs "&'RT700 PinMux v0.95'!F18) | G18: =IF('RT700 PinMux v0.94'!G18='RT700 PinMux v0.95'!G18,"",'RT700 PinMux v0.94'!G18&" vs "&'RT700 PinMux v0.95'!G18) | H18: =IF('RT700 PinMux v0.94'!H18='RT700 PinMux v0.95'!H18,"",'RT700 PinMux v0.94'!H18&" vs "&'RT700 PinMux v0.95'!H18) | I18: =IF('RT700 PinMux v0.94'!I18='RT700 PinMux v0.95'!I18,"",'RT700 PinMux v0.94'!I18&" vs "&'RT700 PinMux v0.95'!I18) | J18: =IF('RT700 PinMux v0.94'!J18='RT700 PinMux v0.95'!J18,"",'RT700 PinMux v0.94'!J18&" vs "&'RT700 PinMux v0.95'!J18) | K18: =IF('RT700 PinMux v0.94'!K18='RT700 PinMux v0.95'!K18,"",'RT700 PinMux v0.94'!K18&" vs "&'RT700 PinMux v0.95'!K18) | ... S18: =IF('RT700 PinMux v0.94'!S18='RT700 PinMux v0.95'!S18,"",'RT700 PinMux v0.94'!S18&" vs "&'RT700 PinMux v0.95'!S18) | AA18: =IF('RT700 PinMux v0.94'!AA18='RT700 PinMux v0.95'!AA18,"",'RT700 PinMux v0.94'!AA18&" vs "&'RT700 PinMux v0.95'!AA18) | AB18: =IF('RT700 PinMux v0.94'!AB18='RT700 PinMux v0.95'!AB18,"",'RT700 PinMux v0.94'!AB18&" vs "&'RT700 PinMux v0.95'!AB18) | AC18: =IF('RT700 PinMux v0.94'!AC18='RT700 PinMux v0.95'!AC18,"",'RT700 PinMux v0.94'!AC18&" vs "&'RT700 PinMux v0.95'!AC18) | AD18: =IF('RT700 PinMux v0.94'!AD18='RT700 PinMux v0.95'!AD18,"",'RT700 PinMux v0.94'!AD18&" vs "&'RT700 PinMux v0.95'!AD18) | AE18: =IF('RT700 PinMux v0.94'!AE18='RT700 PinMux v0.95'!AE18,"",'RT700 PinMux v0.94'!AE18&" vs "&'RT700 PinMux v0.95'!AE18) | AF18: =IF('RT700 PinMux v0.94'!AF18='RT700 PinMux v0.95'!AF18,"",'RT700 PinMux v0.94'!AF18&" vs "&'RT700 PinMux v0.95'!AF18)
B19: ='RT700 PinMux v0.95'!B19 -> Compute VDD2 | C19: ='RT700 PinMux v0.95'!C19 -> VDDIO | D19: =IF('RT700 PinMux v0.94'!D19='RT700 PinMux v0.95'!D19,"",'RT700 PinMux v0.94'!D19&" vs "&'RT700 PinMux v0.95'!D19) | E19: =IF('RT700 PinMux v0.94'!E19='RT700 PinMux v0.95'!E19,"",'RT700 PinMux v0.94'!E19&" vs "&'RT700 PinMux v0.95'!E19) | F19: =IF('RT700 PinMux v0.94'!F19='RT700 PinMux v0.95'!F19,"",'RT700 PinMux v0.94'!F19&" vs "&'RT700 PinMux v0.95'!F19) | G19: =IF('RT700 PinMux v0.94'!G19='RT700 PinMux v0.95'!G19,"",'RT700 PinMux v0.94'!G19&" vs "&'RT700 PinMux v0.95'!G19) | H19: =IF('RT700 PinMux v0.94'!H19='RT700 PinMux v0.95'!H19,"",'RT700 PinMux v0.94'!H19&" vs "&'RT700 PinMux v0.95'!H19) | I19: =IF('RT700 PinMux v0.94'!I19='RT700 PinMux v0.95'!I19,"",'RT700 PinMux v0.94'!I19&" vs "&'RT700 PinMux v0.95'!I19) | J19: =IF('RT700 PinMux v0.94'!J19='RT700 PinMux v0.95'!J19,"",'RT700 PinMux v0.94'!J19&" vs "&'RT700 PinMux v0.95'!J19) | K19: =IF('RT700 PinMux v0.94'!K19='RT700 PinMux v0.95'!K19,"",'RT700 PinMux v0.94'!K19&" vs "&'RT700 PinMux v0.95'!K19) | ... S19: =IF('RT700 PinMux v0.94'!S19='RT700 PinMux v0.95'!S19,"",'RT700 PinMux v0.94'!S19&" vs "&'RT700 PinMux v0.95'!S19) | AA19: =IF('RT700 PinMux v0.94'!AA19='RT700 PinMux v0.95'!AA19,"",'RT700 PinMux v0.94'!AA19&" vs "&'RT700 PinMux v0.95'!AA19) | AB19: =IF('RT700 PinMux v0.94'!AB19='RT700 PinMux v0.95'!AB19,"",'RT700 PinMux v0.94'!AB19&" vs "&'RT700 PinMux v0.95'!AB19) | AC19: =IF('RT700 PinMux v0.94'!AC19='RT700 PinMux v0.95'!AC19,"",'RT700 PinMux v0.94'!AC19&" vs "&'RT700 PinMux v0.95'!AC19) | AD19: =IF('RT700 PinMux v0.94'!AD19='RT700 PinMux v0.95'!AD19,"",'RT700 PinMux v0.94'!AD19&" vs "&'RT700 PinMux v0.95'!AD19) | AE19: =IF('RT700 PinMux v0.94'!AE19='RT700 PinMux v0.95'!AE19,"",'RT700 PinMux v0.94'!AE19&" vs "&'RT700 PinMux v0.95'!AE19) | AF19: =IF('RT700 PinMux v0.94'!AF19='RT700 PinMux v0.95'!AF19,"",'RT700 PinMux v0.94'!AF19&" vs "&'RT700 PinMux v0.95'!AF19)
B20: ='RT700 PinMux v0.95'!B20 -> Compute VDD2 | C20: ='RT700 PinMux v0.95'!C20 -> VDDIO | D20: =IF('RT700 PinMux v0.94'!D20='RT700 PinMux v0.95'!D20,"",'RT700 PinMux v0.94'!D20&" vs "&'RT700 PinMux v0.95'!D20) | E20: =IF('RT700 PinMux v0.94'!E20='RT700 PinMux v0.95'!E20,"",'RT700 PinMux v0.94'!E20&" vs "&'RT700 PinMux v0.95'!E20) | F20: =IF('RT700 PinMux v0.94'!F20='RT700 PinMux v0.95'!F20,"",'RT700 PinMux v0.94'!F20&" vs "&'RT700 PinMux v0.95'!F20) | G20: =IF('RT700 PinMux v0.94'!G20='RT700 PinMux v0.95'!G20,"",'RT700 PinMux v0.94'!G20&" vs "&'RT700 PinMux v0.95'!G20) | H20: =IF('RT700 PinMux v0.94'!H20='RT700 PinMux v0.95'!H20,"",'RT700 PinMux v0.94'!H20&" vs "&'RT700 PinMux v0.95'!H20) | I20: =IF('RT700 PinMux v0.94'!I20='RT700 PinMux v0.95'!I20,"",'RT700 PinMux v0.94'!I20&" vs "&'RT700 PinMux v0.95'!I20) | J20: =IF('RT700 PinMux v0.94'!J20='RT700 PinMux v0.95'!J20,"",'RT700 PinMux v0.94'!J20&" vs "&'RT700 PinMux v0.95'!J20) | K20: =IF('RT700 PinMux v0.94'!K20='RT700 PinMux v0.95'!K20,"",'RT700 PinMux v0.94'!K20&" vs "&'RT700 PinMux v0.95'!K20) | ... S20: =IF('RT700 PinMux v0.94'!S20='RT700 PinMux v0.95'!S20,"",'RT700 PinMux v0.94'!S20&" vs "&'RT700 PinMux v0.95'!S20) | AA20: =IF('RT700 PinMux v0.94'!AA20='RT700 PinMux v0.95'!AA20,"",'RT700 PinMux v0.94'!AA20&" vs "&'RT700 PinMux v0.95'!AA20) | AB20: =IF('RT700 PinMux v0.94'!AB20='RT700 PinMux v0.95'!AB20,"",'RT700 PinMux v0.94'!AB20&" vs "&'RT700 PinMux v0.95'!AB20) | AC20: =IF('RT700 PinMux v0.94'!AC20='RT700 PinMux v0.95'!AC20,"",'RT700 PinMux v0.94'!AC20&" vs "&'RT700 PinMux v0.95'!AC20) | AD20: =IF('RT700 PinMux v0.94'!AD20='RT700 PinMux v0.95'!AD20,"",'RT700 PinMux v0.94'!AD20&" vs "&'RT700 PinMux v0.95'!AD20) | AE20: =IF('RT700 PinMux v0.94'!AE20='RT700 PinMux v0.95'!AE20,"",'RT700 PinMux v0.94'!AE20&" vs "&'RT700 PinMux v0.95'!AE20) | AF20: =IF('RT700 PinMux v0.94'!AF20='RT700 PinMux v0.95'!AF20,"",'RT700 PinMux v0.94'!AF20&" vs "&'RT700 PinMux v0.95'!AF20)
... B235: ='RT700 PinMux v0.95'!B235 -> Sense VDD1 | C235: ='RT700 PinMux v0.95'!C235 -> VDDIO | D235: =IF('RT700 PinMux v0.94'!D235='RT700 PinMux v0.95'!D235,"",'RT700 PinMux v0.94'!D235&" vs "&'RT700 PinMux v0.95'!D235) | E235: =IF('RT700 PinMux v0.94'!E235='RT700 PinMux v0.95'!E235,"",'RT700 PinMux v0.94'!E235&" vs "&'RT700 PinMux v0.95'!E235) | F235: =IF('RT700 PinMux v0.94'!F235='RT700 PinMux v0.95'!F235,"",'RT700 PinMux v0.94'!F235&" vs "&'RT700 PinMux v0.95'!F235) | G235: =IF('RT700 PinMux v0.94'!G235='RT700 PinMux v0.95'!G235,"",'RT700 PinMux v0.94'!G235&" vs "&'RT700 PinMux v0.95'!G235) | H235: =IF('RT700 PinMux v0.94'!H235='RT700 PinMux v0.95'!H235,"",'RT700 PinMux v0.94'!H235&" vs "&'RT700 PinMux v0.95'!H235) | I235: =IF('RT700 PinMux v0.94'!I235='RT700 PinMux v0.95'!I235,"",'RT700 PinMux v0.94'!I235&" vs "&'RT700 PinMux v0.95'!I235) | J235: =IF('RT700 PinMux v0.94'!J235='RT700 PinMux v0.95'!J235,"",'RT700 PinMux v0.94'!J235&" vs "&'RT700 PinMux v0.95'!J235) -> vs x | K235: =IF('RT700 PinMux v0.94'!K235='RT700 PinMux v0.95'!K235,"",'RT700 PinMux v0.94'!K235&" vs "&'RT700 PinMux v0.95'!K235) | ... S235: =IF('RT700 PinMux v0.94'!S235='RT700 PinMux v0.95'!S235,"",'RT700 PinMux v0.94'!S235&" vs "&'RT700 PinMux v0.95'!S235) | AA235: =IF('RT700 PinMux v0.94'!AA235='RT700 PinMux v0.95'!AA235,"",'RT700 PinMux v0.94'!AA235&" vs "&'RT700 PinMux v0.95'!AA235) | AB235: =IF('RT700 PinMux v0.94'!AB235='RT700 PinMux v0.95'!AB235,"",'RT700 PinMux v0.94'!AB235&" vs "&'RT700 PinMux v0.95'!AB235) | AC235: =IF('RT700 PinMux v0.94'!AC235='RT700 PinMux v0.95'!AC235,"",'RT700 PinMux v0.94'!AC235&" vs "&'RT700 PinMux v0.95'!AC235) | AD235: =IF('RT700 PinMux v0.94'!AD235='RT700 PinMux v0.95'!AD235,"",'RT700 PinMux v0.94'!AD235&" vs "&'RT700 PinMux v0.95'!AD235) | AE235: =IF('RT700 PinMux v0.94'!AE235='RT700 PinMux v0.95'!AE235,"",'RT700 PinMux v0.94'!AE235&" vs "&'RT700 PinMux v0.95'!AE235) | AF235: =IF('RT700 PinMux v0.94'!AF235='RT700 PinMux v0.95'!AF235,"",'RT700 PinMux v0.94'!AF235&" vs "&'RT700 PinMux v0.95'!AF235)
B238: ='RT700 PinMux v0.95'!B238 -> VDDN | C238: ='RT700 PinMux v0.95'!C238 -> VDD_USB1
B239: ='RT700 PinMux v0.95'!B239 -> VDDN | C239: ='RT700 PinMux v0.95'!C239 -> VDD_USB1
B240: ='RT700 PinMux v0.95'!B240 -> VDDN | C240: ='RT700 PinMux v0.95'!C240 -> VDD_USB1
B241: ='RT700 PinMux v0.95'!B241 -> VDDN | C241: ='RT700 PinMux v0.95'!C241 -> VDD_EUSB
B242: ='RT700 PinMux v0.95'!B242 -> VDDN | C242: ='RT700 PinMux v0.95'!C242 -> VDD_EUSB
B243: ='RT700 PinMux v0.95'!B243 -> AON | C243: ='RT700 PinMux v0.95'!C243 -> VDD1V8_AO
B244: ='RT700 PinMux v0.95'!B244 -> AON | C244: ='RT700 PinMux v0.95'!C244 -> VDD1V8_AO
B245: ='RT700 PinMux v0.95'!B245 -> Sense Vdd1 | C245: ='RT700 PinMux v0.95'!C245 -> VDDIO
B246: ='RT700 PinMux v0.95'!B246 -> Sense Vdd1 | C246: ='RT700 PinMux v0.95'!C246 -> VDDIO
B247: ='RT700 PinMux v0.95'!B247 -> AON | C247: ='RT700 PinMux v0.95'!C247 -> VDD1V8_AO
B249: ='RT700 PinMux v0.95'!B249 -> VDDN | C249: ='RT700 PinMux v0.95'!C249 -> 0
B250: ='RT700 PinMux v0.95'!B250 -> VDDN | C250: ='RT700 PinMux v0.95'!C250 -> 0
... B261: ='RT700 PinMux v0.95'!B261 -> Media VDD2 | C261: ='RT700 PinMux v0.95'!C261 -> VDD_MIPI
AD263: =SUM(AD8:AD262) -> 0 | AE263: =COUNTIF(AE8:AE262,"y") -> 0 | AF263: =SUM(AF8:AF262) -> 0
B264: Power: | G264: 184 | H264: 252 | I264: Alt252 | J264: 324 | K264: 361 | M264: RT700 Proposed Pin Names | AE264: =COUNTIF(AE8:AE262,"<>") -> 241
C307: Power --------------------------------> | G307: =SUM(G265:G306) -> 0 | H307: =SUM(H265:H306) -> 0 | I307: =SUM(I265:I306) -> 0 | J307: =SUM(J265:J306) -> 0 | K307: =SUM(K265:K306) -> 0
E309: updated 10/18/22 | F309: I/O VDD counts | G309: 184 | H309: 252 | I309: Alt252 | J309: 324 | K309: 361
F310: VDDIO | G310: 72 | H310: 112 | I310: 105 | J310: tbd | K310: 146
F311: VDDIO_2 | G311: 14 | H311: 16 | I311: 16 | J311: 16 | K311: 16
F312: VDDIO_4 | G312: 12 | H312: 21 | I312: 21 | J312: 21 | K312: 21
F313: VDDIO_5 | G313: 12 | H313: 21 | I313: 21 | J313: 21 | K313: 21
F314: VDDIO_6 | G314: 12 | H314: 0 | I314: 0 | J314: tbd | K314: 13

Sheet 256WLCSP
B1: 1 | C1: 2 | D1: 3 | E1: 4 | F1: 5 | G1: 6 | H1: 7 | I1: 8 | J1: 9 | K1: 10 | L1: 11 | M1: 12 | N1: 13 | O1: 14 | P1: 15 | Q1: 16
A2: A | B2: VSS | C2: VSSA_0 | D2: VDDA_1V8 | E2: PIO10_6 | F2: VDDIO_0_0 | G2: PIO8_0 | H2: VSS | I2: PIO8_17 | J2: VDD1 | K2: VSS_DCDC | L2: LX_DCDC | M2: VDD1V8_DCDC | N2: VDD2_0 | O2: XTALOUT32KHZ | P2: XTALIN32KHZ | Q2: VSS
A3: B | B3: PIO10_1 | C3: PIO10_8 | D3: PIO10_9 | E3: PIO10_7 | F3: VDDIO_0_0 | G3: PIO8_1 | H3: PIO8_2 | I3: PIO8_3 | J3: VDD1 | K3: PMIC_I2C_SCL | L3: PMIC_I2C_SDA | M3: VDDN_0 | N3: VDD2_0 | O3: RESETN | P3: VSS | Q3: VDD1V8_AO
A4: C | B4: PIO10_0 | C4: PIO10_2 | D4: VREF_LDO | E4: PIO8_6 | F4: PIO8_4 | G4: PIO8_5 | H4: PIO8_8 | I4: PIO8_14 | J4: PIO8_15 | K4: PIO8_16 | L4: VDD1V8 | M4: VDDIO_AO | N4: PIO1_12 | O4: PIO0_19 | P4: PIO1_11 | Q4: PIO1_10
A5: D | B5: VSS | C5: VSS | D5: PIO10_3 | E5: PIO10_4 | F5: PIO10_5 | G5: VSS | H5: PIO8_12 | I5: PIO8_19 | J5: PIO8_22 | K5: VSS | L5: PIO1_9 | M5: VSS | N5: PIO0_22 | O5: PIO1_7 | P5: PIO1_14 | Q5: PIO1_13
A6: E | B6: PIO8_31 | C6: PIO8_30 | D6: PIO8_23 | E6: VSS | F6: PIO10_12 | G6: PIO8_11 | H6: PIO8_13 | I6: PIO8_20 | J6: PIO8_21 | K6: VSS | L6: PIO1_17 | M6: PIO1_18 | N6: PIO0_21 | O6: PIO1_8 | P6: VDDIO_0_3 | Q6: VDDIO_0_3
A7: F | B7: VDDIO_0_1 | C7: PIO7_20 | D7: PIO7_18 | E7: PIO8_7 | F7: PIO8_24 | G7: PIO8_10 | H7: PIO10_13 | I7: PIO8_18 | J7: PMIC_IRQN | K7: PMIC_MODE0 | L7: PMIC_MODE1 | M7: PIO0_20 | N7: VSS | O7: PIO0_10 | P7: PIO0_11 | Q7: PIO0_13
A8: G | B8: PIO7_17 | C8: PIO7_19 | D8: PIO7_22 | E8: VSS | F8: VSS | G8: VSS | H8: PIO7_25 | I8: PIO8_25 | J8: PIO8_26 | K8: PIO1_6 | L8: PIO1_0 | M8: PIO0_1 | N8: PIO0_2 | O8: PIO0_0 | P8: PIO0_12 | Q8: PIO0_14
A9: H | B9: VDD2_4 | C9: VDD2_4 | D9: PIO7_21 | E9: PIO5_14 | F9: PIO5_19 | G9: PIO8_9 | H9: VSS | I9: VSS | J9: PIO1_16 | K9: PIO1_15 | L9: PIO0_31 | M9: PIO2_5 | N9: PIO2_0 | O9: PIO0_3 | P9: PIO0_4 | Q9: PIO0_5
A10: J | B10: PIO5_7 | C10: PIO5_8 | D10: PIO5_13 | E10: PIO5_12 | F10: PIO5_17 | G10: PIO5_16 | H10: PIO7_13 | I10: PIO7_14 | J10: VSS | K10: VSS | L10: PIO2_7 | M10: PIO2_6 | N10: PIO2_1 | O10: PIO2_2 | P10: VDD2_1 | Q10: VDD2_1
A11: K | B11: VSS | C11: PIO5_2 | D11: PIO5_9 | E11: PIO5_20 | F11: PIO5_15 | G11: PIO7_23 | H11: PIO7_15 | I11: PIO7_16 | J11: PIO0_7 | K11: PIO0_6 | L11: VSS | M11: VSS | N11: VSS | O11: PIO2_3 | P11: PIO2_9 | Q11: PIO2_4
A12: L | B12: PIO5_11 | C12: PIO5_10 | D12: PIO5_1 | E12: VSS | F12: PIO5_18 | G12: PIO4_16 | H12: PIO4_20 | I12: PIO4_15 | J12: PIO2_15 | K12: PIO7_3 | L12: PIO2_8 | M12: PIO3_1 | N12: PIO3_0 | O12: PIO2_11 | P12: PIO2_10 | Q12: VSS
A13: M | B13: VDDIO_5 | C13: VDDIO_5 | D13: PIO5_5 | E13: PIO5_0 | F13: PIO4_14 | G13: PIO4_12 | H13: VSS | I13: PIO4_18 | J13: PIO4_13 | K13: PIO7_2 | L13: PIO7_10 | M13: PIO7_11 | N13: VSS | O13: PIO2_14 | P13: PIO2_12 | Q13: PIO2_13
... A17: T | B17: VSS | C17: USB0_DP | D17: XTALOUTSYS | E17: VDD1V8 | F17: VDDIO_4 | G17: PIO4_11 | H17: VSS | I17: VDDIO_4 | J17: VSS | K17: VDD2_3 | L17: PIO7_0 | M17: VDDIO_0_2 | N17: MIPI_DSI_D0P | O17: VSS | P17: MIPI_DSI_D1P | Q17: VSS

Sheet 256WLCSP_ALT
B1: 1 | C1: 2 | D1: 3 | E1: 4 | F1: 5 | G1: 6 | H1: 7 | I1: 8 | J1: 9 | K1: 10 | L1: 11 | M1: 12 | N1: 13 | O1: 14 | P1: 15 | Q1: 16 | W1: 1 | X1: 2 | Y1: 3 | Z1: 4 | AA1: 5 | AB1: 6 | AC1: 7 | AD1: 8 | AE1: 9 | AF1: 10 | AG1: 11 | AH1: 12 | AI1: 13 | AJ1: 14 | AK1: 15 | AL1: 16
A2: T | B2: =_xlfn.XLOOKUP($A2&B$1,#REF!,#REF!,VLOOKUP($A2&B$1,#REF!,2,FALSE)) -> #REF! | C2: =_xlfn.XLOOKUP($A2&C$1,#REF!,#REF!,VLOOKUP($A2&C$1,#REF!,2,FALSE)) -> #REF! | D2: =_xlfn.XLOOKUP($A2&D$1,#REF!,#REF!,VLOOKUP($A2&D$1,#REF!,2,FALSE)) -> #REF! | E2: =_xlfn.XLOOKUP($A2&E$1,#REF!,#REF!,VLOOKUP($A2&E$1,#REF!,2,FALSE)) -> #REF! | F2: =_xlfn.XLOOKUP($A2&F$1,#REF!,#REF!,VLOOKUP($A2&F$1,#REF!,2,FALSE)) -> #REF! | G2: =_xlfn.XLOOKUP($A2&G$1,#REF!,#REF!,VLOOKUP($A2&G$1,#REF!,2,FALSE)) -> #REF! | H2: =_xlfn.XLOOKUP($A2&H$1,#REF!,#REF!,VLOOKUP($A2&H$1,#REF!,2,FALSE)) -> #REF! | I2: =_xlfn.XLOOKUP($A2&I$1,#REF!,#REF!,VLOOKUP($A2&I$1,#REF!,2,FALSE)) -> #REF! | ... Q2: =_xlfn.XLOOKUP($A2&Q$1,#REF!,#REF!,VLOOKUP($A2&Q$1,#REF!,2,FALSE)) -> #REF! | V2: A | W2: =VLOOKUP($V2,$A$2:$Q$17,W$1+1,FALSE) -> #REF! | X2: =VLOOKUP($V2,$A$2:$Q$17,X$1+1,FALSE) -> #REF! | Y2: =VLOOKUP($V2,$A$2:$Q$17,Y$1+1,FALSE) -> #REF! | Z2: =VLOOKUP($V2,$A$2:$Q$17,Z$1+1,FALSE) -> #REF! | AA2: =VLOOKUP($V2,$A$2:$Q$17,AA$1+1,FALSE) -> #REF! | AB2: =VLOOKUP($V2,$A$2:$Q$17,AB$1+1,FALSE) -> #REF! | AC2: =VLOOKUP($V2,$A$2:$Q$17,AC$1+1,FALSE) -> #REF! | AD2: =VLOOKUP($V2,$A$2:$Q$17,AD$1+1,FALSE) -> #REF! | ... AL2: =VLOOKUP($V2,$A$2:$Q$17,AL$1+1,FALSE) -> #REF!
A3: R | B3: =_xlfn.XLOOKUP($A3&B$1,#REF!,#REF!,VLOOKUP($A3&B$1,#REF!,2,FALSE)) -> #REF! | C3: =_xlfn.XLOOKUP($A3&C$1,#REF!,#REF!,VLOOKUP($A3&C$1,#REF!,2,FALSE)) -> #REF! | D3: =_xlfn.XLOOKUP($A3&D$1,#REF!,#REF!,VLOOKUP($A3&D$1,#REF!,2,FALSE)) -> #REF! | E3: =_xlfn.XLOOKUP($A3&E$1,#REF!,#REF!,VLOOKUP($A3&E$1,#REF!,2,FALSE)) -> #REF! | F3: =_xlfn.XLOOKUP($A3&F$1,#REF!,#REF!,VLOOKUP($A3&F$1,#REF!,2,FALSE)) -> #REF! | G3: =_xlfn.XLOOKUP($A3&G$1,#REF!,#REF!,VLOOKUP($A3&G$1,#REF!,2,FALSE)) -> #REF! | H3: =_xlfn.XLOOKUP($A3&H$1,#REF!,#REF!,VLOOKUP($A3&H$1,#REF!,2,FALSE)) -> #REF! | I3: =_xlfn.XLOOKUP($A3&I$1,#REF!,#REF!,VLOOKUP($A3&I$1,#REF!,2,FALSE)) -> #REF! | ... Q3: =_xlfn.XLOOKUP($A3&Q$1,#REF!,#REF!,VLOOKUP($A3&Q$1,#REF!,2,FALSE)) -> #REF! | V3: B | W3: =VLOOKUP($V3,$A$2:$Q$17,W$1+1,FALSE) -> #REF! | X3: =VLOOKUP($V3,$A$2:$Q$17,X$1+1,FALSE) -> #REF! | Y3: =VLOOKUP($V3,$A$2:$Q$17,Y$1+1,FALSE) -> #REF! | Z3: =VLOOKUP($V3,$A$2:$Q$17,Z$1+1,FALSE) -> #REF! | AA3: =VLOOKUP($V3,$A$2:$Q$17,AA$1+1,FALSE) -> #REF! | AB3: =VLOOKUP($V3,$A$2:$Q$17,AB$1+1,FALSE) -> #REF! | AC3: =VLOOKUP($V3,$A$2:$Q$17,AC$1+1,FALSE) -> #REF! | AD3: =VLOOKUP($V3,$A$2:$Q$17,AD$1+1,FALSE) -> #REF! | ... AL3: =VLOOKUP($V3,$A$2:$Q$17,AL$1+1,FALSE) -> #REF!
A4: P | B4: =_xlfn.XLOOKUP($A4&B$1,#REF!,#REF!,VLOOKUP($A4&B$1,#REF!,2,FALSE)) -> #REF! | C4: =_xlfn.XLOOKUP($A4&C$1,#REF!,#REF!,VLOOKUP($A4&C$1,#REF!,2,FALSE)) -> #REF! | D4: =_xlfn.XLOOKUP($A4&D$1,#REF!,#REF!,VLOOKUP($A4&D$1,#REF!,2,FALSE)) -> #REF! | E4: =_xlfn.XLOOKUP($A4&E$1,#REF!,#REF!,VLOOKUP($A4&E$1,#REF!,2,FALSE)) -> #REF! | F4: =_xlfn.XLOOKUP($A4&F$1,#REF!,#REF!,VLOOKUP($A4&F$1,#REF!,2,FALSE)) -> #REF! | G4: =_xlfn.XLOOKUP($A4&G$1,#REF!,#REF!,VLOOKUP($A4&G$1,#REF!,2,FALSE)) -> #REF! | H4: =_xlfn.XLOOKUP($A4&H$1,#REF!,#REF!,VLOOKUP($A4&H$1,#REF!,2,FALSE)) -> #REF! | I4: =_xlfn.XLOOKUP($A4&I$1,#REF!,#REF!,VLOOKUP($A4&I$1,#REF!,2,FALSE)) -> #REF! | ... Q4: =_xlfn.XLOOKUP($A4&Q$1,#REF!,#REF!,VLOOKUP($A4&Q$1,#REF!,2,FALSE)) -> #REF! | V4: C | W4: =VLOOKUP($V4,$A$2:$Q$17,W$1+1,FALSE) -> #REF! | X4: =VLOOKUP($V4,$A$2:$Q$17,X$1+1,FALSE) -> #REF! | Y4: =VLOOKUP($V4,$A$2:$Q$17,Y$1+1,FALSE) -> #REF! | Z4: =VLOOKUP($V4,$A$2:$Q$17,Z$1+1,FALSE) -> #REF! | AA4: =VLOOKUP($V4,$A$2:$Q$17,AA$1+1,FALSE) -> #REF! | AB4: =VLOOKUP($V4,$A$2:$Q$17,AB$1+1,FALSE) -> #REF! | AC4: =VLOOKUP($V4,$A$2:$Q$17,AC$1+1,FALSE) -> #REF! | AD4: =VLOOKUP($V4,$A$2:$Q$17,AD$1+1,FALSE) -> #REF! | ... AL4: =VLOOKUP($V4,$A$2:$Q$17,AL$1+1,FALSE) -> #REF!
A5: N | B5: =_xlfn.XLOOKUP($A5&B$1,#REF!,#REF!,VLOOKUP($A5&B$1,#REF!,2,FALSE)) -> #REF! | C5: =_xlfn.XLOOKUP($A5&C$1,#REF!,#REF!,VLOOKUP($A5&C$1,#REF!,2,FALSE)) -> #REF! | D5: =_xlfn.XLOOKUP($A5&D$1,#REF!,#REF!,VLOOKUP($A5&D$1,#REF!,2,FALSE)) -> #REF! | E5: =_xlfn.XLOOKUP($A5&E$1,#REF!,#REF!,VLOOKUP($A5&E$1,#REF!,2,FALSE)) -> #REF! | F5: =_xlfn.XLOOKUP($A5&F$1,#REF!,#REF!,VLOOKUP($A5&F$1,#REF!,2,FALSE)) -> #REF! | G5: =_xlfn.XLOOKUP($A5&G$1,#REF!,#REF!,VLOOKUP($A5&G$1,#REF!,2,FALSE)) -> #REF! | H5: =_xlfn.XLOOKUP($A5&H$1,#REF!,#REF!,VLOOKUP($A5&H$1,#REF!,2,FALSE)) -> #REF! | I5: =_xlfn.XLOOKUP($A5&I$1,#REF!,#REF!,VLOOKUP($A5&I$1,#REF!,2,FALSE)) -> #REF! | ... Q5: =_xlfn.XLOOKUP($A5&Q$1,#REF!,#REF!,VLOOKUP($A5&Q$1,#REF!,2,FALSE)) -> #REF! | V5: D | W5: =VLOOKUP($V5,$A$2:$Q$17,W$1+1,FALSE) -> #REF! | X5: =VLOOKUP($V5,$A$2:$Q$17,X$1+1,FALSE) -> #REF! | Y5: =VLOOKUP($V5,$A$2:$Q$17,Y$1+1,FALSE) -> #REF! | Z5: =VLOOKUP($V5,$A$2:$Q$17,Z$1+1,FALSE) -> #REF! | AA5: =VLOOKUP($V5,$A$2:$Q$17,AA$1+1,FALSE) -> #REF! | AB5: =VLOOKUP($V5,$A$2:$Q$17,AB$1+1,FALSE) -> #REF! | AC5: =VLOOKUP($V5,$A$2:$Q$17,AC$1+1,FALSE) -> #REF! | AD5: =VLOOKUP($V5,$A$2:$Q$17,AD$1+1,FALSE) -> #REF! | ... AL5: =VLOOKUP($V5,$A$2:$Q$17,AL$1+1,FALSE) -> #REF!
A6: M | B6: =_xlfn.XLOOKUP($A6&B$1,#REF!,#REF!,VLOOKUP($A6&B$1,#REF!,2,FALSE)) -> #REF! | C6: =_xlfn.XLOOKUP($A6&C$1,#REF!,#REF!,VLOOKUP($A6&C$1,#REF!,2,FALSE)) -> #REF! | D6: =_xlfn.XLOOKUP($A6&D$1,#REF!,#REF!,VLOOKUP($A6&D$1,#REF!,2,FALSE)) -> #REF! | E6: =_xlfn.XLOOKUP($A6&E$1,#REF!,#REF!,VLOOKUP($A6&E$1,#REF!,2,FALSE)) -> #REF! | F6: =_xlfn.XLOOKUP($A6&F$1,#REF!,#REF!,VLOOKUP($A6&F$1,#REF!,2,FALSE)) -> #REF! | G6: =_xlfn.XLOOKUP($A6&G$1,#REF!,#REF!,VLOOKUP($A6&G$1,#REF!,2,FALSE)) -> #REF! | H6: =_xlfn.XLOOKUP($A6&H$1,#REF!,#REF!,VLOOKUP($A6&H$1,#REF!,2,FALSE)) -> #REF! | I6: =_xlfn.XLOOKUP($A6&I$1,#REF!,#REF!,VLOOKUP($A6&I$1,#REF!,2,FALSE)) -> #REF! | ... Q6: =_xlfn.XLOOKUP($A6&Q$1,#REF!,#REF!,VLOOKUP($A6&Q$1,#REF!,2,FALSE)) -> #REF! | V6: E | W6: =VLOOKUP($V6,$A$2:$Q$17,W$1+1,FALSE) -> #REF! | X6: =VLOOKUP($V6,$A$2:$Q$17,X$1+1,FALSE) -> #REF! | Y6: =VLOOKUP($V6,$A$2:$Q$17,Y$1+1,FALSE) -> #REF! | Z6: =VLOOKUP($V6,$A$2:$Q$17,Z$1+1,FALSE) -> #REF! | AA6: =VLOOKUP($V6,$A$2:$Q$17,AA$1+1,FALSE) -> #REF! | AB6: =VLOOKUP($V6,$A$2:$Q$17,AB$1+1,FALSE) -> #REF! | AC6: =VLOOKUP($V6,$A$2:$Q$17,AC$1+1,FALSE) -> #REF! | AD6: =VLOOKUP($V6,$A$2:$Q$17,AD$1+1,FALSE) -> #REF! | ... AL6: =VLOOKUP($V6,$A$2:$Q$17,AL$1+1,FALSE) -> #REF!
A7: L | B7: =_xlfn.XLOOKUP($A7&B$1,#REF!,#REF!,VLOOKUP($A7&B$1,#REF!,2,FALSE)) -> #REF! | C7: =_xlfn.XLOOKUP($A7&C$1,#REF!,#REF!,VLOOKUP($A7&C$1,#REF!,2,FALSE)) -> #REF! | D7: =_xlfn.XLOOKUP($A7&D$1,#REF!,#REF!,VLOOKUP($A7&D$1,#REF!,2,FALSE)) -> #REF! | E7: =_xlfn.XLOOKUP($A7&E$1,#REF!,#REF!,VLOOKUP($A7&E$1,#REF!,2,FALSE)) -> #REF! | F7: =_xlfn.XLOOKUP($A7&F$1,#REF!,#REF!,VLOOKUP($A7&F$1,#REF!,2,FALSE)) -> #REF! | G7: =_xlfn.XLOOKUP($A7&G$1,#REF!,#REF!,VLOOKUP($A7&G$1,#REF!,2,FALSE)) -> #REF! | H7: =_xlfn.XLOOKUP($A7&H$1,#REF!,#REF!,VLOOKUP($A7&H$1,#REF!,2,FALSE)) -> #REF! | I7: =_xlfn.XLOOKUP($A7&I$1,#REF!,#REF!,VLOOKUP($A7&I$1,#REF!,2,FALSE)) -> #REF! | ... Q7: =_xlfn.XLOOKUP($A7&Q$1,#REF!,#REF!,VLOOKUP($A7&Q$1,#REF!,2,FALSE)) -> #REF! | V7: F | W7: =VLOOKUP($V7,$A$2:$Q$17,W$1+1,FALSE) -> #REF! | X7: =VLOOKUP($V7,$A$2:$Q$17,X$1+1,FALSE) -> #REF! | Y7: =VLOOKUP($V7,$A$2:$Q$17,Y$1+1,FALSE) -> #REF! | Z7: =VLOOKUP($V7,$A$2:$Q$17,Z$1+1,FALSE) -> #REF! | AA7: =VLOOKUP($V7,$A$2:$Q$17,AA$1+1,FALSE) -> #REF! | AB7: =VLOOKUP($V7,$A$2:$Q$17,AB$1+1,FALSE) -> #REF! | AC7: =VLOOKUP($V7,$A$2:$Q$17,AC$1+1,FALSE) -> #REF! | AD7: =VLOOKUP($V7,$A$2:$Q$17,AD$1+1,FALSE) -> #REF! | ... AL7: =VLOOKUP($V7,$A$2:$Q$17,AL$1+1,FALSE) -> #REF!
A8: K | B8: =_xlfn.XLOOKUP($A8&B$1,#REF!,#REF!,VLOOKUP($A8&B$1,#REF!,2,FALSE)) -> #REF! | C8: =_xlfn.XLOOKUP($A8&C$1,#REF!,#REF!,VLOOKUP($A8&C$1,#REF!,2,FALSE)) -> #REF! | D8: =_xlfn.XLOOKUP($A8&D$1,#REF!,#REF!,VLOOKUP($A8&D$1,#REF!,2,FALSE)) -> #REF! | E8: =_xlfn.XLOOKUP($A8&E$1,#REF!,#REF!,VLOOKUP($A8&E$1,#REF!,2,FALSE)) -> #REF! | F8: =_xlfn.XLOOKUP($A8&F$1,#REF!,#REF!,VLOOKUP($A8&F$1,#REF!,2,FALSE)) -> #REF! | G8: =_xlfn.XLOOKUP($A8&G$1,#REF!,#REF!,VLOOKUP($A8&G$1,#REF!,2,FALSE)) -> #REF! | H8: =_xlfn.XLOOKUP($A8&H$1,#REF!,#REF!,VLOOKUP($A8&H$1,#REF!,2,FALSE)) -> #REF! | I8: =_xlfn.XLOOKUP($A8&I$1,#REF!,#REF!,VLOOKUP($A8&I$1,#REF!,2,FALSE)) -> #REF! | ... Q8: =_xlfn.XLOOKUP($A8&Q$1,#REF!,#REF!,VLOOKUP($A8&Q$1,#REF!,2,FALSE)) -> #REF! | V8: G | W8: =VLOOKUP($V8,$A$2:$Q$17,W$1+1,FALSE) -> #REF! | X8: =VLOOKUP($V8,$A$2:$Q$17,X$1+1,FALSE) -> #REF! | Y8: =VLOOKUP($V8,$A$2:$Q$17,Y$1+1,FALSE) -> #REF! | Z8: =VLOOKUP($V8,$A$2:$Q$17,Z$1+1,FALSE) -> #REF! | AA8: =VLOOKUP($V8,$A$2:$Q$17,AA$1+1,FALSE) -> #REF! | AB8: =VLOOKUP($V8,$A$2:$Q$17,AB$1+1,FALSE) -> #REF! | AC8: =VLOOKUP($V8,$A$2:$Q$17,AC$1+1,FALSE) -> #REF! | AD8: =VLOOKUP($V8,$A$2:$Q$17,AD$1+1,FALSE) -> #REF! | ... AL8: =VLOOKUP($V8,$A$2:$Q$17,AL$1+1,FALSE) -> #REF!
A9: J | B9: =_xlfn.XLOOKUP($A9&B$1,#REF!,#REF!,VLOOKUP($A9&B$1,#REF!,2,FALSE)) -> #REF! | C9: =_xlfn.XLOOKUP($A9&C$1,#REF!,#REF!,VLOOKUP($A9&C$1,#REF!,2,FALSE)) -> #REF! | D9: =_xlfn.XLOOKUP($A9&D$1,#REF!,#REF!,VLOOKUP($A9&D$1,#REF!,2,FALSE)) -> #REF! | E9: =_xlfn.XLOOKUP($A9&E$1,#REF!,#REF!,VLOOKUP($A9&E$1,#REF!,2,FALSE)) -> #REF! | F9: =_xlfn.XLOOKUP($A9&F$1,#REF!,#REF!,VLOOKUP($A9&F$1,#REF!,2,FALSE)) -> #REF! | G9: =_xlfn.XLOOKUP($A9&G$1,#REF!,#REF!,VLOOKUP($A9&G$1,#REF!,2,FALSE)) -> #REF! | H9: =_xlfn.XLOOKUP($A9&H$1,#REF!,#REF!,VLOOKUP($A9&H$1,#REF!,2,FALSE)) -> #REF! | I9: =_xlfn.XLOOKUP($A9&I$1,#REF!,#REF!,VLOOKUP($A9&I$1,#REF!,2,FALSE)) -> #REF! | ... Q9: =_xlfn.XLOOKUP($A9&Q$1,#REF!,#REF!,VLOOKUP($A9&Q$1,#REF!,2,FALSE)) -> #REF! | V9: H | W9: =VLOOKUP($V9,$A$2:$Q$17,W$1+1,FALSE) -> #REF! | X9: =VLOOKUP($V9,$A$2:$Q$17,X$1+1,FALSE) -> #REF! | Y9: =VLOOKUP($V9,$A$2:$Q$17,Y$1+1,FALSE) -> #REF! | Z9: =VLOOKUP($V9,$A$2:$Q$17,Z$1+1,FALSE) -> #REF! | AA9: =VLOOKUP($V9,$A$2:$Q$17,AA$1+1,FALSE) -> #REF! | AB9: =VLOOKUP($V9,$A$2:$Q$17,AB$1+1,FALSE) -> #REF! | AC9: =VLOOKUP($V9,$A$2:$Q$17,AC$1+1,FALSE) -> #REF! | AD9: =VLOOKUP($V9,$A$2:$Q$17,AD$1+1,FALSE) -> #REF! | ... AL9: =VLOOKUP($V9,$A$2:$Q$17,AL$1+1,FALSE) -> #REF!
A10: H | B10: =_xlfn.XLOOKUP($A10&B$1,#REF!,#REF!,VLOOKUP($A10&B$1,#REF!,2,FALSE)) -> #REF! | C10: =_xlfn.XLOOKUP($A10&C$1,#REF!,#REF!,VLOOKUP($A10&C$1,#REF!,2,FALSE)) -> #REF! | D10: =_xlfn.XLOOKUP($A10&D$1,#REF!,#REF!,VLOOKUP($A10&D$1,#REF!,2,FALSE)) -> #REF! | E10: =_xlfn.XLOOKUP($A10&E$1,#REF!,#REF!,VLOOKUP($A10&E$1,#REF!,2,FALSE)) -> #REF! | F10: =_xlfn.XLOOKUP($A10&F$1,#REF!,#REF!,VLOOKUP($A10&F$1,#REF!,2,FALSE)) -> #REF! | G10: =_xlfn.XLOOKUP($A10&G$1,#REF!,#REF!,VLOOKUP($A10&G$1,#REF!,2,FALSE)) -> #REF! | H10: =_xlfn.XLOOKUP($A10&H$1,#REF!,#REF!,VLOOKUP($A10&H$1,#REF!,2,FALSE)) -> #REF! | I10: =_xlfn.XLOOKUP($A10&I$1,#REF!,#REF!,VLOOKUP($A10&I$1,#REF!,2,FALSE)) -> #REF! | ... Q10: =_xlfn.XLOOKUP($A10&Q$1,#REF!,#REF!,VLOOKUP($A10&Q$1,#REF!,2,FALSE)) -> #REF! | V10: J | W10: =VLOOKUP($V10,$A$2:$Q$17,W$1+1,FALSE) -> #REF! | X10: =VLOOKUP($V10,$A$2:$Q$17,X$1+1,FALSE) -> #REF! | Y10: =VLOOKUP($V10,$A$2:$Q$17,Y$1+1,FALSE) -> #REF! | Z10: =VLOOKUP($V10,$A$2:$Q$17,Z$1+1,FALSE) -> #REF! | AA10: =VLOOKUP($V10,$A$2:$Q$17,AA$1+1,FALSE) -> #REF! | AB10: =VLOOKUP($V10,$A$2:$Q$17,AB$1+1,FALSE) -> #REF! | AC10: =VLOOKUP($V10,$A$2:$Q$17,AC$1+1,FALSE) -> #REF! | AD10: =VLOOKUP($V10,$A$2:$Q$17,AD$1+1,FALSE) -> #REF! | ... AL10: =VLOOKUP($V10,$A$2:$Q$17,AL$1+1,FALSE) -> #REF!
A11: G | B11: =_xlfn.XLOOKUP($A11&B$1,#REF!,#REF!,VLOOKUP($A11&B$1,#REF!,2,FALSE)) -> #REF! | C11: =_xlfn.XLOOKUP($A11&C$1,#REF!,#REF!,VLOOKUP($A11&C$1,#REF!,2,FALSE)) -> #REF! | D11: =_xlfn.XLOOKUP($A11&D$1,#REF!,#REF!,VLOOKUP($A11&D$1,#REF!,2,FALSE)) -> #REF! | E11: =_xlfn.XLOOKUP($A11&E$1,#REF!,#REF!,VLOOKUP($A11&E$1,#REF!,2,FALSE)) -> #REF! | F11: =_xlfn.XLOOKUP($A11&F$1,#REF!,#REF!,VLOOKUP($A11&F$1,#REF!,2,FALSE)) -> #REF! | G11: =_xlfn.XLOOKUP($A11&G$1,#REF!,#REF!,VLOOKUP($A11&G$1,#REF!,2,FALSE)) -> #REF! | H11: =_xlfn.XLOOKUP($A11&H$1,#REF!,#REF!,VLOOKUP($A11&H$1,#REF!,2,FALSE)) -> #REF! | I11: =_xlfn.XLOOKUP($A11&I$1,#REF!,#REF!,VLOOKUP($A11&I$1,#REF!,2,FALSE)) -> #REF! | ... Q11: =_xlfn.XLOOKUP($A11&Q$1,#REF!,#REF!,VLOOKUP($A11&Q$1,#REF!,2,FALSE)) -> #REF! | V11: K | W11: =VLOOKUP($V11,$A$2:$Q$17,W$1+1,FALSE) -> #REF! | X11: =VLOOKUP($V11,$A$2:$Q$17,X$1+1,FALSE) -> #REF! | Y11: =VLOOKUP($V11,$A$2:$Q$17,Y$1+1,FALSE) -> #REF! | Z11: =VLOOKUP($V11,$A$2:$Q$17,Z$1+1,FALSE) -> #REF! | AA11: =VLOOKUP($V11,$A$2:$Q$17,AA$1+1,FALSE) -> #REF! | AB11: =VLOOKUP($V11,$A$2:$Q$17,AB$1+1,FALSE) -> #REF! | AC11: =VLOOKUP($V11,$A$2:$Q$17,AC$1+1,FALSE) -> #REF! | AD11: =VLOOKUP($V11,$A$2:$Q$17,AD$1+1,FALSE) -> #REF! | ... AL11: =VLOOKUP($V11,$A$2:$Q$17,AL$1+1,FALSE) -> #REF!
A12: F | B12: =_xlfn.XLOOKUP($A12&B$1,#REF!,#REF!,VLOOKUP($A12&B$1,#REF!,2,FALSE)) -> #REF! | C12: =_xlfn.XLOOKUP($A12&C$1,#REF!,#REF!,VLOOKUP($A12&C$1,#REF!,2,FALSE)) -> #REF! | D12: =_xlfn.XLOOKUP($A12&D$1,#REF!,#REF!,VLOOKUP($A12&D$1,#REF!,2,FALSE)) -> #REF! | E12: =_xlfn.XLOOKUP($A12&E$1,#REF!,#REF!,VLOOKUP($A12&E$1,#REF!,2,FALSE)) -> #REF! | F12: =_xlfn.XLOOKUP($A12&F$1,#REF!,#REF!,VLOOKUP($A12&F$1,#REF!,2,FALSE)) -> #REF! | G12: =_xlfn.XLOOKUP($A12&G$1,#REF!,#REF!,VLOOKUP($A12&G$1,#REF!,2,FALSE)) -> #REF! | H12: =_xlfn.XLOOKUP($A12&H$1,#REF!,#REF!,VLOOKUP($A12&H$1,#REF!,2,FALSE)) -> #REF! | I12: =_xlfn.XLOOKUP($A12&I$1,#REF!,#REF!,VLOOKUP($A12&I$1,#REF!,2,FALSE)) -> #REF! | ... Q12: =_xlfn.XLOOKUP($A12&Q$1,#REF!,#REF!,VLOOKUP($A12&Q$1,#REF!,2,FALSE)) -> #REF! | V12: L | W12: =VLOOKUP($V12,$A$2:$Q$17,W$1+1,FALSE) -> #REF! | X12: =VLOOKUP($V12,$A$2:$Q$17,X$1+1,FALSE) -> #REF! | Y12: =VLOOKUP($V12,$A$2:$Q$17,Y$1+1,FALSE) -> #REF! | Z12: =VLOOKUP($V12,$A$2:$Q$17,Z$1+1,FALSE) -> #REF! | AA12: =VLOOKUP($V12,$A$2:$Q$17,AA$1+1,FALSE) -> #REF! | AB12: =VLOOKUP($V12,$A$2:$Q$17,AB$1+1,FALSE) -> #REF! | AC12: =VLOOKUP($V12,$A$2:$Q$17,AC$1+1,FALSE) -> #REF! | AD12: =VLOOKUP($V12,$A$2:$Q$17,AD$1+1,FALSE) -> #REF! | ... AL12: =VLOOKUP($V12,$A$2:$Q$17,AL$1+1,FALSE) -> #REF!
A13: E | B13: =_xlfn.XLOOKUP($A13&B$1,#REF!,#REF!,VLOOKUP($A13&B$1,#REF!,2,FALSE)) -> #REF! | C13: =_xlfn.XLOOKUP($A13&C$1,#REF!,#REF!,VLOOKUP($A13&C$1,#REF!,2,FALSE)) -> #REF! | D13: =_xlfn.XLOOKUP($A13&D$1,#REF!,#REF!,VLOOKUP($A13&D$1,#REF!,2,FALSE)) -> #REF! | E13: =_xlfn.XLOOKUP($A13&E$1,#REF!,#REF!,VLOOKUP($A13&E$1,#REF!,2,FALSE)) -> #REF! | F13: =_xlfn.XLOOKUP($A13&F$1,#REF!,#REF!,VLOOKUP($A13&F$1,#REF!,2,FALSE)) -> #REF! | G13: =_xlfn.XLOOKUP($A13&G$1,#REF!,#REF!,VLOOKUP($A13&G$1,#REF!,2,FALSE)) -> #REF! | H13: =_xlfn.XLOOKUP($A13&H$1,#REF!,#REF!,VLOOKUP($A13&H$1,#REF!,2,FALSE)) -> #REF! | I13: =_xlfn.XLOOKUP($A13&I$1,#REF!,#REF!,VLOOKUP($A13&I$1,#REF!,2,FALSE)) -> #REF! | ... Q13: =_xlfn.XLOOKUP($A13&Q$1,#REF!,#REF!,VLOOKUP($A13&Q$1,#REF!,2,FALSE)) -> #REF! | V13: M | W13: =VLOOKUP($V13,$A$2:$Q$17,W$1+1,FALSE) -> #REF! | X13: =VLOOKUP($V13,$A$2:$Q$17,X$1+1,FALSE) -> #REF! | Y13: =VLOOKUP($V13,$A$2:$Q$17,Y$1+1,FALSE) -> #REF! | Z13: =VLOOKUP($V13,$A$2:$Q$17,Z$1+1,FALSE) -> #REF! | AA13: =VLOOKUP($V13,$A$2:$Q$17,AA$1+1,FALSE) -> #REF! | AB13: =VLOOKUP($V13,$A$2:$Q$17,AB$1+1,FALSE) -> #REF! | AC13: =VLOOKUP($V13,$A$2:$Q$17,AC$1+1,FALSE) -> #REF! | AD13: =VLOOKUP($V13,$A$2:$Q$17,AD$1+1,FALSE) -> #REF! | ... AL13: =VLOOKUP($V13,$A$2:$Q$17,AL$1+1,FALSE) -> #REF!
... A17: A | B17: =_xlfn.XLOOKUP($A17&B$1,#REF!,#REF!,VLOOKUP($A17&B$1,#REF!,2,FALSE)) -> #REF! | C17: =_xlfn.XLOOKUP($A17&C$1,#REF!,#REF!,VLOOKUP($A17&C$1,#REF!,2,FALSE)) -> #REF! | D17: =_xlfn.XLOOKUP($A17&D$1,#REF!,#REF!,VLOOKUP($A17&D$1,#REF!,2,FALSE)) -> #REF! | E17: =_xlfn.XLOOKUP($A17&E$1,#REF!,#REF!,VLOOKUP($A17&E$1,#REF!,2,FALSE)) -> #REF! | F17: =_xlfn.XLOOKUP($A17&F$1,#REF!,#REF!,VLOOKUP($A17&F$1,#REF!,2,FALSE)) -> #REF! | G17: =_xlfn.XLOOKUP($A17&G$1,#REF!,#REF!,VLOOKUP($A17&G$1,#REF!,2,FALSE)) -> #REF! | H17: =_xlfn.XLOOKUP($A17&H$1,#REF!,#REF!,VLOOKUP($A17&H$1,#REF!,2,FALSE)) -> #REF! | I17: =_xlfn.XLOOKUP($A17&I$1,#REF!,#REF!,VLOOKUP($A17&I$1,#REF!,2,FALSE)) -> #REF! | ... Q17: =_xlfn.XLOOKUP($A17&Q$1,#REF!,#REF!,VLOOKUP($A17&Q$1,#REF!,2,FALSE)) -> #REF! | V17: T | W17: =VLOOKUP($V17,$A$2:$Q$17,W$1+1,FALSE) -> #REF! | X17: =VLOOKUP($V17,$A$2:$Q$17,X$1+1,FALSE) -> #REF! | Y17: =VLOOKUP($V17,$A$2:$Q$17,Y$1+1,FALSE) -> #REF! | Z17: =VLOOKUP($V17,$A$2:$Q$17,Z$1+1,FALSE) -> #REF! | AA17: =VLOOKUP($V17,$A$2:$Q$17,AA$1+1,FALSE) -> #REF! | AB17: =VLOOKUP($V17,$A$2:$Q$17,AB$1+1,FALSE) -> #REF! | AC17: =VLOOKUP($V17,$A$2:$Q$17,AC$1+1,FALSE) -> #REF! | AD17: =VLOOKUP($V17,$A$2:$Q$17,AD$1+1,FALSE) -> #REF! | ... AL17: =VLOOKUP($V17,$A$2:$Q$17,AL$1+1,FALSE) -> #REF!

Sheet 324FOWLP
B1: 1 | C1: 2 | D1: 3 | E1: 4 | F1: 5 | G1: 6 | H1: 7 | I1: 8 | J1: 9 | K1: 10 | L1: 11 | M1: 12 | N1: 13 | O1: 14 | P1: 15 | Q1: 16 | R1: 17 | S1: 18
A2: A | B2: VSS | C2: MIPI_DSI_D1P | D2: VSS | E2: MIPI_DSI_D0P | F2: VSS | G2: PIO7_9 | H2: VDDIO_0_4 | I2: VDD2_4 | J2: VDDIO_4 | K2: PIO4_5 | L2: VSS | M2: VDDIO_4 | N2: VDD1V8 | O2: XTALINSYS | P2: VDD1V8_EUSB | Q2: EUSB_DP | R2: EUSB_DM | S2: VSS | Y2: 0 | Z2: =(Y2-AA2+1)/18+1 -> 1 | AA2: =MOD(Y2,18)+1 -> 1 | AB2: =VLOOKUP(Z2,AH$2:AJ$19,2,FALSE)&AA2 -> A1 | AC2: {=INDEX(B$2:S$19,Z2,AA2)} -> VSS | AD2: =IF(LEFT(AC2,3)="PIO",IF(_xlfn.XLOOKUP(AC2,#REF!,#REF!)="x","OK",AC2&" not found"),"") | AH2: 18 | AI2: V | AJ2: 16
A3: B | B3: MIPI_DSI_D1N | C3: MIPI_DSI_CLKP | D3: MIPI_DSI_CLKN | E3: MIPI_DSI_D0N | F3: VSS | G3: PIO7_0 | H3: PIO7_6 | I3: PIO7_7 | J3: VDDIO_4 | K3: PIO4_10 | L3: PIO4_11 | M3: PIO4_8 | N3: VDD1V8 | O3: XTALOUTSYS | P3: VSS_EUSB | Q3: VDD1V2_EUSB | R3: VSS | S3: USB0_DP | Y3: =Y2+1 -> 1 | Z3: =(Y3-AA3+1)/18+1 -> 1 | AA3: =MOD(Y3,18)+1 -> 2 | AB3: =VLOOKUP(Z3,AH$2:AJ$19,2,FALSE)&AA3 -> A2 | AC3: {=INDEX(B$2:S$19,Z3,AA3)} -> MIPI_DSI_D1P | AD3: =IF(LEFT(AC3,3)="PIO",IF(_xlfn.XLOOKUP(AC3,#REF!,#REF!)="x","OK",AC3&" not found"),"") | AH3: 17 | AI3: U | AJ3: 15
A4: C | B4: VDD2_3 | C4: VDD1V8_MIPI | D4: PIO3_3 | E4: VDD1V1_MIPI_CAP | F4: PIO7_11 | G4: PIO7_8 | H4: PIO7_1 | I4: PIO4_6 | J4: PIO4_4 | K4: PIO4_3 | L4: PIO4_2 | M4: PIO4_9 | N4: PIO4_7 | O4: VSSA_1 | P4: PIO6_5 | Q4: USB0_VBUS_DETECT | R4: VDDN_1 | S4: USB0_DM | Y4: =Y3+1 -> 2 | Z4: =(Y4-AA4+1)/18+1 -> 1 | AA4: =MOD(Y4,18)+1 -> 3 | AB4: =VLOOKUP(Z4,AH$2:AJ$19,2,FALSE)&AA4 -> A3 | AC4: {=INDEX(B$2:S$19,Z4,AA4)} -> VSS | AD4: =IF(LEFT(AC4,3)="PIO",IF(_xlfn.XLOOKUP(AC4,#REF!,#REF!)="x","OK",AC4&" not found"),"") | AH4: 16 | AI4: T | AJ4: 16
A5: D | B5: VDDIO_0_3 | C5: PIO3_2 | D5: PIO2_15 | E5: PIO2_14 | F5: VSS | G5: PIO7_5 | H5: VSS | I5: PIO4_0 | J5: PIO4_1 | K5: PIO4_20 | L5: VSS | M5: PIO4_19 | N5: VDDN_1 | O5: PIO6_4 | P5: PIO6_7 | Q5: PIO6_0 | R5: PIO6_1 | S5: VDD3V3_USB | Y5: =Y4+1 -> 3 | Z5: =(Y5-AA5+1)/18+1 -> 1 | AA5: =MOD(Y5,18)+1 -> 4 | AB5: =VLOOKUP(Z5,AH$2:AJ$19,2,FALSE)&AA5 -> A4 | AC5: {=INDEX(B$2:S$19,Z5,AA5)} -> MIPI_DSI_D0P | AD5: =IF(LEFT(AC5,3)="PIO",IF(_xlfn.XLOOKUP(AC5,#REF!,#REF!)="x","OK",AC5&" not found"),"") | AH5: 15 | AI5: R | AJ5: 15
A6: E | B6: PIO3_0 | C6: PIO3_1 | D6: PIO2_12 | E6: PIO2_13 | F6: PIO7_10 | G6: PIO7_4 | H6: VSS | I6: PIO4_13 | J6: PIO4_18 | K6: PIO4_15 | L6: VSS | M6: PIO4_14 | N6: PIO6_6 | O6: PIO6_10 | P6: VSS | Q6: PIO5_6 | R6: VDDIO_6 | S6: VDDIO_6 | Y6: =Y5+1 -> 4 | Z6: =(Y6-AA6+1)/18+1 -> 1 | AA6: =MOD(Y6,18)+1 -> 5 | AB6: =VLOOKUP(Z6,AH$2:AJ$19,2,FALSE)&AA6 -> A5 | AC6: {=INDEX(B$2:S$19,Z6,AA6)} -> VSS | AD6: =IF(LEFT(AC6,3)="PIO",IF(_xlfn.XLOOKUP(AC6,#REF!,#REF!)="x","OK",AC6&" not found"),"") | AH6: 14 | AI6: P | AJ6: 14
A7: F | B7: VDDIO_2 | C7: VDDIO_2 | D7: PIO2_11 | E7: VSS | F7: PIO2_10 | G7: PIO7_3 | H7: PIO7_2 | I7: PIO7_12 | J7: PIO3_11 | K7: PIO4_16 | L7: PIO4_12 | M7: PIO4_17 | N7: PIO6_3 | O7: PIO6_11 | P7: PIO6_9 | Q7: PIO5_4 | R7: PIO5_10 | S7: PIO5_3 | Y7: =Y6+1 -> 5 | Z7: =(Y7-AA7+1)/18+1 -> 1 | AA7: =MOD(Y7,18)+1 -> 6 | AB7: =VLOOKUP(Z7,AH$2:AJ$19,2,FALSE)&AA7 -> A6 | AC7: {=INDEX(B$2:S$19,Z7,AA7)} -> PIO7_9 | AD7: =IF(LEFT(AC7,3)="PIO",IF(_xlfn.XLOOKUP(AC7,#REF!,#REF!)="x","OK",AC7&" not found"),"") -> #REF! | AH7: 13 | AI7: N | AJ7: 13
A8: G | B8: PIO2_3 | C8: PIO2_1 | D8: PIO2_4 | E8: PIO2_8 | F8: PIO2_9 | G8: PIO2_7 | H8: PIO3_8 | I8: PIO3_9 | J8: PIO3_10 | K8: PIO6_12 | L8: PIO6_2 | M8: PIO7_24 | N8: PIO6_8 | O8: VSS | P8: VSS | Q8: PIO5_5 | R8: PIO5_11 | S8: VSS | Y8: =Y7+1 -> 6 | Z8: =(Y8-AA8+1)/18+1 -> 1 | AA8: =MOD(Y8,18)+1 -> 7 | AB8: =VLOOKUP(Z8,AH$2:AJ$19,2,FALSE)&AA8 -> A7 | AC8: {=INDEX(B$2:S$19,Z8,AA8)} -> VDDIO_0_4 | AD8: =IF(LEFT(AC8,3)="PIO",IF(_xlfn.XLOOKUP(AC8,#REF!,#REF!)="x","OK",AC8&" not found"),"") | AH8: 12 | AI8: M | AJ8: 12
A9: H | B9: VSS | C9: PIO2_0 | D9: PIO2_2 | E9: VSS | F9: VSS | G9: PIO2_6 | H9: PIO3_7 | I9: VSS | J9: VSS | K9: VSS | L9: VSS | M9: PIO7_25 | N9: PIO5_0 | O9: PIO5_18 | P9: PIO5_13 | Q9: PIO5_8 | R9: PIO5_1 | S9: PIO5_2 | Y9: =Y8+1 -> 7 | Z9: =(Y9-AA9+1)/18+1 -> 1 | AA9: =MOD(Y9,18)+1 -> 8 | AB9: =VLOOKUP(Z9,AH$2:AJ$19,2,FALSE)&AA9 -> A8 | AC9: {=INDEX(B$2:S$19,Z9,AA9)} -> VDD2_4 | AD9: =IF(LEFT(AC9,3)="PIO",IF(_xlfn.XLOOKUP(AC9,#REF!,#REF!)="x","OK",AC9&" not found"),"") | AH9: 11 | AI9: L | AJ9: 11
A10: J | B10: PIO0_0 | C10: PIO0_1 | D10: PIO0_2 | E10: PIO0_3 | F10: PIO0_6 | G10: PIO2_5 | H10: PIO3_6 | I10: VSS | J10: VSS | K10: VSS | L10: VSS | M10: PIO8_26 | N10: PIO8_25 | O10: PIO5_15 | P10: PIO5_16 | Q10: PIO5_9 | R10: VDDIO_5 | S10: VDDIO_5 | Y10: =Y9+1 -> 8 | Z10: =(Y10-AA10+1)/18+1 -> 1 | AA10: =MOD(Y10,18)+1 -> 9 | AB10: =VLOOKUP(Z10,AH$2:AJ$19,2,FALSE)&AA10 -> A9 | AC10: {=INDEX(B$2:S$19,Z10,AA10)} -> VDDIO_4 | AD10: =IF(LEFT(AC10,3)="PIO",IF(_xlfn.XLOOKUP(AC10,#REF!,#REF!)="x","OK",AC10&" not found"),"") | AH10: 10 | AI10: K | AJ10: 10
A11: K | B11: VDD2_2 | C11: VDD2_2 | D11: PIO0_5 | E11: PIO0_4 | F11: PIO0_7 | G11: PIO3_4 | H11: PIO3_5 | I11: VSS | J11: VSS | K11: VSS | L11: VSS | M11: PIO8_27 | N11: PIO5_17 | O11: PIO5_20 | P11: PIO5_12 | Q11: PIO5_7 | R11: PIO7_22 | S11: PIO7_21 | Y11: =Y10+1 -> 9 | Z11: =(Y11-AA11+1)/18+1 -> 1 | AA11: =MOD(Y11,18)+1 -> 10 | AB11: =VLOOKUP(Z11,AH$2:AJ$19,2,FALSE)&AA11 -> A10 | AC11: {=INDEX(B$2:S$19,Z11,AA11)} -> PIO4_5 | AD11: =IF(LEFT(AC11,3)="PIO",IF(_xlfn.XLOOKUP(AC11,#REF!,#REF!)="x","OK",AC11&" not found"),"") -> #REF! | AH11: 9 | AI11: J | AJ11: 9
A12: L | B12: PIO0_14 | C12: PIO0_15 | D12: PIO0_13 | E12: PIO0_11 | F12: PIO0_12 | G12: PIO0_10 | H12: PIO0_9 | I12: VSS | J12: VSS | K12: VSS | L12: VSS | M12: PIO8_28 | N12: PIO5_19 | O12: VSS | P12: VSS | Q12: PIO7_18 | R12: PIO7_17 | S12: VDD2_0 | Y12: =Y11+1 -> 10 | Z12: =(Y12-AA12+1)/18+1 -> 1 | AA12: =MOD(Y12,18)+1 -> 11 | AB12: =VLOOKUP(Z12,AH$2:AJ$19,2,FALSE)&AA12 -> A11 | AC12: {=INDEX(B$2:S$19,Z12,AA12)} -> VSS | AD12: =IF(LEFT(AC12,3)="PIO",IF(_xlfn.XLOOKUP(AC12,#REF!,#REF!)="x","OK",AC12&" not found"),"") | AH12: 8 | AI12: H | AJ12: 8
A13: M | B13: VDDIO_0_2 | C13: PIO0_21 | D13: PIO0_22 | E13: VSS | F13: VSS | G13: PIO0_16 | H13: PIO0_18 | I13: PIO0_19 | J13: PIO0_20 | K13: PIO10_16 | L13: PIO10_15 | M13: PIO10_14 | N13: PIO5_14 | O13: PIO7_15 | P13: PIO7_16 | Q13: PIO8_7 | R13: PIO7_19 | S13: PIO7_20 | Y13: =Y12+1 -> 11 | Z13: =(Y13-AA13+1)/18+1 -> 1 | AA13: =MOD(Y13,18)+1 -> 12 | AB13: =VLOOKUP(Z13,AH$2:AJ$19,2,FALSE)&AA13 -> A12 | AC13: {=INDEX(B$2:S$19,Z13,AA13)} -> VDDIO_4 | AD13: =IF(LEFT(AC13,3)="PIO",IF(_xlfn.XLOOKUP(AC13,#REF!,#REF!)="x","OK",AC13&" not found"),"") | AH13: 7 | AI13: G | AJ13: 7
A14: N | B14: PIO1_8 | C14: PIO1_6 | D14: PIO1_7 | E14: PIO0_31 | F14: PIO1_0 | G14: PIO0_17 | H14: PMIC_MODE0 | I14: PMIC_IRQN | J14: PIO8_22 | K14: PIO10_17 | L14: PIO8_11 | M14: PIO8_10 | N14: PIO8_9 | O14: PIO7_23 | P14: VSS | Q14: PIO8_23 | R14: VDDIO_0_0 | S14: VDDIO_0_0 | Y14: =Y13+1 -> 12 | Z14: =(Y14-AA14+1)/18+1 -> 1 | AA14: =MOD(Y14,18)+1 -> 13 | AB14: =VLOOKUP(Z14,AH$2:AJ$19,2,FALSE)&AA14 -> A13 | AC14: {=INDEX(B$2:S$19,Z14,AA14)} -> VDD1V8 | AD14: =IF(LEFT(AC14,3)="PIO",IF(_xlfn.XLOOKUP(AC14,#REF!,#REF!)="x","OK",AC14&" not found"),"") | AH14: 6 | AI14: F | AJ14: 6
... A19: V | B19: VSS | C19: XTALIN32KHZ | D19: XTALOUT32KHZ | E19: VDD1V8_AO | F19: VSS | G19: VDD2_1 | H19: VDD1V8_DCDC | I19: LX_DCDC | J19: VSS_DCDC | K19: VDD1 | L19: PIO8_3 | M19: VSS | N19: PIO8_4 | O19: VDDIO_0_1 | P19: PIO10_13 | Q19: VDDA_1V8 | R19: VSSA_0 | S19: VSSA_0 | Y19: =Y18+1 -> 17 | Z19: =(Y19-AA19+1)/18+1 -> 1 | AA19: =MOD(Y19,18)+1 -> 18 | AB19: =VLOOKUP(Z19,AH$2:AJ$19,2,FALSE)&AA19 -> A18 | AC19: {=INDEX(B$2:S$19,Z19,AA19)} -> VSS | AD19: =IF(LEFT(AC19,3)="PIO",IF(_xlfn.XLOOKUP(AC19,#REF!,#REF!)="x","OK",AC19&" not found"),"") | AH19: 1 | AI19: A | AJ19: 1
Y20: =Y19+1 -> 18 | Z20: =(Y20-AA20+1)/18+1 -> 2 | AA20: =MOD(Y20,18)+1 -> 1 | AB20: =VLOOKUP(Z20,AH$2:AJ$19,2,FALSE)&AA20 -> B1 | AC20: {=INDEX(B$2:S$19,Z20,AA20)} -> MIPI_DSI_D1N | AD20: =IF(LEFT(AC20,3)="PIO",IF(_xlfn.XLOOKUP(AC20,#REF!,#REF!)="x","OK",AC20&" not found"),"")
Y21: =Y20+1 -> 19 | Z21: =(Y21-AA21+1)/18+1 -> 2 | AA21: =MOD(Y21,18)+1 -> 2 | AB21: =VLOOKUP(Z21,AH$2:AJ$19,2,FALSE)&AA21 -> B2 | AC21: {=INDEX(B$2:S$19,Z21,AA21)} -> MIPI_DSI_CLKP | AD21: =IF(LEFT(AC21,3)="PIO",IF(_xlfn.XLOOKUP(AC21,#REF!,#REF!)="x","OK",AC21&" not found"),"")
Y22: =Y21+1 -> 20 | Z22: =(Y22-AA22+1)/18+1 -> 2 | AA22: =MOD(Y22,18)+1 -> 3 | AB22: =VLOOKUP(Z22,AH$2:AJ$19,2,FALSE)&AA22 -> B3 | AC22: {=INDEX(B$2:S$19,Z22,AA22)} -> MIPI_DSI_CLKN | AD22: =IF(LEFT(AC22,3)="PIO",IF(_xlfn.XLOOKUP(AC22,#REF!,#REF!)="x","OK",AC22&" not found"),"")
Y23: =Y22+1 -> 21 | Z23: =(Y23-AA23+1)/18+1 -> 2 | AA23: =MOD(Y23,18)+1 -> 4 | AB23: =VLOOKUP(Z23,AH$2:AJ$19,2,FALSE)&AA23 -> B4 | AC23: {=INDEX(B$2:S$19,Z23,AA23)} -> MIPI_DSI_D0N | AD23: =IF(LEFT(AC23,3)="PIO",IF(_xlfn.XLOOKUP(AC23,#REF!,#REF!)="x","OK",AC23&" not found"),"")
Y24: =Y23+1 -> 22 | Z24: =(Y24-AA24+1)/18+1 -> 2 | AA24: =MOD(Y24,18)+1 -> 5 | AB24: =VLOOKUP(Z24,AH$2:AJ$19,2,FALSE)&AA24 -> B5 | AC24: {=INDEX(B$2:S$19,Z24,AA24)} -> VSS | AD24: =IF(LEFT(AC24,3)="PIO",IF(_xlfn.XLOOKUP(AC24,#REF!,#REF!)="x","OK",AC24&" not found"),"")
Y25: =Y24+1 -> 23 | Z25: =(Y25-AA25+1)/18+1 -> 2 | AA25: =MOD(Y25,18)+1 -> 6 | AB25: =VLOOKUP(Z25,AH$2:AJ$19,2,FALSE)&AA25 -> B6 | AC25: {=INDEX(B$2:S$19,Z25,AA25)} -> PIO7_0 | AD25: =IF(LEFT(AC25,3)="PIO",IF(_xlfn.XLOOKUP(AC25,#REF!,#REF!)="x","OK",AC25&" not found"),"") -> #REF!
Y26: =Y25+1 -> 24 | Z26: =(Y26-AA26+1)/18+1 -> 2 | AA26: =MOD(Y26,18)+1 -> 7 | AB26: =VLOOKUP(Z26,AH$2:AJ$19,2,FALSE)&AA26 -> B7 | AC26: {=INDEX(B$2:S$19,Z26,AA26)} -> PIO7_6 | AD26: =IF(LEFT(AC26,3)="PIO",IF(_xlfn.XLOOKUP(AC26,#REF!,#REF!)="x","OK",AC26&" not found"),"") -> #REF!
Y27: =Y26+1 -> 25 | Z27: =(Y27-AA27+1)/18+1 -> 2 | AA27: =MOD(Y27,18)+1 -> 8 | AB27: =VLOOKUP(Z27,AH$2:AJ$19,2,FALSE)&AA27 -> B8 | AC27: {=INDEX(B$2:S$19,Z27,AA27)} -> PIO7_7 | AD27: =IF(LEFT(AC27,3)="PIO",IF(_xlfn.XLOOKUP(AC27,#REF!,#REF!)="x","OK",AC27&" not found"),"") -> #REF!
Y28: =Y27+1 -> 26 | Z28: =(Y28-AA28+1)/18+1 -> 2 | AA28: =MOD(Y28,18)+1 -> 9 | AB28: =VLOOKUP(Z28,AH$2:AJ$19,2,FALSE)&AA28 -> B9 | AC28: {=INDEX(B$2:S$19,Z28,AA28)} -> VDDIO_4 | AD28: =IF(LEFT(AC28,3)="PIO",IF(_xlfn.XLOOKUP(AC28,#REF!,#REF!)="x","OK",AC28&" not found"),"")
Y29: =Y28+1 -> 27 | Z29: =(Y29-AA29+1)/18+1 -> 2 | AA29: =MOD(Y29,18)+1 -> 10 | AB29: =VLOOKUP(Z29,AH$2:AJ$19,2,FALSE)&AA29 -> B10 | AC29: {=INDEX(B$2:S$19,Z29,AA29)} -> PIO4_10 | AD29: =IF(LEFT(AC29,3)="PIO",IF(_xlfn.XLOOKUP(AC29,#REF!,#REF!)="x","OK",AC29&" not found"),"") -> #REF!
Y30: =Y29+1 -> 28 | Z30: =(Y30-AA30+1)/18+1 -> 2 | AA30: =MOD(Y30,18)+1 -> 11 | AB30: =VLOOKUP(Z30,AH$2:AJ$19,2,FALSE)&AA30 -> B11 | AC30: {=INDEX(B$2:S$19,Z30,AA30)} -> PIO4_11 | AD30: =IF(LEFT(AC30,3)="PIO",IF(_xlfn.XLOOKUP(AC30,#REF!,#REF!)="x","OK",AC30&" not found"),"") -> #REF!
Y31: =Y30+1 -> 29 | Z31: =(Y31-AA31+1)/18+1 -> 2 | AA31: =MOD(Y31,18)+1 -> 12 | AB31: =VLOOKUP(Z31,AH$2:AJ$19,2,FALSE)&AA31 -> B12 | AC31: {=INDEX(B$2:S$19,Z31,AA31)} -> PIO4_8 | AD31: =IF(LEFT(AC31,3)="PIO",IF(_xlfn.XLOOKUP(AC31,#REF!,#REF!)="x","OK",AC31&" not found"),"") -> #REF!
... Y325: =Y324+1 -> 323 | Z325: =(Y325-AA325+1)/18+1 -> 18 | AA325: =MOD(Y325,18)+1 -> 18 | AB325: =VLOOKUP(Z325,AH$2:AJ$19,2,FALSE)&AA325 -> V18 | AC325: {=INDEX(B$2:S$19,Z325,AA325)} -> VSSA_0 | AD325: =IF(LEFT(AC325,3)="PIO",IF(_xlfn.XLOOKUP(AC325,#REF!,#REF!)="x","OK",AC325&" not found"),"")

Sheet 361MAPBGA
B1: 1 | C1: 2 | D1: 3 | E1: 4 | F1: 5 | G1: 6 | H1: 7 | I1: 8 | J1: 9 | K1: 10 | L1: 11 | M1: 12 | N1: 13 | O1: 14 | P1: 15 | Q1: 16 | R1: 17 | S1: 18 | T1: 19 | U1: 20 | V1: 21 | W1: 22 | X1: 23 | Y1: 24 | Z1: 25
A2: A | B2: VSS | C2: PIO6_9 | E2: PIO6_6 | G2: EUSB_DP | I2: XTALINSYS | K2: PIO4_4 | M2: PIO4_5 | O2: PIO4_9 | Q2: PIO4_14 | S2: PIO4_17 | U2: PIO7_7 | W2: PIO7_6 | Y2: PIO7_10 | Z2: VSS
A3: B | B3: PIO6_0 | C3: PIO6_1 | D3: PIO6_4 | E3: PIO6_11 | G3: EUSB_DM | H3: VCC18A | I3: XTALOUTSYS | K3: PIO4_1 | L3: PIO4_3 | M3: PIO4_7 | O3: PIO4_11 | P3: PIO4_10 | Q3: PIO4_15 | S3: PIO4_19 | T3: PIO4_18 | U3: PIO7_1 | W3: PIO7_0 | X3: PIO7_9 | Y3: PIO7_4 | Z3: PIO7_5
A4: C | D4: USB0_VBUS_DETECT | E4: PIO6_10 | F4: VDD1V2_EUSB | G4: VSS_EUSB | I4: VSSA_1 | J4: VDD1V8_1 | K4: PIO4_2 | M4: PIO4_6 | N4: PIO4_8 | O4: PIO4_13 | Q4: PIO4_12 | R4: PIO4_16 | S4: PIO4_20 | U4: PIO7_2 | V4: PIO7_3 | W4: PIO7_8 | X4: VSS
A5: D | B5: USB0_DM | C5: USB0_DP | D5: VDD3V3_USB | E5: VSS | G5: VSS | I5: VSS | K5: VSS | M5: VSS | O5: VSS | Q5: PIO4_0 | S5: VSS | U5: VSS | W5: VSS | X5: VDD1V1_MIPI_CAP | Y5: MIPI_DSI_D0P | Z5: MIPI_DSI_D0N
A6: E | D6: PIO5_6 | G6: PIO6_7 | I6: PIO6_5 | K6: VSS | M6: VDDIO_4 | O6: VDDIO_4 | Q6: VDDIO | S6: PIO7_12 | U6: PIO3_3 | X6: MIPI_DSI_CLKP
A7: F | B7: PIO5_7 | C7: PIO5_2 | D7: PIO5_1 | E7: VSS | F7: PIO6_8 | G7: PIO6_3 | I7: VDD1V8_1 | K7: VSS | M7: VDDIO_4 | O7: VDDIO_4 | Q7: VDDIO | S7: PIO7_11 | U7: PIO3_2 | V7: VDD1V8_MIPI | W7: VSS | X7: MIPI_DSI_CLKN | Y7: MIPI_DSI_D1N | Z7: MIPI_DSI_D1P
A8: G | C8: PIO5_5 | I8: VSS | K8: VSS | M8: VSS | O8: VSS | Q8: VSS | S8: VSS | Y8: VDD1V8_MIPI
A9: H | B9: PIO5_9 | C9: PIO5_3 | D9: PIO5_8 | E9: VSS | F9: PIO6_12 | G9: PIO6_2 | H9: VSS | I9: VDDIO_6 | K9: VSS | M9: VSS | O9: VSS | Q9: VSS | S9: VSS | T9: VSS | U9: PIO3_1 | V9: PIO3_0 | W9: VSS | X9: PIO2_13 | Y9: PIO2_12 | Z9: PIO2_11
A10: J | D10: PIO5_4 | K10: VSS | M10: VDDN | O10: VDD2 | Q10: VSS | X10: PIO2_8
A11: K | B11: PIO5_11 | C11: PIO5_10 | D11: PIO5_12 | E11: PIO5_0 | F11: VDDIO_5 | G11: VDDIO_5 | H11: VSS | I11: VDDIO_6 | J11: VSS | K11: VSS | M11: VDDN | O11: VDD2 | Q11: VDD2 | R11: VSS | S11: VSS | T11: VSS | U11: VDDIO_2 | V11: PIO2_15 | W11: PIO2_14 | X11: PIO2_10 | Y11: PIO2_7 | Z11: PIO2_6
A12: L | C12: PIO5_14 | M12: VDDN | O12: VDD2 | Y12: PIO2_3
A13: M | B13: PIO5_15 | C13: PIO5_16 | D13: PIO5_13 | E13: VSS | F13: VDDIO_5 | G13: VDDIO | H13: VSS | I13: VSS | J13: VDD2 | K13: VSS | L13: VSS | M13: VDDN | O13: VDD2 | P13: VDD2 | Q13: VDD2 | R13: VSS | S13: VSS | T13: VSS | U13: VDDIO_2 | V13: VDDIO_2 | W13: VSS | X13: PIO2_1 | Y13: PIO2_4 | Z13: PIO2_9
A14: N | D14: PIO5_19 | N14: VDD2 | X14: PIO2_5
A15: P | B15: PIO5_17 | C15: PIO5_18 | D15: PIO5_20 | E15: VSS | F15: PIO7_23 | G15: VDDIO | H15: VSS | I15: VSS | J15: VDD2 | K15: VDD1 | L15: VDD1 | M15: VDD1 | O15: VDD2 | P15: VDD2 | Q15: VDD2 | R15: VSS | S15: VSS | T15: VSS | U15: PIO0_7 | V15: PIO0_6 | W15: VSS | X15: PIO2_2 | Y15: PIO0_1 | Z15: PIO2_0
A16: R | C16: PIO7_21 | M16: VDD1 | O16: VDD2 | Y16: PIO0_0
A17: T | B17: PIO7_16 | C17: PIO7_22 | D17: PIO7_18 | E17: PIO7_25 | F17: PIO8_9 | G17: PIO8_10 | H17: VSS | I17: VSS | J17: VDDIO | K17: VDDIO | M17: VDDN | O17: VDDN | Q17: VDD1 | R17: VDD1 | S17: VDD1 | T17: VSS | U17: VDDIO | V17: VDDIO | W17: VSS | X17: PIO0_5 | Y17: PIO0_2 | Z17: PIO0_3
A18: U | D18: PIO7_17 | K18: VDDIO | M18: VDDIO | O18: VDDN | Q18: VDD1 | X18: PIO0_12
A19: V | B19: PIO7_15 | C19: PIO7_14 | D19: PIO7_19 | E19: VSS | F19: PIO8_25 | G19: PIO8_26 | H19: VSS | I19: VSSA_0 | K19: VDDIO | M19: VDDIO | O19: VDDN | Q19: VDD1V8_0 | S19: VDD1V8_0 | T19: VSS | U19: VDDIO | V19: PIO0_31 | W19: VSS | X19: PIO0_10 | Y19: PIO0_14 | Z19: PIO0_4
A20: W | C20: PIO7_13 | I20: VSS | K20: VSS | M20: VSS | O20: VSS | Q20: VSS | S20: VSS | Y20: PIO0_11
A21: Y | B21: PIO8_7 | C21: PIO7_20 | D21: PIO8_23 | E21: VSS | F21: PIO10_9 | G21: PIO10_8 | I21: VDDIO | K21: PIO8_12 | M21: PIO8_15 | O21: PMIC_I2C_SDA | Q21: VDDN | S21: VDDIO_AO | U21: PIO1_6 | V21: PIO1_15 | W21: VSS | X21: PIO0_22 | Y21: PIO0_20 | Z21: PIO0_13
A22: AA | D22: PIO8_24 | G22: VREF_LDO | I22: PIO8_6 | K22: PIO8_8 | M22: PIO8_22 | O22: PMIC_I2C_SCL | Q22: VDDN | S22: VDD1V8_AO | U22: PIO1_8 | X22: PIO1_16
A23: AB | B23: PIO8_30 | C23: PIO8_31 | D23: PIO10_3 | E23: VSS | G23: VSSA_0 | I23: VSS | K23: PIO8_0 | M23: VSS | O23: VSS | Q23: VSS | S23: VSS | U23: VSS | W23: VSS | X23: PIO1_7 | Y23: PIO0_19 | Z23: PIO0_21
A24: AC | D24: PIO10_2 | E24: VREFL_ANA | F24: VREFH_ANA18 | G24: VDDA_1V8 | I24: PIO8_11 | J24: PIO8_18 | K24: PIO8_1 | M24: PIO8_20 | N24: PIO8_17 | O24: PIO8_16 | Q24: VDD1V8_DCDC | R24: VSS | S24: VDD1V8_0 | U24: PMIC_MODE1 | V24: PIO1_10 | W24: PIO1_9 | X24: PIO1_17
A25: AD | B25: PIO10_1 | C25: PIO10_4 | D25: PIO10_5 | E25: PIO10_7 | G25: PIO10_12 | H25: PIO8_4 | I25: PIO8_5 | K25: PIO8_2 | L25: PIO8_3 | M25: PIO8_21 | O25: VSS_DCDC | P25: LX_DCDC | Q25: VDD1V8_DCDC | S25: XTALIN32KHZ | T25: RESETN | U25: PMIC_MODE0 | W25: PIO1_11 | X25: PIO1_13 | Y25: PIO1_18 | Z25: PIO1_0
A26: AE | B26: VSS | C26: PIO10_0 | E26: PIO10_6 | G26: PIO10_13 | I26: PIO8_13 | K26: PIO8_19 | M26: PIO8_14 | O26: VSS_DCDC | Q26: LX_DCDC | S26: XTALOUT32KHZ | U26: PMIC_IRQN | W26: PIO1_12 | Y26: PIO1_14 | Z26: VSS
